BEGIN:VCALENDAR
VERSION:2.0
PRODID:-//AIA Honolulu - ECPv6.15.20//NONSGML v1.0//EN
CALSCALE:GREGORIAN
METHOD:PUBLISH
X-ORIGINAL-URL:https://www.aiahonolulu.org
X-WR-CALDESC:Events for AIA Honolulu
REFRESH-INTERVAL;VALUE=DURATION:PT1H
X-Robots-Tag:noindex
X-PUBLISHED-TTL:PT1H
BEGIN:VTIMEZONE
TZID:Pacific/Honolulu
BEGIN:STANDARD
TZOFFSETFROM:-1000
TZOFFSETTO:-1000
TZNAME:HST
DTSTART:20250101T000000
END:STANDARD
END:VTIMEZONE
BEGIN:VEVENT
DTSTART;TZID=Pacific/Honolulu:20261104T160000
DTEND;TZID=Pacific/Honolulu:20261104T170000
DTSTAMP:20260421T033454
CREATED:20250401T235546Z
LAST-MODIFIED:20250401T235944Z
UID:10000951-1793808000-1793811600@www.aiahonolulu.org
SUMMARY:AIA / GCA / ACECH Committee Meeting
DESCRIPTION:
URL:https://www.aiahonolulu.org/event/aia-gca-acech-committee-meeting-3/2026-11-04/
LOCATION:AIA Honolulu Center for Architecture\, 828 Fort Street Mall\, Suite 100\, Honolulu\, HI\, 96813\, United States
CATEGORIES:Committee Meetings
GEO:21.3087965;-157.863266
X-APPLE-STRUCTURED-LOCATION;VALUE=URI;X-ADDRESS=AIA Honolulu Center for Architecture 828 Fort Street Mall Suite 100 Honolulu HI 96813 United States;X-APPLE-RADIUS=500;X-TITLE=828 Fort Street Mall\, Suite 100:geo:-157.863266,21.3087965
END:VEVENT
BEGIN:VEVENT
DTSTART;TZID=Pacific/Honolulu:20261106T120000
DTEND;TZID=Pacific/Honolulu:20261106T130000
DTSTAMP:20260421T033454
CREATED:20251230T191722Z
LAST-MODIFIED:20251230T202726Z
UID:10001193-1793966400-1793970000@www.aiahonolulu.org
SUMMARY:Executive Committee Meeting
DESCRIPTION:
URL:https://www.aiahonolulu.org/event/excom-11626/
LOCATION:AIA Honolulu Center for Architecture\, 828 Fort Street Mall\, Suite 100\, Honolulu\, HI\, 96813\, United States
CATEGORIES:Committee Meetings
GEO:21.3087965;-157.863266
X-APPLE-STRUCTURED-LOCATION;VALUE=URI;X-ADDRESS=AIA Honolulu Center for Architecture 828 Fort Street Mall Suite 100 Honolulu HI 96813 United States;X-APPLE-RADIUS=500;X-TITLE=828 Fort Street Mall\, Suite 100:geo:-157.863266,21.3087965
END:VEVENT
BEGIN:VEVENT
DTSTART;TZID=Pacific/Honolulu:20261112T120000
DTEND;TZID=Pacific/Honolulu:20261112T130000
DTSTAMP:20260421T033454
CREATED:20250709T210157Z
LAST-MODIFIED:20251230T203141Z
UID:10001225-1794484800-1794488400@www.aiahonolulu.org
SUMMARY:EDI Meeting
DESCRIPTION:
URL:https://www.aiahonolulu.org/event/edi-meeting-3/2026-11-12/
LOCATION:Virtual (Zoom)
CATEGORIES:Committee Meetings
END:VEVENT
END:VCALENDAR