BEGIN:VCALENDAR
VERSION:2.0
PRODID:-//AIA Honolulu - ECPv6.15.20//NONSGML v1.0//EN
CALSCALE:GREGORIAN
METHOD:PUBLISH
X-WR-CALNAME:AIA Honolulu
X-ORIGINAL-URL:https://www.aiahonolulu.org
X-WR-CALDESC:Events for AIA Honolulu
REFRESH-INTERVAL;VALUE=DURATION:PT1H
X-Robots-Tag:noindex
X-PUBLISHED-TTL:PT1H
BEGIN:VTIMEZONE
TZID:Pacific/Honolulu
BEGIN:STANDARD
TZOFFSETFROM:-1000
TZOFFSETTO:-1000
TZNAME:HST
DTSTART:20250101T000000
END:STANDARD
END:VTIMEZONE
BEGIN:VEVENT
DTSTART;TZID=Pacific/Honolulu:20260611T120000
DTEND;TZID=Pacific/Honolulu:20260611T130000
DTSTAMP:20260420T193358
CREATED:20250709T210157Z
LAST-MODIFIED:20251230T203141Z
UID:10001220-1781179200-1781182800@www.aiahonolulu.org
SUMMARY:EDI Meeting
DESCRIPTION:
URL:https://www.aiahonolulu.org/event/edi-meeting-3/2026-06-11/
LOCATION:Virtual (Zoom)
CATEGORIES:Committee Meetings
END:VEVENT
END:VCALENDAR