BEGIN:VCALENDAR
VERSION:2.0
PRODID:-//AIA Honolulu - ECPv6.15.20//NONSGML v1.0//EN
CALSCALE:GREGORIAN
METHOD:PUBLISH
X-ORIGINAL-URL:https://www.aiahonolulu.org
X-WR-CALDESC:Events for AIA Honolulu
REFRESH-INTERVAL;VALUE=DURATION:PT1H
X-Robots-Tag:noindex
X-PUBLISHED-TTL:PT1H
BEGIN:VTIMEZONE
TZID:Pacific/Honolulu
BEGIN:STANDARD
TZOFFSETFROM:-1000
TZOFFSETTO:-1000
TZNAME:HST
DTSTART:20250101T000000
END:STANDARD
END:VTIMEZONE
BEGIN:VEVENT
DTSTART;TZID=Pacific/Honolulu:20260708T113000
DTEND;TZID=Pacific/Honolulu:20260708T130000
DTSTAMP:20260421T002147
CREATED:20251230T201936Z
LAST-MODIFIED:20251230T201936Z
UID:10001213-1783510200-1783515600@www.aiahonolulu.org
SUMMARY:AIA HSC Executive Committee Meeting
DESCRIPTION:
URL:https://www.aiahonolulu.org/event/hscexcom-7826/
LOCATION:AIA Honolulu Center for Architecture\, 828 Fort Street Mall\, Suite 100\, Honolulu\, HI\, 96813\, United States
CATEGORIES:Committee Meetings
GEO:21.3087965;-157.863266
X-APPLE-STRUCTURED-LOCATION;VALUE=URI;X-ADDRESS=AIA Honolulu Center for Architecture 828 Fort Street Mall Suite 100 Honolulu HI 96813 United States;X-APPLE-RADIUS=500;X-TITLE=828 Fort Street Mall\, Suite 100:geo:-157.863266,21.3087965
END:VEVENT
BEGIN:VEVENT
DTSTART;TZID=Pacific/Honolulu:20260709T120000
DTEND;TZID=Pacific/Honolulu:20260709T130000
DTSTAMP:20260421T002147
CREATED:20250709T210157Z
LAST-MODIFIED:20251230T203141Z
UID:10001221-1783598400-1783602000@www.aiahonolulu.org
SUMMARY:EDI Meeting
DESCRIPTION:
URL:https://www.aiahonolulu.org/event/edi-meeting-3/2026-07-09/
LOCATION:Virtual (Zoom)
CATEGORIES:Committee Meetings
END:VEVENT
BEGIN:VEVENT
DTSTART;TZID=Pacific/Honolulu:20260710T120000
DTEND;TZID=Pacific/Honolulu:20260710T130000
DTSTAMP:20260421T002147
CREATED:20251230T185708Z
LAST-MODIFIED:20251230T202622Z
UID:10001189-1783684800-1783688400@www.aiahonolulu.org
SUMMARY:Executive Committee Meeting
DESCRIPTION:
URL:https://www.aiahonolulu.org/event/excom-71026/
LOCATION:AIA Honolulu Center for Architecture\, 828 Fort Street Mall\, Suite 100\, Honolulu\, HI\, 96813\, United States
CATEGORIES:Committee Meetings
GEO:21.3087965;-157.863266
X-APPLE-STRUCTURED-LOCATION;VALUE=URI;X-ADDRESS=AIA Honolulu Center for Architecture 828 Fort Street Mall Suite 100 Honolulu HI 96813 United States;X-APPLE-RADIUS=500;X-TITLE=828 Fort Street Mall\, Suite 100:geo:-157.863266,21.3087965
END:VEVENT
END:VCALENDAR