BEGIN:VCALENDAR
VERSION:2.0
PRODID:-//AIA Honolulu - ECPv6.15.20//NONSGML v1.0//EN
CALSCALE:GREGORIAN
METHOD:PUBLISH
X-ORIGINAL-URL:https://www.aiahonolulu.org
X-WR-CALDESC:Events for AIA Honolulu
REFRESH-INTERVAL;VALUE=DURATION:PT1H
X-Robots-Tag:noindex
X-PUBLISHED-TTL:PT1H
BEGIN:VTIMEZONE
TZID:Pacific/Honolulu
BEGIN:STANDARD
TZOFFSETFROM:-1000
TZOFFSETTO:-1000
TZNAME:HST
DTSTART:20250101T000000
END:STANDARD
END:VTIMEZONE
BEGIN:VEVENT
DTSTART;TZID=Pacific/Honolulu:20260731T080000
DTEND;TZID=Pacific/Honolulu:20260731T170000
DTSTAMP:20260421T032531
CREATED:20250114T002032Z
LAST-MODIFIED:20260115T234717Z
UID:10000812-1785484800-1785517200@www.aiahonolulu.org
SUMMARY:CANstruction: Banner Text Due
DESCRIPTION:
URL:https://www.aiahonolulu.org/event/canstruction-banner-text-due/
LOCATION:HI
CATEGORIES:Committee Meetings
END:VEVENT
END:VCALENDAR