BEGIN:VCALENDAR
VERSION:2.0
PRODID:-//AIA Honolulu - ECPv6.15.20//NONSGML v1.0//EN
CALSCALE:GREGORIAN
METHOD:PUBLISH
X-ORIGINAL-URL:https://www.aiahonolulu.org
X-WR-CALDESC:Events for AIA Honolulu
REFRESH-INTERVAL;VALUE=DURATION:PT1H
X-Robots-Tag:noindex
X-PUBLISHED-TTL:PT1H
BEGIN:VTIMEZONE
TZID:Pacific/Honolulu
BEGIN:STANDARD
TZOFFSETFROM:-1000
TZOFFSETTO:-1000
TZNAME:HST
DTSTART:20250101T000000
END:STANDARD
END:VTIMEZONE
BEGIN:VEVENT
DTSTART;TZID=Pacific/Honolulu:20261007T160000
DTEND;TZID=Pacific/Honolulu:20261007T170000
DTSTAMP:20260421T045025
CREATED:20250401T235546Z
LAST-MODIFIED:20250401T235944Z
UID:10000950-1791388800-1791392400@www.aiahonolulu.org
SUMMARY:AIA / GCA / ACECH Committee Meeting
DESCRIPTION:
URL:https://www.aiahonolulu.org/event/aia-gca-acech-committee-meeting-3/2026-10-07/
LOCATION:AIA Honolulu Center for Architecture\, 828 Fort Street Mall\, Suite 100\, Honolulu\, HI\, 96813\, United States
CATEGORIES:Committee Meetings
GEO:21.3087965;-157.863266
X-APPLE-STRUCTURED-LOCATION;VALUE=URI;X-ADDRESS=AIA Honolulu Center for Architecture 828 Fort Street Mall Suite 100 Honolulu HI 96813 United States;X-APPLE-RADIUS=500;X-TITLE=828 Fort Street Mall\, Suite 100:geo:-157.863266,21.3087965
END:VEVENT
BEGIN:VEVENT
DTSTART;TZID=Pacific/Honolulu:20261008T120000
DTEND;TZID=Pacific/Honolulu:20261008T130000
DTSTAMP:20260421T045025
CREATED:20250709T210157Z
LAST-MODIFIED:20251230T203141Z
UID:10001224-1791460800-1791464400@www.aiahonolulu.org
SUMMARY:EDI Meeting
DESCRIPTION:
URL:https://www.aiahonolulu.org/event/edi-meeting-3/2026-10-08/
LOCATION:Virtual (Zoom)
CATEGORIES:Committee Meetings
END:VEVENT
END:VCALENDAR