BEGIN:VCALENDAR
VERSION:2.0
PRODID:-//AIA Honolulu - ECPv6.15.20//NONSGML v1.0//EN
CALSCALE:GREGORIAN
METHOD:PUBLISH
X-WR-CALNAME:AIA Honolulu
X-ORIGINAL-URL:https://www.aiahonolulu.org
X-WR-CALDESC:Events for AIA Honolulu
REFRESH-INTERVAL;VALUE=DURATION:PT1H
X-Robots-Tag:noindex
X-PUBLISHED-TTL:PT1H
BEGIN:VTIMEZONE
TZID:Pacific/Honolulu
BEGIN:STANDARD
TZOFFSETFROM:-1000
TZOFFSETTO:-1000
TZNAME:HST
DTSTART:20240101T000000
END:STANDARD
END:VTIMEZONE
BEGIN:VEVENT
DTSTART;TZID=Pacific/Honolulu:20250311T103000
DTEND;TZID=Pacific/Honolulu:20250311T130000
DTSTAMP:20260421T093937
CREATED:20250226T221551Z
LAST-MODIFIED:20250303T231218Z
UID:10000900-1741689000-1741698000@www.aiahonolulu.org
SUMMARY:MArch Capstone Mid-Term Review at AIA
DESCRIPTION:
URL:https://www.aiahonolulu.org/event/march/
LOCATION:AIA Honolulu Center for Architecture\, 828 Fort Street Mall\, Suite 100\, Honolulu\, HI\, 96813\, United States
CATEGORIES:Community Events
ORGANIZER;CN="AIA Honolulu":MAILTO:contact@aiahonolulu.org
GEO:21.3087965;-157.863266
X-APPLE-STRUCTURED-LOCATION;VALUE=URI;X-ADDRESS=AIA Honolulu Center for Architecture 828 Fort Street Mall Suite 100 Honolulu HI 96813 United States;X-APPLE-RADIUS=500;X-TITLE=828 Fort Street Mall\, Suite 100:geo:-157.863266,21.3087965
END:VEVENT
END:VCALENDAR