BEGIN:VCALENDAR
VERSION:2.0
PRODID:-//AIA Honolulu - ECPv6.15.20//NONSGML v1.0//EN
CALSCALE:GREGORIAN
METHOD:PUBLISH
X-WR-CALNAME:AIA Honolulu
X-ORIGINAL-URL:https://www.aiahonolulu.org
X-WR-CALDESC:Events for AIA Honolulu
REFRESH-INTERVAL;VALUE=DURATION:PT1H
X-Robots-Tag:noindex
X-PUBLISHED-TTL:PT1H
BEGIN:VTIMEZONE
TZID:Pacific/Honolulu
BEGIN:STANDARD
TZOFFSETFROM:-1000
TZOFFSETTO:-1000
TZNAME:HST
DTSTART:20240101T000000
END:STANDARD
END:VTIMEZONE
BEGIN:VEVENT
DTSTART;TZID=Pacific/Honolulu:20250412T130000
DTEND;TZID=Pacific/Honolulu:20250412T170000
DTSTAMP:20260421T072936
CREATED:20250122T000539Z
LAST-MODIFIED:20250122T013128Z
UID:10000820-1744462800-1744477200@www.aiahonolulu.org
SUMMARY:"Lil" Designers Workshop
DESCRIPTION:The Little Design Workshop: A Collaboration between Liljestrand Foundation and AIA\nJoin Liljestrand Foundations Little Design Workshop! This event is an opportunity for ages 12-16 to learn about residential architecture and participate in a workshop at the Vladimir Ossipoff- designed Liljestrand House. \n*Stay tuned as we roll out more information
URL:https://www.aiahonolulu.org/event/lil-designers-workshop/
LOCATION:Liljestrand House\, Tantalus Drive\, Honolulu\, HI\, 96813\, United States
CATEGORIES:Community Events
ORGANIZER;CN="AIA Honolulu":MAILTO:contact@aiahonolulu.org
GEO:21.324258;-157.8312666
X-APPLE-STRUCTURED-LOCATION;VALUE=URI;X-ADDRESS=Liljestrand House Tantalus Drive Honolulu HI 96813 United States;X-APPLE-RADIUS=500;X-TITLE=Tantalus Drive:geo:-157.8312666,21.324258
END:VEVENT
BEGIN:VEVENT
DTSTART;TZID=Pacific/Honolulu:20250417T090000
DTEND;TZID=Pacific/Honolulu:20250417T120000
DTSTAMP:20260421T072936
CREATED:20250208T013704Z
LAST-MODIFIED:20250208T013704Z
UID:10000833-1744880400-1744891200@www.aiahonolulu.org
SUMMARY:Celebrating Architecture Week - High School Outreach with UHSoA
DESCRIPTION:
URL:https://www.aiahonolulu.org/event/celebrating-architecture-week-high-school-outreach-with-uhsoa/
LOCATION:University of Hawaii at Manoa School of Architecture\, 1899 University Ave\, Honolulu\, HI\, 96822\, United States
CATEGORIES:Community Events
ORGANIZER;CN="AIA Honolulu":MAILTO:contact@aiahonolulu.org
GEO:21.2997624;-157.8206567
X-APPLE-STRUCTURED-LOCATION;VALUE=URI;X-ADDRESS=University of Hawaii at Manoa School of Architecture 1899 University Ave Honolulu HI 96822 United States;X-APPLE-RADIUS=500;X-TITLE=1899 University Ave:geo:-157.8206567,21.2997624
END:VEVENT
END:VCALENDAR