BEGIN:VCALENDAR
VERSION:2.0
PRODID:-//AIA Honolulu - ECPv6.15.20//NONSGML v1.0//EN
CALSCALE:GREGORIAN
METHOD:PUBLISH
X-WR-CALNAME:AIA Honolulu
X-ORIGINAL-URL:https://www.aiahonolulu.org
X-WR-CALDESC:Events for AIA Honolulu
REFRESH-INTERVAL;VALUE=DURATION:PT1H
X-Robots-Tag:noindex
X-PUBLISHED-TTL:PT1H
BEGIN:VTIMEZONE
TZID:Pacific/Honolulu
BEGIN:STANDARD
TZOFFSETFROM:-1000
TZOFFSETTO:-1000
TZNAME:HST
DTSTART:20240101T000000
END:STANDARD
END:VTIMEZONE
BEGIN:VEVENT
DTSTART;TZID=Pacific/Honolulu:20250514T170000
DTEND;TZID=Pacific/Honolulu:20250514T190000
DTSTAMP:20260421T055005
CREATED:20250502T013226Z
LAST-MODIFIED:20250502T020510Z
UID:10001003-1747242000-1747249200@www.aiahonolulu.org
SUMMARY:MArch Showcase
DESCRIPTION:Join us for an inspiring evening showcasing the final projects of the Master of Architecture students at the University of Hawai’i at Mānoa. From 5:00 to 7:00 PM\, witness the culmination of rigorous research and innovative design as graduating students present their capstone projects. \nThese works reflect a deep engagement with architectural theory and practice\, emphasizing the unique Hawaiian sense of place\, sustainability\, and interdisciplinary approaches. The event offers a glimpse into the future of architecture\, highlighting projects that address critical issues in the built environment both locally and globally. \nDon’t miss this opportunity to experience groundbreaking architectural ideas and celebrate the achievements of the next generation of design leaders.
URL:https://www.aiahonolulu.org/event/march-showcase/
LOCATION:AIA Honolulu Center for Architecture\, 828 Fort Street Mall\, Suite 100\, Honolulu\, HI\, 96813\, United States
CATEGORIES:Community Events
GEO:21.3087965;-157.863266
X-APPLE-STRUCTURED-LOCATION;VALUE=URI;X-ADDRESS=AIA Honolulu Center for Architecture 828 Fort Street Mall Suite 100 Honolulu HI 96813 United States;X-APPLE-RADIUS=500;X-TITLE=828 Fort Street Mall\, Suite 100:geo:-157.863266,21.3087965
END:VEVENT
END:VCALENDAR