BEGIN:VCALENDAR
VERSION:2.0
PRODID:-//AIA Honolulu - ECPv6.15.20//NONSGML v1.0//EN
CALSCALE:GREGORIAN
METHOD:PUBLISH
X-ORIGINAL-URL:https://www.aiahonolulu.org
X-WR-CALDESC:Events for AIA Honolulu
REFRESH-INTERVAL;VALUE=DURATION:PT1H
X-Robots-Tag:noindex
X-PUBLISHED-TTL:PT1H
BEGIN:VTIMEZONE
TZID:Pacific/Honolulu
BEGIN:STANDARD
TZOFFSETFROM:-1000
TZOFFSETTO:-1000
TZNAME:HST
DTSTART:20240101T000000
END:STANDARD
END:VTIMEZONE
BEGIN:VEVENT
DTSTART;TZID=Pacific/Honolulu:20250711T180000
DTEND;TZID=Pacific/Honolulu:20250711T190000
DTSTAMP:20260421T025608
CREATED:20250625T025011Z
LAST-MODIFIED:20250703T015808Z
UID:10001021-1752256800-1752260400@www.aiahonolulu.org
SUMMARY:Micro Expression Exhibition of Photography Opening Reception
DESCRIPTION:Join us for an evening celebrating the opening of a striking new photography exhibit by Nihm Do Soo\, the artistic pseudonym of our friend and colleague\, Professor David Rockwood.\nThis special reception marks the public debut of his new body of work and creative identity. Through the lens of Nihm Do Soo\, familiar landscapes and moments are transformed into poetic reflections on time\, place\, and perception.\nFriday\, July 116pm – 7:30pmCenter for Architecture\, 828 Fort Street Mall\, Suite 100\nLight refreshments will be served.We hope you can join us for this meaningful unveiling and conversation with the artist!\n				\n	Artist’s Statement:\nThis exhibition gathers 30 photographs – 15 from Da Nang\, Vietnam\, and 15 from Honolulu – two cities I’ve called home.  These images search for something beneath the surface: the quiet gestures and fleeting encounters that shape a place more deeply than maps or master plans. Churchill once said\, “We shape our buildings; thereafter\, they shape us.” \nBut perhaps the shaping begins even earlier. Cities don’t arise only from blueprints or grids – they emerge from accumulated emotions\, daily movements\, and shared dreams. \n	What if we saw the city not as something built from the top down\, but carved from the inside out\, like a tunnel through solid space? Ants\, moles\, and we ourselves mark our territory with repetition and need. \nAs an architect and urbanist\, I was trained to look from above – to impose order\, analyze form\, map density. But the life of a city pulses at ground level\, in the smallest acts: a glance\, a step\, a pause in the shade. These are the micro expressions I try to see with the camera – part observation\, part reflection\, part offering. \nDa Nang and Honolulu each speak with their own accent\, shaped by history\, climate\, and culture. Yet both reveal\, in their fragments\, something universal. These images are incomplete\, of course – no city can be captured whole. But perhaps\, in their quiet details\, they hint at how we shape place – and how it shapes us in return.
URL:https://www.aiahonolulu.org/event/da-nang-exhibit/
CATEGORIES:Community Events
END:VEVENT
END:VCALENDAR