BEGIN:VCALENDAR
VERSION:2.0
PRODID:-//AIA Honolulu - ECPv6.15.20//NONSGML v1.0//EN
CALSCALE:GREGORIAN
METHOD:PUBLISH
X-WR-CALNAME:AIA Honolulu
X-ORIGINAL-URL:https://www.aiahonolulu.org
X-WR-CALDESC:Events for AIA Honolulu
REFRESH-INTERVAL;VALUE=DURATION:PT1H
X-Robots-Tag:noindex
X-PUBLISHED-TTL:PT1H
BEGIN:VTIMEZONE
TZID:Pacific/Honolulu
BEGIN:STANDARD
TZOFFSETFROM:-1000
TZOFFSETTO:-1000
TZNAME:HST
DTSTART:20250101T000000
END:STANDARD
END:VTIMEZONE
BEGIN:VEVENT
DTSTART;TZID=Pacific/Honolulu:20261024T080000
DTEND;TZID=Pacific/Honolulu:20261024T110000
DTSTAMP:20260419T104725
CREATED:20260312T001123Z
LAST-MODIFIED:20260312T002021Z
UID:10001292-1792828800-1792839600@www.aiahonolulu.org
SUMMARY:Architecture Month: Downtown Honolulu Walking Tour
DESCRIPTION:CANCELED! Honouliuli Talk\n\nTopic: Preserving Honouliuli: A Conversation with National Park Superintendent Christine Ogura \n\n\n\n			\n	\n	\n				\n					\n	\n\n\n			\n	\n	Join us for a lunchtime talk with Christine Ogura\, Superintendent of Honouliuli National Historic Site. \nLearn about the ongoing preservation work at the site — including aqueduct stabilization\, foundation repairs\, and historic resource planning — and hear how design professionals can support this important work. \n\n\n\n	\n\n\n			\n	\n	This is a unique opportunity to engage with the story of Honouliuli through the lens of preservation\, landscape\, and community stewardship. \nAIA/CES LUs: Qualifies for 1.5 AIA/CES LUs (HSW). \nCost: Free \nRSVP: NOW CANCELED \n\n\n\n	\n\n\n	\n		\n	\n\n\n	\n								\n		\n\n			\n	\n\n			\n	\n	Kauhale Sponsors\n\n\n\n	\n\n\n			\n	\n	\n				\n				\n				\n					\n	\n\n\n			\n	\n	\n				\n				\n				\n					\n	\n\n\n	\n\n\n	\n\n\n			\n	\n	\n\n\n			Mamalu Sponsors	\n\n\n			\n	\n	\n				\n				\n				\n					\n	\n\n\n			\n	\n	\n				\n				\n				\n					\n	\n\n\n			\n	\n	\n				\n				\n				\n					\n	\n\n\n	\n\n\n			\n	\n	\n				\n				\n				\n					\n	\n\n\n			\n	\n	\n				\n				\n				\n					\n	\n\n\n			\n	\n	\n				\n				\n				\n					\n	\n\n\n	\n\n\n			\n	\n	\n				\n				\n				\n					\n	\n\n\n			\n	\n	\n				\n				\n				\n					\n	\n\n\n			\n	\n	\n				\n				\n				\n					\n	\n\n\n	\n\n\n	\n\n\n			\n	\n	\n\n\n\n	\n\n\n			\n	\n			Kahua Sponsors
URL:https://www.aiahonolulu.org/event/arch-month-walking-tour-26/
LOCATION:Downtown Honolulu\, Honolulu\, United States
CATEGORIES:Community Events
ORGANIZER;CN="AIA Honolulu":MAILTO:contact@aiahonolulu.org
GEO:21.3098845;-157.8581401
END:VEVENT
BEGIN:VEVENT
DTSTART;TZID=Pacific/Honolulu:20261027T120000
DTEND;TZID=Pacific/Honolulu:20261027T130000
DTSTAMP:20260419T104726
CREATED:20260311T211546Z
LAST-MODIFIED:20260311T211546Z
UID:10001281-1793102400-1793106000@www.aiahonolulu.org
SUMMARY:Small Firm Exchange: Bookkeeping & Financial Literacy
DESCRIPTION:CANCELED! Honouliuli Talk\n\nTopic: Preserving Honouliuli: A Conversation with National Park Superintendent Christine Ogura \n\n\n\n			\n	\n	\n				\n					\n	\n\n\n			\n	\n	Join us for a lunchtime talk with Christine Ogura\, Superintendent of Honouliuli National Historic Site. \nLearn about the ongoing preservation work at the site — including aqueduct stabilization\, foundation repairs\, and historic resource planning — and hear how design professionals can support this important work. \n\n\n\n	\n\n\n			\n	\n	This is a unique opportunity to engage with the story of Honouliuli through the lens of preservation\, landscape\, and community stewardship. \nAIA/CES LUs: Qualifies for 1.5 AIA/CES LUs (HSW). \nCost: Free \nRSVP: NOW CANCELED \n\n\n\n	\n\n\n	\n		\n	\n\n\n	\n								\n		\n\n			\n	\n\n			\n	\n	Kauhale Sponsors\n\n\n\n	\n\n\n			\n	\n	\n				\n				\n				\n					\n	\n\n\n			\n	\n	\n				\n				\n				\n					\n	\n\n\n	\n\n\n	\n\n\n			\n	\n	\n\n\n			Mamalu Sponsors	\n\n\n			\n	\n	\n				\n				\n				\n					\n	\n\n\n			\n	\n	\n				\n				\n				\n					\n	\n\n\n			\n	\n	\n				\n				\n				\n					\n	\n\n\n	\n\n\n			\n	\n	\n				\n				\n				\n					\n	\n\n\n			\n	\n	\n				\n				\n				\n					\n	\n\n\n			\n	\n	\n				\n				\n				\n					\n	\n\n\n	\n\n\n			\n	\n	\n				\n				\n				\n					\n	\n\n\n			\n	\n	\n				\n				\n				\n					\n	\n\n\n			\n	\n	\n				\n				\n				\n					\n	\n\n\n	\n\n\n	\n\n\n			\n	\n	\n\n\n\n	\n\n\n			\n	\n			Kahua Sponsors
URL:https://www.aiahonolulu.org/event/small-firm-exchange-10-27-26/
LOCATION:Virtual (Zoom)
CATEGORIES:Community Events
END:VEVENT
BEGIN:VEVENT
DTSTART;TZID=Pacific/Honolulu:20261124T120000
DTEND;TZID=Pacific/Honolulu:20261124T130000
DTSTAMP:20260419T104726
CREATED:20260311T212435Z
LAST-MODIFIED:20260311T212435Z
UID:10001282-1795521600-1795525200@www.aiahonolulu.org
SUMMARY:Small Firm Exchange: Working with Contractors
DESCRIPTION:CANCELED! Honouliuli Talk\n\nTopic: Preserving Honouliuli: A Conversation with National Park Superintendent Christine Ogura \n\n\n\n			\n	\n	\n				\n					\n	\n\n\n			\n	\n	Join us for a lunchtime talk with Christine Ogura\, Superintendent of Honouliuli National Historic Site. \nLearn about the ongoing preservation work at the site — including aqueduct stabilization\, foundation repairs\, and historic resource planning — and hear how design professionals can support this important work. \n\n\n\n	\n\n\n			\n	\n	This is a unique opportunity to engage with the story of Honouliuli through the lens of preservation\, landscape\, and community stewardship. \nAIA/CES LUs: Qualifies for 1.5 AIA/CES LUs (HSW). \nCost: Free \nRSVP: NOW CANCELED \n\n\n\n	\n\n\n	\n		\n	\n\n\n	\n								\n		\n\n			\n	\n\n			\n	\n	Kauhale Sponsors\n\n\n\n	\n\n\n			\n	\n	\n				\n				\n				\n					\n	\n\n\n			\n	\n	\n				\n				\n				\n					\n	\n\n\n	\n\n\n	\n\n\n			\n	\n	\n\n\n			Mamalu Sponsors	\n\n\n			\n	\n	\n				\n				\n				\n					\n	\n\n\n			\n	\n	\n				\n				\n				\n					\n	\n\n\n			\n	\n	\n				\n				\n				\n					\n	\n\n\n	\n\n\n			\n	\n	\n				\n				\n				\n					\n	\n\n\n			\n	\n	\n				\n				\n				\n					\n	\n\n\n			\n	\n	\n				\n				\n				\n					\n	\n\n\n	\n\n\n			\n	\n	\n				\n				\n				\n					\n	\n\n\n			\n	\n	\n				\n				\n				\n					\n	\n\n\n			\n	\n	\n				\n				\n				\n					\n	\n\n\n	\n\n\n	\n\n\n			\n	\n	\n\n\n\n	\n\n\n			\n	\n			Kahua Sponsors
URL:https://www.aiahonolulu.org/event/small-firm-exchange-11-24-26/
LOCATION:Virtual (Zoom)
CATEGORIES:Community Events
END:VEVENT
END:VCALENDAR