BEGIN:VCALENDAR
VERSION:2.0
PRODID:-//AIA Honolulu - ECPv6.15.20//NONSGML v1.0//EN
CALSCALE:GREGORIAN
METHOD:PUBLISH
X-ORIGINAL-URL:https://www.aiahonolulu.org
X-WR-CALDESC:Events for AIA Honolulu
REFRESH-INTERVAL;VALUE=DURATION:PT1H
X-Robots-Tag:noindex
X-PUBLISHED-TTL:PT1H
BEGIN:VTIMEZONE
TZID:Pacific/Honolulu
BEGIN:STANDARD
TZOFFSETFROM:-1000
TZOFFSETTO:-1000
TZNAME:HST
DTSTART:20250101T000000
END:STANDARD
END:VTIMEZONE
BEGIN:VEVENT
DTSTART;TZID=Pacific/Honolulu:20261124T120000
DTEND;TZID=Pacific/Honolulu:20261124T130000
DTSTAMP:20260421T203926
CREATED:20260311T212435Z
LAST-MODIFIED:20260311T212435Z
UID:10001282-1795521600-1795525200@www.aiahonolulu.org
SUMMARY:Small Firm Exchange: Working with Contractors
DESCRIPTION:Ward Village's Holiday Celebration\nJoin us at Ward Village's South Shore Market for their holiday celebration! AIA will have some youth activities for the community as well. \nCome say hello and enjoy the other activities at the market! \nMore information will be coming soon.
URL:https://www.aiahonolulu.org/event/small-firm-exchange-11-24-26/
LOCATION:Virtual (Zoom)
CATEGORIES:Community Events
END:VEVENT
END:VCALENDAR