BEGIN:VCALENDAR
VERSION:2.0
PRODID:-//AIA Honolulu - ECPv6.15.20//NONSGML v1.0//EN
CALSCALE:GREGORIAN
METHOD:PUBLISH
X-ORIGINAL-URL:https://www.aiahonolulu.org
X-WR-CALDESC:Events for AIA Honolulu
REFRESH-INTERVAL;VALUE=DURATION:PT1H
X-Robots-Tag:noindex
X-PUBLISHED-TTL:PT1H
BEGIN:VTIMEZONE
TZID:Pacific/Honolulu
BEGIN:STANDARD
TZOFFSETFROM:-1000
TZOFFSETTO:-1000
TZNAME:HST
DTSTART:20230101T000000
END:STANDARD
END:VTIMEZONE
BEGIN:VEVENT
DTSTART;TZID=Pacific/Honolulu:20240911T120000
DTEND;TZID=Pacific/Honolulu:20240911T130000
DTSTAMP:20260424T043220
CREATED:20240719T203718Z
LAST-MODIFIED:20240912T022941Z
UID:10000620-1726056000-1726059600@www.aiahonolulu.org
SUMMARY:Talk Story with DPP
DESCRIPTION:Looking for the recap?  See Dawn’s slides here: \nPresentation to AIA 9-11-24\n	Talk Story with DPP (1 LU)\nJoin us this September 11\, 2024\, from 12pm-1pm for a presentation from a special guest speaker. \n				\n	TOPICS TO BE COVERED: \nIdentify Common Errors in Submitted Plans: \n\nRecognize Frequent Mistakes: Participants will be able to identify the most common errors in plan submissions to the DPP.\nImplement Error-Prevention Strategies: Participants will learn strategies to avoid these common mistakes\, ensuring smoother approval processes.\n\nUnderstand Recent Updates in the Honolulu Department of Planning & Permitting: \n\nParticipants will learn about the latest changes within the department\, including the introduction of new staff members and their roles\, and how these updates aim to improve departmental efficiency and service delivery.\n\nPRESENTER: Dawn Takeuchi Apuna\, Director of Honolulu Department of Planning & Permitting. \nMODERATOR: Phil Camp\, AIA\, 2024 AIA Honolulu Vice President and Principal Architect of hi.archy LLP. \nAIA/CEU: Qualifies for 1 AIA/CES LU. AIA Honolulu is the registered provider. \nCOST: Free for Members\, $25 for Non-members \nRSVP: Register below
URL:https://www.aiahonolulu.org/event/talk-story-with-dpp/
LOCATION:AIA Honolulu Center for Architecture\, 828 Fort Street Mall\, Suite 100\, Honolulu\, HI\, 96813\, United States
CATEGORIES:Community Events
ORGANIZER;CN="AIA Honolulu":MAILTO:contact@aiahonolulu.org
GEO:21.3087965;-157.863266
X-APPLE-STRUCTURED-LOCATION;VALUE=URI;X-ADDRESS=AIA Honolulu Center for Architecture 828 Fort Street Mall Suite 100 Honolulu HI 96813 United States;X-APPLE-RADIUS=500;X-TITLE=828 Fort Street Mall\, Suite 100:geo:-157.863266,21.3087965
END:VEVENT
BEGIN:VEVENT
DTSTART;TZID=Pacific/Honolulu:20240914T090000
DTEND;TZID=Pacific/Honolulu:20240914T140000
DTSTAMP:20260424T043220
CREATED:20240207T222538Z
LAST-MODIFIED:20240207T223007Z
UID:10000499-1726304400-1726322400@www.aiahonolulu.org
SUMMARY:2024 Canstruction® Build Day
DESCRIPTION:19TH ANNUAL CANSTRUCTION® COMPETITION\nStay tuned for more information. \n \nClick here to view full details from last year’s Canstruction® Competition!
URL:https://www.aiahonolulu.org/event/2024-canstruction-build-day/
LOCATION:Kahala Mall\, 4211 Waialae Ave\, Honolulu\, HI\, 96816\, United States
CATEGORIES:Community Events
GEO:21.2769457;-157.7859118
X-APPLE-STRUCTURED-LOCATION;VALUE=URI;X-ADDRESS=Kahala Mall 4211 Waialae Ave Honolulu HI 96816 United States;X-APPLE-RADIUS=500;X-TITLE=4211 Waialae Ave:geo:-157.7859118,21.2769457
END:VEVENT
END:VCALENDAR