BEGIN:VCALENDAR
VERSION:2.0
PRODID:-//AIA Honolulu - ECPv6.15.20//NONSGML v1.0//EN
CALSCALE:GREGORIAN
METHOD:PUBLISH
X-ORIGINAL-URL:https://www.aiahonolulu.org
X-WR-CALDESC:Events for AIA Honolulu
REFRESH-INTERVAL;VALUE=DURATION:PT1H
X-Robots-Tag:noindex
X-PUBLISHED-TTL:PT1H
BEGIN:VTIMEZONE
TZID:Pacific/Honolulu
BEGIN:STANDARD
TZOFFSETFROM:-1000
TZOFFSETTO:-1000
TZNAME:HST
DTSTART:20230101T000000
END:STANDARD
END:VTIMEZONE
BEGIN:VEVENT
DTSTART;TZID=Pacific/Honolulu:20240915T090000
DTEND;TZID=Pacific/Honolulu:20240921T140000
DTSTAMP:20260424T035651
CREATED:20240221T220904Z
LAST-MODIFIED:20240221T221148Z
UID:10000511-1726390800-1726927200@www.aiahonolulu.org
SUMMARY:2024 Canstruction® at Kahala Mall: People's Choice Voting Open
DESCRIPTION:19TH ANNUAL CANSTRUCTION® COMPETITION\nStay tuned for more information. \n \nClick here to view full details from last year’s Canstruction® Competition!
URL:https://www.aiahonolulu.org/event/2024-canstruction-build-day-copy/
LOCATION:Kahala Mall\, 4211 Waialae Ave\, Honolulu\, HI\, 96816\, United States
CATEGORIES:Community Events
GEO:21.2769457;-157.7859118
X-APPLE-STRUCTURED-LOCATION;VALUE=URI;X-ADDRESS=Kahala Mall 4211 Waialae Ave Honolulu HI 96816 United States;X-APPLE-RADIUS=500;X-TITLE=4211 Waialae Ave:geo:-157.7859118,21.2769457
END:VEVENT
END:VCALENDAR