BEGIN:VCALENDAR
VERSION:2.0
PRODID:-//AIA Honolulu - ECPv6.15.20//NONSGML v1.0//EN
CALSCALE:GREGORIAN
METHOD:PUBLISH
X-ORIGINAL-URL:https://www.aiahonolulu.org
X-WR-CALDESC:Events for AIA Honolulu
REFRESH-INTERVAL;VALUE=DURATION:PT1H
X-Robots-Tag:noindex
X-PUBLISHED-TTL:PT1H
BEGIN:VTIMEZONE
TZID:Pacific/Honolulu
BEGIN:STANDARD
TZOFFSETFROM:-1000
TZOFFSETTO:-1000
TZNAME:HST
DTSTART:20230101T000000
END:STANDARD
END:VTIMEZONE
BEGIN:VEVENT
DTSTART;TZID=Pacific/Honolulu:20241002T080000
DTEND;TZID=Pacific/Honolulu:20241002T170000
DTSTAMP:20260424T011821
CREATED:20231220T172155Z
LAST-MODIFIED:20241002T023822Z
UID:10000458-1727856000-1727888400@www.aiahonolulu.org
SUMMARY:2024 PBX Hawaii
DESCRIPTION:Where Construction and Design Professionals Gather for Education\, Product Knowledge\, and Networking\nOctober 2 | 7:45am-5:30pm | Hawai’i Convention Center\nPBX Hawaiʻi is the state’s premier trade show for the construction and design industries. Co-produced by AIA Honolulu\, CSI Honolulu Chapter\, and GCA of Hawaii\, this annual event brings together architects\, engineers\, contractors\, owner representatives\, and other construction and design professionals for a day of education\, information\, and networking. \nVisit PBXHawaii.com for more information and to register online today! \nWhere:   Hawaii Convention Center\, 1801 Kalakaua Ave\, Honolulu\nWhen:    Wednesday\, October 2\, 2024\nExhibition Hall 9am-5:30pm\nEducational Sessions 7:45am-4:15pm\nHere’s what’s included: \n\n200+ Vendor booths\nAccess to 16 expert-led seminars with AIA LU and HSW credits\nVoucher for Lunch Concession\nHosted Pau Hana Celebration with great prizes and pupu\n\nExhibit Space & Sponsorship: \nAre you interested in exhibit space or sponsorship opportunities? Contact Barbie Rosario at barbie@pbxhawaii.com.
URL:https://www.aiahonolulu.org/event/pbx-hawaii-2024/
LOCATION:Hawaii Convention Center\, 1801 Kalakaua Ave\, Room 319A\, Honolulu\, HI\, 96815
CATEGORIES:Community Events
GEO:21.2896943;-157.8358919
X-APPLE-STRUCTURED-LOCATION;VALUE=URI;X-ADDRESS=Hawaii Convention Center 1801 Kalakaua Ave Room 319A Honolulu HI 96815;X-APPLE-RADIUS=500;X-TITLE=1801 Kalakaua Ave\, Room 319A:geo:-157.8358919,21.2896943
END:VEVENT
END:VCALENDAR