BEGIN:VCALENDAR
VERSION:2.0
PRODID:-//AIA Honolulu - ECPv6.15.20//NONSGML v1.0//EN
CALSCALE:GREGORIAN
METHOD:PUBLISH
X-ORIGINAL-URL:https://www.aiahonolulu.org
X-WR-CALDESC:Events for AIA Honolulu
REFRESH-INTERVAL;VALUE=DURATION:PT1H
X-Robots-Tag:noindex
X-PUBLISHED-TTL:PT1H
BEGIN:VTIMEZONE
TZID:Pacific/Honolulu
BEGIN:STANDARD
TZOFFSETFROM:-1000
TZOFFSETTO:-1000
TZNAME:HST
DTSTART:20230101T000000
END:STANDARD
END:VTIMEZONE
BEGIN:VEVENT
DTSTART;TZID=Pacific/Honolulu:20241205T153000
DTEND;TZID=Pacific/Honolulu:20241205T163000
DTSTAMP:20260421T225902
CREATED:20241031T015425Z
LAST-MODIFIED:20241121T001331Z
UID:10000661-1733412600-1733416200@www.aiahonolulu.org
SUMMARY:UH Manoa Architecture Dean Finalist Presentation
DESCRIPTION:UH Manoa Architecture Dean Finalist Presentation\nJoin in as UH has their top 4 finalist for the UH Manoas School of Architecture Dean position presentation. \n \nPresenting is finalist\, Mo Zell\, Professor for the School of Architecture and Urban Planning at University of Wisconsin-Milwaukee. \nWHEN: Thursday\, December 5\, 2024 from 3:30pm-4:30pm HST                                  WHERE: Hybrid. In-person presentation will be in the Architecture room 215.                               Zoom: https://hawaii.zoom.us/j/84474719678                                                                     Webinar ID: 844 7471 9678                                                                                                       Passcode: DSdec5 \nYou can find more information about this event here. \n 
URL:https://www.aiahonolulu.org/event/uh-manoa-architecture-dean-finalist-presentation-4/
LOCATION:Hybrid (UH Manoa SoA & Zoom)\, University Avenue\, Honolulu\, HI\, 96822\, United States
CATEGORIES:Community Events
GEO:21.2997624;-157.8206567
X-APPLE-STRUCTURED-LOCATION;VALUE=URI;X-ADDRESS=Hybrid (UH Manoa SoA & Zoom) University Avenue Honolulu HI 96822 United States;X-APPLE-RADIUS=500;X-TITLE=University Avenue:geo:-157.8206567,21.2997624
END:VEVENT
BEGIN:VEVENT
DTSTART;TZID=Pacific/Honolulu:20241205T160000
DTEND;TZID=Pacific/Honolulu:20241205T180000
DTSTAMP:20260421T225902
CREATED:20241007T220558Z
LAST-MODIFIED:20241121T001325Z
UID:10000652-1733414400-1733421600@www.aiahonolulu.org
SUMMARY:Talk on Architectural Conservation
DESCRIPTION:Talk on Architectural Conservation\nWe’re excited to invite you to a special panel discussion celebrating the release of the book Architectural Conservation in Australia\, New Zealand\, and the Pacific Islands: National Experiences and Practice.  \n \nThis event\, which will also feature an accompanying exhibition\, promises to be an engaging and thought-provoking conversation on contemporary conservation theory and practice. \nOur panel will be led by our Dean\, William (Bill) Chapman\, who is one of the book’s authors\, and will include a respectable group of local experts: \n\nAlison Chiu\, Associate\, FAI Architects\nKiersten Faulkner\, FAICP\, Executive Director\, Historic Hawai’i Foundation\nDon Hibbard\, Ph.D.\, Architectural Historian\nGlenn Mason\, FAIA\, Vice President\, Mason Architects Inc.\n\nThese distinguished practitioners and scholars will share their unique insights into the current landscape of architectural conservation\, offering a rich perspective on how our regional efforts fit into the global context. \nThis event also highlights the University of Hawaii’s School of Architecture’s new Historic Preservation program\, underscoring our commitment to advancing both research and practice in this important field. \nWe’d love for you to join us and be part of this stimulating discussion.
URL:https://www.aiahonolulu.org/event/talk-on-architectural-conservation/
LOCATION:AIA Honolulu Center for Architecture\, 828 Fort Street Mall\, Suite 100\, Honolulu\, HI\, 96813\, United States
CATEGORIES:Community Events
ORGANIZER;CN="AIA Honolulu":MAILTO:contact@aiahonolulu.org
GEO:21.3087965;-157.863266
X-APPLE-STRUCTURED-LOCATION;VALUE=URI;X-ADDRESS=AIA Honolulu Center for Architecture 828 Fort Street Mall Suite 100 Honolulu HI 96813 United States;X-APPLE-RADIUS=500;X-TITLE=828 Fort Street Mall\, Suite 100:geo:-157.863266,21.3087965
END:VEVENT
END:VCALENDAR