BEGIN:VCALENDAR
VERSION:2.0
PRODID:-//AIA Honolulu - ECPv6.15.20//NONSGML v1.0//EN
CALSCALE:GREGORIAN
METHOD:PUBLISH
X-WR-CALNAME:AIA Honolulu
X-ORIGINAL-URL:https://www.aiahonolulu.org
X-WR-CALDESC:Events for AIA Honolulu
REFRESH-INTERVAL;VALUE=DURATION:PT1H
X-Robots-Tag:noindex
X-PUBLISHED-TTL:PT1H
BEGIN:VTIMEZONE
TZID:Pacific/Honolulu
BEGIN:STANDARD
TZOFFSETFROM:-1000
TZOFFSETTO:-1000
TZNAME:HST
DTSTART:20230101T000000
END:STANDARD
END:VTIMEZONE
BEGIN:VEVENT
DTSTART;TZID=Pacific/Honolulu:20241214T170000
DTEND;TZID=Pacific/Honolulu:20241214T190000
DTSTAMP:20260424T000251
CREATED:20241105T003256Z
LAST-MODIFIED:20241105T014639Z
UID:10000663-1734195600-1734202800@www.aiahonolulu.org
SUMMARY:Ward Village's Holiday Celebration
DESCRIPTION:Ward Village’s Holiday Celebration\nJoin us at Ward Village’s South Shore Market for their holiday celebration! AIA will have some youth activities for the community as well. \nCome say hello and enjoy the other activities at the market! \nMore information will be coming soon.
URL:https://www.aiahonolulu.org/event/ward-villages-holiday-celebration/
LOCATION:South Shore Market\, Ala Moana Boulevard 1240\, Honolulu\, HI\, 96814\, United States
CATEGORIES:Community Events
ORGANIZER;CN="AIA Honolulu":MAILTO:contact@aiahonolulu.org
GEO:21.2924759;-157.8509706
X-APPLE-STRUCTURED-LOCATION;VALUE=URI;X-ADDRESS=South Shore Market Ala Moana Boulevard 1240 Honolulu HI 96814 United States;X-APPLE-RADIUS=500;X-TITLE=Ala Moana Boulevard 1240:geo:-157.8509706,21.2924759
END:VEVENT
END:VCALENDAR