BEGIN:VCALENDAR
VERSION:2.0
PRODID:-//AIA Honolulu - ECPv6.15.20//NONSGML v1.0//EN
CALSCALE:GREGORIAN
METHOD:PUBLISH
X-WR-CALNAME:AIA Honolulu
X-ORIGINAL-URL:https://www.aiahonolulu.org
X-WR-CALDESC:Events for AIA Honolulu
REFRESH-INTERVAL;VALUE=DURATION:PT1H
X-Robots-Tag:noindex
X-PUBLISHED-TTL:PT1H
BEGIN:VTIMEZONE
TZID:Pacific/Honolulu
BEGIN:STANDARD
TZOFFSETFROM:-1000
TZOFFSETTO:-1000
TZNAME:HST
DTSTART:20240101T000000
END:STANDARD
END:VTIMEZONE
BEGIN:VEVENT
DTSTART;TZID=Pacific/Honolulu:20250225T120000
DTEND;TZID=Pacific/Honolulu:20250225T130000
DTSTAMP:20260421T143001
CREATED:20250205T014800Z
LAST-MODIFIED:20250205T015322Z
UID:10000831-1740484800-1740488400@www.aiahonolulu.org
SUMMARY:Lady Architect's Lunch!
DESCRIPTION:Lady Architect’s Lunch!\nJoin for a casual luncheon with other women in the field of architecture! \nDATE: Tuesday\, February 25\, 2025 \nTIME: 12:00pm – 1:00pm HST \nRSVP: Must RSVP by February 17\, 2025. \nBYOL: This event is a “bring your own lunch” event. \nFor more information\, please reach out to Laura Ayers at laura@whitespacearchitects.com.
URL:https://www.aiahonolulu.org/event/lady-architects-lunch/
CATEGORIES:Community Events
END:VEVENT
END:VCALENDAR