BEGIN:VCALENDAR
VERSION:2.0
PRODID:-//AIA Honolulu - ECPv6.15.20//NONSGML v1.0//EN
CALSCALE:GREGORIAN
METHOD:PUBLISH
X-WR-CALNAME:AIA Honolulu
X-ORIGINAL-URL:https://www.aiahonolulu.org
X-WR-CALDESC:Events for AIA Honolulu
REFRESH-INTERVAL;VALUE=DURATION:PT1H
X-Robots-Tag:noindex
X-PUBLISHED-TTL:PT1H
BEGIN:VTIMEZONE
TZID:Pacific/Honolulu
BEGIN:STANDARD
TZOFFSETFROM:-1000
TZOFFSETTO:-1000
TZNAME:HST
DTSTART:20240101T000000
END:STANDARD
END:VTIMEZONE
BEGIN:VEVENT
DTSTART;TZID=Pacific/Honolulu:20250804T180000
DTEND;TZID=Pacific/Honolulu:20250804T190000
DTSTAMP:20260421T043451
CREATED:20250723T000012Z
LAST-MODIFIED:20250723T012548Z
UID:10001050-1754330400-1754334000@www.aiahonolulu.org
SUMMARY:LIVED IN" Exhibition Opening
DESCRIPTION:What happens when a home is treated not as a static structure\, but as something that is alive\, that grows\, adapts\, and responds to its surroundings? \nJoin us for an exhibition opening reception and experience how great design continues to thrive when it’s truly LIVED IN. \n“LIVED IN” is a visual journey through a series of Hawai’i homes. These homes weren’t frozen in the past. Like plants\, they’ve been nurtured and adapted\, rooted in original design yet shaped by climate\, culture\, and care. \nThe Scudder / Gillmar House was originally designed by visionary architect Alfred Preis and lovingly evolved and transformed over time by those who lived in it. The owner moved it\, piece by piece\, from Waikīkī to a nearby valley\, keeping its spirit alive while adapting to a new environment. It’s not just about good design\, it’s about the lasting relationship between people\, place\, and architecture. \nWHEN: Monday August 4\, 6pm – 7pm\nWHERE: Center for Architecture\, 828 Fort Street Mall\, Suite 100\nLight refreshments will be served. \nEXHIBITION: Exhibition runs through August 31\, 2025 \n				\n	Photo Credits:\nDavid Franzen  (upper Image)\nOwner (lower image)
URL:https://www.aiahonolulu.org/event/livedin-exhibit/
CATEGORIES:Community Events
END:VEVENT
END:VCALENDAR