BEGIN:VCALENDAR
VERSION:2.0
PRODID:-//AIA Honolulu - ECPv6.15.20//NONSGML v1.0//EN
CALSCALE:GREGORIAN
METHOD:PUBLISH
X-ORIGINAL-URL:https://www.aiahonolulu.org
X-WR-CALDESC:Events for AIA Honolulu
REFRESH-INTERVAL;VALUE=DURATION:PT1H
X-Robots-Tag:noindex
X-PUBLISHED-TTL:PT1H
BEGIN:VTIMEZONE
TZID:Pacific/Honolulu
BEGIN:STANDARD
TZOFFSETFROM:-1000
TZOFFSETTO:-1000
TZNAME:HST
DTSTART:20240101T000000
END:STANDARD
END:VTIMEZONE
BEGIN:VEVENT
DTSTART;TZID=Pacific/Honolulu:20251010T173000
DTEND;TZID=Pacific/Honolulu:20251010T193000
DTSTAMP:20260419T034605
CREATED:20250801T205421Z
LAST-MODIFIED:20251001T000941Z
UID:10001087-1760117400-1760124600@www.aiahonolulu.org
SUMMARY:Architecture Month: “Building Bastille! The Tangled and Improbable story of the Opera Bastille” Film Night Honolulu
DESCRIPTION:Oahu Film Night “Building Bastille!  The Tangled and Improbable Story of the Opera Bastille”\nFriday\, Oct 10\, 5:30PM – 7:30PMat the Center for Architecture\n \nAIA Honolulu invites the public to join in a free screening of “Building Bastille\,” to be shown in Honolulu on Oahu and Kona on Hawai’i. \nFilm: “Building Bastille: the Impropable Story of the Paris Opera” (1h 16m). \nCost: Free for AIA Honolulu members. $20 for Non-Members \nView trailer Here.\nBuilding Bastille\, is a captivating documentary about the chaotic and unlikely true story behind Paris’ Bastille Opera House. \nWhen a little-known Canadian architect is mistakenly chosen over a famous American in a high-profile French competition\, political drama\, artistic ambition\, and international confusion collide – with unforgettable results. \nParking: Click here for suggestions. \n\n\n                \n                        \n                            RSVP for 2025 Oahu Film Night\n                             \n                        \n                        Please select membership type:(Required)AIA MemberNon-MemberPlease click the "submit" button to be redirected the registration form.Name(Required)\n                            \n                            \n                                                    \n                                                    First\n                                                \n                            \n                            \n                                                    \n                                                    Last\n                                                \n                            \n                        AIA Designation(Required)AIAAssoc. AIAFAIAAIA MEAllied MemberHon. AffiliateEmail(Required)
URL:https://www.aiahonolulu.org/event/architecture-month-building-bastille-the-tangled-and-improbable-story-of-the-opera-bastille-film-night-honolulu/
LOCATION:AIA Honolulu Center for Architecture\, 828 Fort Street Mall\, Suite 100\, Honolulu\, HI\, 96813\, United States
CATEGORIES:Community Events
GEO:21.3087965;-157.863266
X-APPLE-STRUCTURED-LOCATION;VALUE=URI;X-ADDRESS=AIA Honolulu Center for Architecture 828 Fort Street Mall Suite 100 Honolulu HI 96813 United States;X-APPLE-RADIUS=500;X-TITLE=828 Fort Street Mall\, Suite 100:geo:-157.863266,21.3087965
END:VEVENT
BEGIN:VEVENT
DTSTART;TZID=Pacific/Honolulu:20251011T090000
DTEND;TZID=Pacific/Honolulu:20251011T150000
DTSTAMP:20260419T034605
CREATED:20250801T193035Z
LAST-MODIFIED:20251014T012313Z
UID:10001085-1760173200-1760194800@www.aiahonolulu.org
SUMMARY:Architecture Month: Photography Workshop with Olivier Koning
DESCRIPTION:AIA COTE EARTH DAY VOLUNTEER\nJoin AIA Honolulu COTE as we come together to celebrate Earth Day by helping to restore the native forest along the Kuli'ou'ou Ridge. We’ll be volunteering with Aloha Tree Alliance to remove invasive species\, plant native plants\, meet incredible people\, and become stewards of the ʻāina. \n\nBring a hat\, sturdy shoes\, sunscreen\, and water bottle\nPlease register here and note how many adults\, keiki (children)\, and dogs will be with you\n\nDate: Saturday\, April 18\nTime: 8:00 AM - 11:30 PM\nLocation: Kuli'ou'ou Ridge Trailhead \n\n\n			\n					\n						RSVP Here
URL:https://www.aiahonolulu.org/event/architecture-month-photography-workshop/
LOCATION:AIA Honolulu Center for Architecture\, 828 Fort Street Mall\, Suite 100\, Honolulu\, HI\, 96813\, United States
CATEGORIES:Community Events
GEO:21.3087965;-157.863266
X-APPLE-STRUCTURED-LOCATION;VALUE=URI;X-ADDRESS=AIA Honolulu Center for Architecture 828 Fort Street Mall Suite 100 Honolulu HI 96813 United States;X-APPLE-RADIUS=500;X-TITLE=828 Fort Street Mall\, Suite 100:geo:-157.863266,21.3087965
END:VEVENT
END:VCALENDAR