BEGIN:VCALENDAR
VERSION:2.0
PRODID:-//AIA Honolulu - ECPv6.15.20//NONSGML v1.0//EN
CALSCALE:GREGORIAN
METHOD:PUBLISH
X-WR-CALNAME:AIA Honolulu
X-ORIGINAL-URL:https://www.aiahonolulu.org
X-WR-CALDESC:Events for AIA Honolulu
REFRESH-INTERVAL;VALUE=DURATION:PT1H
X-Robots-Tag:noindex
X-PUBLISHED-TTL:PT1H
BEGIN:VTIMEZONE
TZID:Pacific/Honolulu
BEGIN:STANDARD
TZOFFSETFROM:-1000
TZOFFSETTO:-1000
TZNAME:HST
DTSTART:20230101T000000
END:STANDARD
END:VTIMEZONE
BEGIN:VEVENT
DTSTART;TZID=Pacific/Honolulu:20260211T080000
DTEND;TZID=Pacific/Honolulu:20260214T170000
DTSTAMP:20260421T004025
CREATED:20251212T213500Z
LAST-MODIFIED:20251212T214121Z
UID:10001174-1770796800-1771088400@www.aiahonolulu.org
SUMMARY:2026 AIA Leadership Summit (AIALS)
DESCRIPTION:Mahalo to everyone who registered!\nRegistration is now closed. Sold out event. \n\n	\n\n\n\n	\n\n\n			\n	\n	\n		\n	Women in architecture luncheon\nSupported by: Whitespace Architects\n \nWHO RUN THE WORLD? GIRLS!\nWe are thrilled to announce our upcoming Women in Architecture luncheon\, set to take place on June 27th. This event will be a celebration of the achievements and contributions of women in the field of architecture. \nOur luncheon will be joined by three distinguished guests who have made significant strides in the industry: AIA National President\, Kimberly Dowdell\, AIA\, NOMAC\, who is AIA's first African American woman president. the AIA National Executive Vice President\, Lakisha Woods\, CAE\, who is the first African American woman to serve in this role\, alongside Vicky Schneider\, Chief Strategy Officer. \n\n	\n\n\n	\n		\n	\n				\n					\n	\n	\n\n\n	\n		\n	Let's come together to celebrate the achievements of women in architecture and look ahead to a future of greater diversity\, equity\, and innovation in our profession. \nWe look forward to seeing you there! \n\n	\n\n\n	\n		\n	DATE: Thursday\, June 27th\nTIME: 11am-1:30pm\nVENUE: Mariposa
URL:https://www.aiahonolulu.org/event/aia-leadership-summit-2026/
LOCATION:Marriott Marquis in Washington\, D.C\, 901 Massachusetts Ave Nw\, Washington\, 20001\, United States
CATEGORIES:National Events
GEO:38.9037397;-77.024876
X-APPLE-STRUCTURED-LOCATION;VALUE=URI;X-ADDRESS=Marriott Marquis in Washington D.C 901 Massachusetts Ave Nw Washington 20001 United States;X-APPLE-RADIUS=500;X-TITLE=901 Massachusetts Ave Nw:geo:-77.024876,38.9037397
END:VEVENT
BEGIN:VEVENT
DTSTART;VALUE=DATE:20250604
DTEND;VALUE=DATE:20250608
DTSTAMP:20260421T004025
CREATED:20250123T015941Z
LAST-MODIFIED:20250123T020333Z
UID:10000821-1748995200-1749340799@www.aiahonolulu.org
SUMMARY:AIA25 Conference on Architecture
DESCRIPTION:Mahalo to everyone who registered!\nRegistration is now closed. Sold out event. \n\n	\n\n\n\n	\n\n\n			\n	\n	\n		\n	Women in architecture luncheon\nSupported by: Whitespace Architects\n \nWHO RUN THE WORLD? GIRLS!\nWe are thrilled to announce our upcoming Women in Architecture luncheon\, set to take place on June 27th. This event will be a celebration of the achievements and contributions of women in the field of architecture. \nOur luncheon will be joined by three distinguished guests who have made significant strides in the industry: AIA National President\, Kimberly Dowdell\, AIA\, NOMAC\, who is AIA's first African American woman president. the AIA National Executive Vice President\, Lakisha Woods\, CAE\, who is the first African American woman to serve in this role\, alongside Vicky Schneider\, Chief Strategy Officer. \n\n	\n\n\n	\n		\n	\n				\n					\n	\n	\n\n\n	\n		\n	Let's come together to celebrate the achievements of women in architecture and look ahead to a future of greater diversity\, equity\, and innovation in our profession. \nWe look forward to seeing you there! \n\n	\n\n\n	\n		\n	DATE: Thursday\, June 27th\nTIME: 11am-1:30pm\nVENUE: Mariposa
URL:https://www.aiahonolulu.org/event/aia25-conference-on-architecture/
LOCATION:Hawaii
CATEGORIES:National Events
END:VEVENT
BEGIN:VEVENT
DTSTART;TZID=Pacific/Honolulu:20250224T080000
DTEND;TZID=Pacific/Honolulu:20250226T170000
DTSTAMP:20260421T004025
CREATED:20241206T202334Z
LAST-MODIFIED:20250212T215515Z
UID:10000736-1740384000-1740589200@www.aiahonolulu.org
SUMMARY:AIA Leadership Summit (AIALS)
DESCRIPTION:Mahalo to everyone who registered!\nRegistration is now closed. Sold out event. \n\n	\n\n\n\n	\n\n\n			\n	\n	\n		\n	Women in architecture luncheon\nSupported by: Whitespace Architects\n \nWHO RUN THE WORLD? GIRLS!\nWe are thrilled to announce our upcoming Women in Architecture luncheon\, set to take place on June 27th. This event will be a celebration of the achievements and contributions of women in the field of architecture. \nOur luncheon will be joined by three distinguished guests who have made significant strides in the industry: AIA National President\, Kimberly Dowdell\, AIA\, NOMAC\, who is AIA's first African American woman president. the AIA National Executive Vice President\, Lakisha Woods\, CAE\, who is the first African American woman to serve in this role\, alongside Vicky Schneider\, Chief Strategy Officer. \n\n	\n\n\n	\n		\n	\n				\n					\n	\n	\n\n\n	\n		\n	Let's come together to celebrate the achievements of women in architecture and look ahead to a future of greater diversity\, equity\, and innovation in our profession. \nWe look forward to seeing you there! \n\n	\n\n\n	\n		\n	DATE: Thursday\, June 27th\nTIME: 11am-1:30pm\nVENUE: Mariposa
URL:https://www.aiahonolulu.org/event/aia-leadership-summit-aials/
LOCATION:Grand Hyatt in Washington\, D.C\, H Street Northwest 1000\, Washington\, District of Columbia\, 20001\, United States
CATEGORIES:National Events
GEO:38.8993973;-77.0265437
X-APPLE-STRUCTURED-LOCATION;VALUE=URI;X-ADDRESS=Grand Hyatt in Washington D.C H Street Northwest 1000 Washington District of Columbia 20001 United States;X-APPLE-RADIUS=500;X-TITLE=H Street Northwest 1000:geo:-77.0265437,38.8993973
END:VEVENT
BEGIN:VEVENT
DTSTART;TZID=Pacific/Honolulu:20240627T110000
DTEND;TZID=Pacific/Honolulu:20240627T133000
DTSTAMP:20260421T004025
CREATED:20240531T022838Z
LAST-MODIFIED:20240626T043422Z
UID:10000607-1719486000-1719495000@www.aiahonolulu.org
SUMMARY:Women in Architecture Luncheon
DESCRIPTION:Mahalo to everyone who registered!\nRegistration is now closed. Sold out event. \n\n	\n\n\n\n	\n\n\n			\n	\n	\n		\n	Women in architecture luncheon\nSupported by: Whitespace Architects\n \nWHO RUN THE WORLD? GIRLS!\nWe are thrilled to announce our upcoming Women in Architecture luncheon\, set to take place on June 27th. This event will be a celebration of the achievements and contributions of women in the field of architecture. \nOur luncheon will be joined by three distinguished guests who have made significant strides in the industry: AIA National President\, Kimberly Dowdell\, AIA\, NOMAC\, who is AIA's first African American woman president. the AIA National Executive Vice President\, Lakisha Woods\, CAE\, who is the first African American woman to serve in this role\, alongside Vicky Schneider\, Chief Strategy Officer. \n\n	\n\n\n	\n		\n	\n				\n					\n	\n	\n\n\n	\n		\n	Let's come together to celebrate the achievements of women in architecture and look ahead to a future of greater diversity\, equity\, and innovation in our profession. \nWe look forward to seeing you there! \n\n	\n\n\n	\n		\n	DATE: Thursday\, June 27th\nTIME: 11am-1:30pm\nVENUE: Mariposa
URL:https://www.aiahonolulu.org/event/woman-in-architecture-luncheon/
LOCATION:Mariposa\, Ala Moana Boulevard\, Honolulu\, HI\, 96814\, United States
CATEGORIES:National Events
ORGANIZER;CN="AIA Honolulu":MAILTO:contact@aiahonolulu.org
GEO:21.2912328;-157.8443272
X-APPLE-STRUCTURED-LOCATION;VALUE=URI;X-ADDRESS=Mariposa Ala Moana Boulevard Honolulu HI 96814 United States;X-APPLE-RADIUS=500;X-TITLE=Ala Moana Boulevard:geo:-157.8443272,21.2912328
END:VEVENT
BEGIN:VEVENT
DTSTART;TZID=Pacific/Honolulu:20240626T173000
DTEND;TZID=Pacific/Honolulu:20240626T193000
DTSTAMP:20260421T004025
CREATED:20240529T000551Z
LAST-MODIFIED:20240625T014904Z
UID:10000605-1719423000-1719430200@www.aiahonolulu.org
SUMMARY:General Membership Meeting with AIA National Leaders
DESCRIPTION:Mahalo to everyone who registered!\nRegistration is now closed. Sold out event. \n\n	\n\n\n\n	\n\n\n			\n	\n	\n		\n	Women in architecture luncheon\nSupported by: Whitespace Architects\n \nWHO RUN THE WORLD? GIRLS!\nWe are thrilled to announce our upcoming Women in Architecture luncheon\, set to take place on June 27th. This event will be a celebration of the achievements and contributions of women in the field of architecture. \nOur luncheon will be joined by three distinguished guests who have made significant strides in the industry: AIA National President\, Kimberly Dowdell\, AIA\, NOMAC\, who is AIA's first African American woman president. the AIA National Executive Vice President\, Lakisha Woods\, CAE\, who is the first African American woman to serve in this role\, alongside Vicky Schneider\, Chief Strategy Officer. \n\n	\n\n\n	\n		\n	\n				\n					\n	\n	\n\n\n	\n		\n	Let's come together to celebrate the achievements of women in architecture and look ahead to a future of greater diversity\, equity\, and innovation in our profession. \nWe look forward to seeing you there! \n\n	\n\n\n	\n		\n	DATE: Thursday\, June 27th\nTIME: 11am-1:30pm\nVENUE: Mariposa
URL:https://www.aiahonolulu.org/event/general-membership-meeting-with-aia-national-leaders/
LOCATION:AIA Honolulu Center for Architecture\, 828 Fort Street Mall\, Suite 100\, Honolulu\, HI\, 96813\, United States
CATEGORIES:National Events
ORGANIZER;CN="AIA Honolulu":MAILTO:contact@aiahonolulu.org
GEO:21.3087965;-157.863266
X-APPLE-STRUCTURED-LOCATION;VALUE=URI;X-ADDRESS=AIA Honolulu Center for Architecture 828 Fort Street Mall Suite 100 Honolulu HI 96813 United States;X-APPLE-RADIUS=500;X-TITLE=828 Fort Street Mall\, Suite 100:geo:-157.863266,21.3087965
END:VEVENT
BEGIN:VEVENT
DTSTART;TZID=Pacific/Honolulu:20240626T120000
DTEND;TZID=Pacific/Honolulu:20240626T130000
DTSTAMP:20260421T004025
CREATED:20240605T181430Z
LAST-MODIFIED:20240614T203934Z
UID:10000611-1719403200-1719406800@www.aiahonolulu.org
SUMMARY:Emerging Professionals Luncheon
DESCRIPTION:Mahalo to everyone who registered!\nRegistration is now closed. Sold out event. \n\n	\n\n\n\n	\n\n\n			\n	\n	\n		\n	Women in architecture luncheon\nSupported by: Whitespace Architects\n \nWHO RUN THE WORLD? GIRLS!\nWe are thrilled to announce our upcoming Women in Architecture luncheon\, set to take place on June 27th. This event will be a celebration of the achievements and contributions of women in the field of architecture. \nOur luncheon will be joined by three distinguished guests who have made significant strides in the industry: AIA National President\, Kimberly Dowdell\, AIA\, NOMAC\, who is AIA's first African American woman president. the AIA National Executive Vice President\, Lakisha Woods\, CAE\, who is the first African American woman to serve in this role\, alongside Vicky Schneider\, Chief Strategy Officer. \n\n	\n\n\n	\n		\n	\n				\n					\n	\n	\n\n\n	\n		\n	Let's come together to celebrate the achievements of women in architecture and look ahead to a future of greater diversity\, equity\, and innovation in our profession. \nWe look forward to seeing you there! \n\n	\n\n\n	\n		\n	DATE: Thursday\, June 27th\nTIME: 11am-1:30pm\nVENUE: Mariposa
URL:https://www.aiahonolulu.org/event/emerging-professionals-luncheon/
LOCATION:Liljestrand House\, Tantalus Drive\, Honolulu\, HI\, 96813\, United States
CATEGORIES:National Events
ORGANIZER;CN="AIA Honolulu":MAILTO:contact@aiahonolulu.org
GEO:21.324258;-157.8312666
X-APPLE-STRUCTURED-LOCATION;VALUE=URI;X-ADDRESS=Liljestrand House Tantalus Drive Honolulu HI 96813 United States;X-APPLE-RADIUS=500;X-TITLE=Tantalus Drive:geo:-157.8312666,21.324258
END:VEVENT
BEGIN:VEVENT
DTSTART;VALUE=DATE:20240605
DTEND;VALUE=DATE:20240609
DTSTAMP:20260421T004025
CREATED:20230518T234435Z
LAST-MODIFIED:20240426T020826Z
UID:10000305-1717545600-1717891199@www.aiahonolulu.org
SUMMARY:AIA24 Conference on Architecture
DESCRIPTION:Mahalo to everyone who registered!\nRegistration is now closed. Sold out event. \n\n	\n\n\n\n	\n\n\n			\n	\n	\n		\n	Women in architecture luncheon\nSupported by: Whitespace Architects\n \nWHO RUN THE WORLD? GIRLS!\nWe are thrilled to announce our upcoming Women in Architecture luncheon\, set to take place on June 27th. This event will be a celebration of the achievements and contributions of women in the field of architecture. \nOur luncheon will be joined by three distinguished guests who have made significant strides in the industry: AIA National President\, Kimberly Dowdell\, AIA\, NOMAC\, who is AIA's first African American woman president. the AIA National Executive Vice President\, Lakisha Woods\, CAE\, who is the first African American woman to serve in this role\, alongside Vicky Schneider\, Chief Strategy Officer. \n\n	\n\n\n	\n		\n	\n				\n					\n	\n	\n\n\n	\n		\n	Let's come together to celebrate the achievements of women in architecture and look ahead to a future of greater diversity\, equity\, and innovation in our profession. \nWe look forward to seeing you there! \n\n	\n\n\n	\n		\n	DATE: Thursday\, June 27th\nTIME: 11am-1:30pm\nVENUE: Mariposa
URL:https://www.aiahonolulu.org/event/a24-conference-on-architecture/
LOCATION:Hawaii
CATEGORIES:National Events
END:VEVENT
END:VCALENDAR