BEGIN:VCALENDAR
VERSION:2.0
PRODID:-//AIA Honolulu - ECPv6.15.20//NONSGML v1.0//EN
CALSCALE:GREGORIAN
METHOD:PUBLISH
X-ORIGINAL-URL:https://www.aiahonolulu.org
X-WR-CALDESC:Events for AIA Honolulu
REFRESH-INTERVAL;VALUE=DURATION:PT1H
X-Robots-Tag:noindex
X-PUBLISHED-TTL:PT1H
BEGIN:VTIMEZONE
TZID:Pacific/Honolulu
BEGIN:STANDARD
TZOFFSETFROM:-1000
TZOFFSETTO:-1000
TZNAME:HST
DTSTART:20250101T000000
END:STANDARD
END:VTIMEZONE
BEGIN:VEVENT
DTSTART;TZID=Pacific/Honolulu:20260211T080000
DTEND;TZID=Pacific/Honolulu:20260214T170000
DTSTAMP:20260420T234209
CREATED:20251212T213500Z
LAST-MODIFIED:20251212T214121Z
UID:10001174-1770796800-1771088400@www.aiahonolulu.org
SUMMARY:2026 AIA Leadership Summit (AIALS)
DESCRIPTION:2026 AIA Leadership Summit\nThe premier advocacy & leadership training event\nAIA Leadership Summit is the premier advocacy and leadership training event for AIA chapter leaders. The annual event is always one of AIA’s best attended leadership events-offering attendees a unique platform to engage in critical policy discussions with lawmakers while enhancing their leadership skills as AEC professionals and AIA chapter leaders. \nThe 2026 AIA Leadership Summit will take place February 11-14 at the Marriott Marquis in Washington\, D.C.  \nConnect with nearly 700 AIA members\, volunteer leaders\, and chapter executives while strengthening leadership skills\, aligning advocacy for greater impact\, and exploring best practices in association management. \nHighlights include a keynote from futurist April Rinne on the “Flux Mindset\,” Capitol Hill visits\, the Excellence in Board Leadership session for executive directors and presidents\, and insights from AIA’s new EVP/CEO Carole Wedge\, FAIA. \nRead More & Register Here >
URL:https://www.aiahonolulu.org/event/aia-leadership-summit-2026/
LOCATION:Marriott Marquis in Washington\, D.C\, 901 Massachusetts Ave Nw\, Washington\, 20001\, United States
CATEGORIES:National Events
GEO:38.9037397;-77.024876
X-APPLE-STRUCTURED-LOCATION;VALUE=URI;X-ADDRESS=Marriott Marquis in Washington D.C 901 Massachusetts Ave Nw Washington 20001 United States;X-APPLE-RADIUS=500;X-TITLE=901 Massachusetts Ave Nw:geo:-77.024876,38.9037397
END:VEVENT
BEGIN:VEVENT
DTSTART;VALUE=DATE:20260610
DTEND;VALUE=DATE:20260614
DTSTAMP:20260420T234209
CREATED:20260130T024623Z
LAST-MODIFIED:20260130T025051Z
UID:10001261-1781049600-1781395199@www.aiahonolulu.org
SUMMARY:AIA26 Conference on Architecture
DESCRIPTION:AIA Conference on Architecture & Design® 2026\nJune 10 – 13\, 2026 | San Diego Convention Center (SDCC)\n111 Harbor Dr.\, San Diego\, CA 92101\nAIA26 is a four-day conference that delivers what architects need now: Fresh insights\, powerful connections\, and real solutions for a changing industry. \nJoin us June 10-13 to understand how our industry is evolving and take home the solutions\, networking connections\, and inspiration you and your firm need to be successful. \nLearn more >
URL:https://www.aiahonolulu.org/event/aia26-conference/
CATEGORIES:National Events
END:VEVENT
END:VCALENDAR