BEGIN:VCALENDAR
VERSION:2.0
PRODID:-//AIA Honolulu - ECPv6.15.20//NONSGML v1.0//EN
CALSCALE:GREGORIAN
METHOD:PUBLISH
X-ORIGINAL-URL:https://www.aiahonolulu.org
X-WR-CALDESC:Events for AIA Honolulu
REFRESH-INTERVAL;VALUE=DURATION:PT1H
X-Robots-Tag:noindex
X-PUBLISHED-TTL:PT1H
BEGIN:VTIMEZONE
TZID:Pacific/Honolulu
BEGIN:STANDARD
TZOFFSETFROM:-1000
TZOFFSETTO:-1000
TZNAME:HST
DTSTART:20240101T000000
END:STANDARD
END:VTIMEZONE
BEGIN:VEVENT
DTSTART;TZID=Pacific/Honolulu:20250614T090000
DTEND;TZID=Pacific/Honolulu:20250614T120000
DTSTAMP:20260418T083759
CREATED:20241230T201952Z
LAST-MODIFIED:20241230T202433Z
UID:10000746-1749891600-1749902400@www.aiahonolulu.org
SUMMARY:AIA Honolulu Architectural Walking Tour of Downtown
DESCRIPTION:AIA Honolulu Architectural Walking Tour of Downtown\nThe Architectural Walking Tour of Downtown Honolulu is a rare treat for local residents and visitors to explore the area through the eyes of an architect or architectural historian. \nEach tour provides architectural and historical insights about the fascinating buildings in Honolulu’s downtown and Capitol District. \nTour Groups: Tour groups must be between 4-14 people to take place. Advanced reservations are required. If less than 4 people sign up\, the tour will be cancelled and a full refund will be issued to anyone already registered. \nTour Cost: $25.00/person paid online. Registration is generally open until 4PM Friday before the tour date\, unless the tour fills up early or is cancelled. Walk-in registrations are not allowed. Tour availability is on a first come\, first served basis and may close earlier than the registration deadline! \nBooklet: A historic booklet can be purchased for $5.00 (optional). Purchase it online or on the day of the tour (cash only-exact change). Booklets can be added on in the virtual shopping cart before checkout. \nLocation & Parking: The tour will begin at AIA Honolulu’s Center for Architecture at the corner of Fort Street Mall and Queen Street. Parking at the Oceanit Building is currently closed during weekends\, however\, some street parking might be available. The Westbound Route 4 bus stops right outside of our Center\, and various other TheBus lines have stops within a 5 minute walk. View more parking suggestions. \nQuestions: Email contact@aiahonolulu.org or call (808) 628-7243 during our business hours. \n\nRefund Policy: Refunds for AIA Honolulu events will only be given as a result of event cancellation made by the Chapter. Substitutions are welcome for your pre-paid spot. \n			\n				\n\n	\n	\n		$25.00 \n12 Tickets Available \n\n	\n	\n		\n		    \n        Downtown Walking Tour: June 14\, 2025 quantity    \n    -        \n        +\nYour browser must support JavaScript in order to purchase ticket(s).\n\n\n\n	\n	\n		\n			Attendee Information #1\n		\n		\n				\n		First Name:\n				*\n			\n	\n 	\n		Last Name:\n				*\n			\n	\n 	\n		Email:\n				*\n			\n	\n 	\n		Phone Number (cell preferred):\n				*\n			\n	\n 			\n				\n					Privacy Preference:				\n				\n				 \n				\n					Opt-out from being displayed in the public list of attendees.				\n			 \n					\n	\n\n\n\n		Buy Ticket Now
URL:https://www.aiahonolulu.org/event/aia-honolulu-architectural-walking-tour-of-downtown-5/
LOCATION:AIA Honolulu Center for Architecture\, 828 Fort Street Mall\, Suite 100\, Honolulu\, HI\, 96813\, United States
CATEGORIES:Walking Tours
ORGANIZER;CN="AIA Honolulu":MAILTO:contact@aiahonolulu.org
GEO:21.3087965;-157.863266
X-APPLE-STRUCTURED-LOCATION;VALUE=URI;X-ADDRESS=AIA Honolulu Center for Architecture 828 Fort Street Mall Suite 100 Honolulu HI 96813 United States;X-APPLE-RADIUS=500;X-TITLE=828 Fort Street Mall\, Suite 100:geo:-157.863266,21.3087965
END:VEVENT
BEGIN:VEVENT
DTSTART;TZID=Pacific/Honolulu:20250621T090000
DTEND;TZID=Pacific/Honolulu:20250621T120000
DTSTAMP:20260418T083759
CREATED:20241230T202533Z
LAST-MODIFIED:20241230T202733Z
UID:10000747-1750496400-1750507200@www.aiahonolulu.org
SUMMARY:AIA Honolulu Architectural Walking Tour of Chinatown
DESCRIPTION:AIA Honolulu Architectural Walking Tour of Chinatown\nAIA Honolulu is excited to introduce our new historic architectural tour of Honoluluʻs Chinatown\, focusing on the unique style\, materials\, and relationships of the buildings in that district. \nTour Groups: Tour groups must be between 4-14 people to take place. Advanced reservations are required.\nIf less than 4 people sign up\, the tour will be cancelled and a full refund will be issued to anyone already registered.\nTour Cost: $20.00/person paid online. Registration is generally open until 4PM Friday before the tour date\, unless the tour fills up early or is cancelled. Walk-in registrations are not allowed.\nTour availability is on a first come\, first served basis and may close earlier than the registration deadline!\nLocation & Parking: The tour will begin at AIA Honolulu’s Center for Architecture at the corner of Fort Street Mall and Queen Street. Parking at the Oceanit Building is currently closed during weekends\, however\, some street parking might be available. The Westbound Route 4 bus stops right outside of our Center\, and various other TheBus lines have stops within a 5 minute walk. View more parking suggestions. \nQuestions: Email contact@aiahonolulu.org or call (808) 628-7243 during our business hours. \n\nRefund Policy: Refunds for AIA Honolulu events will only be given as a result of event cancellation made by the Chapter. Substitutions are welcome for your pre-paid spot. \n  \n			\n				\n\n	\n	\n		$20.00 \n Sold Out
URL:https://www.aiahonolulu.org/event/aia-honolulu-architectural-walking-tour-of-chinatown-7/
LOCATION:AIA Honolulu Center for Architecture\, 828 Fort Street Mall\, Suite 100\, Honolulu\, HI\, 96813\, United States
CATEGORIES:Walking Tours
ORGANIZER;CN="AIA Honolulu":MAILTO:contact@aiahonolulu.org
GEO:21.3087965;-157.863266
X-APPLE-STRUCTURED-LOCATION;VALUE=URI;X-ADDRESS=AIA Honolulu Center for Architecture 828 Fort Street Mall Suite 100 Honolulu HI 96813 United States;X-APPLE-RADIUS=500;X-TITLE=828 Fort Street Mall\, Suite 100:geo:-157.863266,21.3087965
END:VEVENT
BEGIN:VEVENT
DTSTART;TZID=Pacific/Honolulu:20250628T090000
DTEND;TZID=Pacific/Honolulu:20250628T120000
DTSTAMP:20260418T083759
CREATED:20241230T202925Z
LAST-MODIFIED:20241230T203134Z
UID:10000748-1751101200-1751112000@www.aiahonolulu.org
SUMMARY:AIA Honolulu Architectural Walking Tour of Downtown
DESCRIPTION:AIA Honolulu Architectural Walking Tour of Downtown\nThe Architectural Walking Tour of Downtown Honolulu is a rare treat for local residents and visitors to explore the area through the eyes of an architect or architectural historian. \nEach tour provides architectural and historical insights about the fascinating buildings in Honolulu’s downtown and Capitol District. \nTour Groups: Tour groups must be between 4-14 people to take place. Advanced reservations are required. If less than 4 people sign up\, the tour will be cancelled and a full refund will be issued to anyone already registered. \nTour Cost: $25.00/person paid online. Registration is generally open until 4PM Friday before the tour date\, unless the tour fills up early or is cancelled. Walk-in registrations are not allowed. Tour availability is on a first come\, first served basis and may close earlier than the registration deadline! \nBooklet: A historic booklet can be purchased for $5.00 (optional). Purchase it online or on the day of the tour (cash only-exact change). Booklets can be added on in the virtual shopping cart before checkout. \nLocation & Parking: The tour will begin at AIA Honolulu’s Center for Architecture at the corner of Fort Street Mall and Queen Street. Parking at the Oceanit Building is currently closed during weekends\, however\, some street parking might be available. The Westbound Route 4 bus stops right outside of our Center\, and various other TheBus lines have stops within a 5 minute walk. View more parking suggestions. \nQuestions: Email contact@aiahonolulu.org or call (808) 628-7243 during our business hours. \n\nRefund Policy: Refunds for AIA Honolulu events will only be given as a result of event cancellation made by the Chapter. Substitutions are welcome for your pre-paid spot. \n			\n				\n\n	\n	\n		$25.00 \n10 Tickets Available \n\n	\n	\n		\n		    \n        Downtown Walking Tour: June 28\, 2025 quantity    \n    -        \n        +\nYour browser must support JavaScript in order to purchase ticket(s).\n\n\n\n	\n	\n		\n			Attendee Information #1\n		\n		\n				\n		First Name:\n				*\n			\n	\n 	\n		Last Name:\n				*\n			\n	\n 	\n		Email:\n				*\n			\n	\n 	\n		Phone Number (cell preferred):\n				*\n			\n	\n 		\n	\n\n\n\n		Buy Ticket Now
URL:https://www.aiahonolulu.org/event/aia-honolulu-architectural-walking-tour-of-downtown-6/
LOCATION:AIA Honolulu Center for Architecture\, 828 Fort Street Mall\, Suite 100\, Honolulu\, HI\, 96813\, United States
CATEGORIES:Walking Tours
ORGANIZER;CN="AIA Honolulu":MAILTO:contact@aiahonolulu.org
GEO:21.3087965;-157.863266
X-APPLE-STRUCTURED-LOCATION;VALUE=URI;X-ADDRESS=AIA Honolulu Center for Architecture 828 Fort Street Mall Suite 100 Honolulu HI 96813 United States;X-APPLE-RADIUS=500;X-TITLE=828 Fort Street Mall\, Suite 100:geo:-157.863266,21.3087965
END:VEVENT
END:VCALENDAR