BEGIN:VCALENDAR
VERSION:2.0
PRODID:-//AIA Honolulu - ECPv6.15.20//NONSGML v1.0//EN
CALSCALE:GREGORIAN
METHOD:PUBLISH
X-ORIGINAL-URL:https://www.aiahonolulu.org
X-WR-CALDESC:Events for AIA Honolulu
REFRESH-INTERVAL;VALUE=DURATION:PT1H
X-Robots-Tag:noindex
X-PUBLISHED-TTL:PT1H
BEGIN:VTIMEZONE
TZID:Pacific/Honolulu
BEGIN:STANDARD
TZOFFSETFROM:-1000
TZOFFSETTO:-1000
TZNAME:HST
DTSTART:20250101T000000
END:STANDARD
END:VTIMEZONE
BEGIN:VEVENT
DTSTART;TZID=Pacific/Honolulu:20260314T090000
DTEND;TZID=Pacific/Honolulu:20260314T110000
DTSTAMP:20260419T054125
CREATED:20251201T235729Z
LAST-MODIFIED:20260312T184320Z
UID:10001139-1773478800-1773486000@www.aiahonolulu.org
SUMMARY:CANCELLED! AIA Honolulu Architectural Walking Tour of Chinatown
DESCRIPTION:CANCELLED!	\n	AIA Honolulu Architectural Walking Tour of Chinatown\nAIA Honolulu is excited to introduce our new historic architectural tour of Honoluluʻs Chinatown\, focusing on the unique style\, materials\, and relationships of the buildings in that district. \nTour Groups: Tour groups must be between 4-14 people to take place. Advanced reservations are required. If less than 4 people sign up\, the tour will be cancelled and a full refund will be issued to anyone already registered. \nTour Cost: $20.00/person paid online. Registration is generally open until 4PM Friday before the tour date\, unless the tour fills up early or is cancelled. Walk-in registrations are not allowed.\nTour availability is on a first come\, first served basis and may close earlier than the registration deadline!\nLocation & Parking: The tour will begin at AIA Honolulu’s Center for Architecture at the corner of Fort Street Mall and Queen Street. Parking at the Oceanit Building is currently closed during weekends\, however\, some street parking might be available. The Westbound Route 4 bus stops right outside of our Center\, and various other TheBus lines have stops within a 5 minute walk. View more parking suggestions. \nQuestions: Email contact@aiahonolulu.org or call (808) 628-7243 during our business hours. \n\nRefund Policy: Refunds for AIA Honolulu events will only be given as a result of event cancellation made by the Chapter. Substitutions are welcome for your pre-paid spot.
URL:https://www.aiahonolulu.org/event/aia-honolulu-architectural-walking-tour-of-chinatown-16/
LOCATION:AIA Honolulu Center for Architecture\, 828 Fort Street Mall\, Suite 100\, Honolulu\, HI\, 96813\, United States
CATEGORIES:Walking Tours
GEO:21.3087965;-157.863266
X-APPLE-STRUCTURED-LOCATION;VALUE=URI;X-ADDRESS=AIA Honolulu Center for Architecture 828 Fort Street Mall Suite 100 Honolulu HI 96813 United States;X-APPLE-RADIUS=500;X-TITLE=828 Fort Street Mall\, Suite 100:geo:-157.863266,21.3087965
END:VEVENT
END:VCALENDAR