BEGIN:VCALENDAR
VERSION:2.0
PRODID:-//AIA Honolulu - ECPv6.15.20//NONSGML v1.0//EN
CALSCALE:GREGORIAN
METHOD:PUBLISH
X-WR-CALNAME:AIA Honolulu
X-ORIGINAL-URL:https://www.aiahonolulu.org
X-WR-CALDESC:Events for AIA Honolulu
REFRESH-INTERVAL;VALUE=DURATION:PT1H
X-Robots-Tag:noindex
X-PUBLISHED-TTL:PT1H
BEGIN:VTIMEZONE
TZID:Pacific/Honolulu
BEGIN:STANDARD
TZOFFSETFROM:-1000
TZOFFSETTO:-1000
TZNAME:HST
DTSTART:20250101T000000
END:STANDARD
END:VTIMEZONE
BEGIN:VEVENT
DTSTART;TZID=Pacific/Honolulu:20260409T120000
DTEND;TZID=Pacific/Honolulu:20260409T130000
DTSTAMP:20260425T083006
CREATED:20250709T210157Z
LAST-MODIFIED:20251230T203141Z
UID:10001218-1775736000-1775739600@www.aiahonolulu.org
SUMMARY:EDI Meeting
DESCRIPTION:
URL:https://www.aiahonolulu.org/event/edi-meeting-3/2026-04-09/
LOCATION:Virtual (Zoom)
CATEGORIES:Committee Meetings
END:VEVENT
BEGIN:VEVENT
DTSTART;TZID=Pacific/Honolulu:20260409T173000
DTEND;TZID=Pacific/Honolulu:20260409T183000
DTSTAMP:20260425T083006
CREATED:20260304T235451Z
LAST-MODIFIED:20260324T223332Z
UID:10001290-1775755800-1775759400@www.aiahonolulu.org
SUMMARY:AIA Hawaii Leadership Panel
DESCRIPTION:AIAS Hawaii Career fair	\n\n	Join us at the Career Fair at the UHSoA Courtyard on February 19th from 12pm-3:00pm!
URL:https://www.aiahonolulu.org/event/leadership-panel/
LOCATION:AIA Honolulu Center for Architecture\, 828 Fort Street Mall\, Suite 100\, Honolulu\, HI\, 96813\, United States
CATEGORIES:Networking,Professional Development
GEO:21.3087965;-157.863266
X-APPLE-STRUCTURED-LOCATION;VALUE=URI;X-ADDRESS=AIA Honolulu Center for Architecture 828 Fort Street Mall Suite 100 Honolulu HI 96813 United States;X-APPLE-RADIUS=500;X-TITLE=828 Fort Street Mall\, Suite 100:geo:-157.863266,21.3087965
END:VEVENT
BEGIN:VEVENT
DTSTART;TZID=Pacific/Honolulu:20260410T180000
DTEND;TZID=Pacific/Honolulu:20260410T200000
DTSTAMP:20260425T083006
CREATED:20260126T214138Z
LAST-MODIFIED:20260202T211154Z
UID:10001250-1775844000-1775851200@www.aiahonolulu.org
SUMMARY:AIAS Beaux Arts Ball
DESCRIPTION:AIAS Hawaii Career fair	\n\n	Join us at the Career Fair at the UHSoA Courtyard on February 19th from 12pm-3:00pm!
URL:https://www.aiahonolulu.org/event/aias-beaux-arts-ball/
LOCATION:HI
CATEGORIES:EPD
END:VEVENT
BEGIN:VEVENT
DTSTART;TZID=Pacific/Honolulu:20260411T090000
DTEND;TZID=Pacific/Honolulu:20260411T110000
DTSTAMP:20260425T083006
CREATED:20251218T225651Z
LAST-MODIFIED:20251218T230016Z
UID:10001176-1775898000-1775905200@www.aiahonolulu.org
SUMMARY:AIA Honolulu Architectural Walking Tour of Downtown
DESCRIPTION:AIAS Hawaii Career fair	\n\n	Join us at the Career Fair at the UHSoA Courtyard on February 19th from 12pm-3:00pm!
URL:https://www.aiahonolulu.org/event/aia-honolulu-architectural-walking-tour-of-downtown-4-11-26/
LOCATION:AIA Honolulu Center for Architecture\, 828 Fort Street Mall\, Suite 100\, Honolulu\, HI\, 96813\, United States
CATEGORIES:Walking Tours
GEO:21.3087965;-157.863266
X-APPLE-STRUCTURED-LOCATION;VALUE=URI;X-ADDRESS=AIA Honolulu Center for Architecture 828 Fort Street Mall Suite 100 Honolulu HI 96813 United States;X-APPLE-RADIUS=500;X-TITLE=828 Fort Street Mall\, Suite 100:geo:-157.863266,21.3087965
END:VEVENT
BEGIN:VEVENT
DTSTART;TZID=Pacific/Honolulu:20260414T113000
DTEND;TZID=Pacific/Honolulu:20260414T143000
DTSTAMP:20260425T083007
CREATED:20260408T214850Z
LAST-MODIFIED:20260408T214850Z
UID:10001313-1776166200-1776177000@www.aiahonolulu.org
SUMMARY:Private Event
DESCRIPTION:AIAS Hawaii Career fair	\n\n	Join us at the Career Fair at the UHSoA Courtyard on February 19th from 12pm-3:00pm!
URL:https://www.aiahonolulu.org/event/private-event-35/
LOCATION:AIA Honolulu Center for Architecture\, 828 Fort Street Mall\, Suite 100\, Honolulu\, HI\, 96813\, United States
CATEGORIES:Private Event
GEO:21.3087965;-157.863266
X-APPLE-STRUCTURED-LOCATION;VALUE=URI;X-ADDRESS=AIA Honolulu Center for Architecture 828 Fort Street Mall Suite 100 Honolulu HI 96813 United States;X-APPLE-RADIUS=500;X-TITLE=828 Fort Street Mall\, Suite 100:geo:-157.863266,21.3087965
END:VEVENT
BEGIN:VEVENT
DTSTART;TZID=Pacific/Honolulu:20260416T113000
DTEND;TZID=Pacific/Honolulu:20260416T130000
DTSTAMP:20260425T083007
CREATED:20260408T234706Z
LAST-MODIFIED:20260409T002100Z
UID:10001314-1776339000-1776344400@www.aiahonolulu.org
SUMMARY:Fellows Lunch
DESCRIPTION:AIAS Hawaii Career fair	\n\n	Join us at the Career Fair at the UHSoA Courtyard on February 19th from 12pm-3:00pm!
URL:https://www.aiahonolulu.org/event/fellows-lunch/
LOCATION:The Pacific Club\, 1451 Queen Emma St\, Honolulu\, 96813\, United States
CATEGORIES:Networking
GEO:21.311328;-157.8541375
X-APPLE-STRUCTURED-LOCATION;VALUE=URI;X-ADDRESS=The Pacific Club 1451 Queen Emma St Honolulu 96813 United States;X-APPLE-RADIUS=500;X-TITLE=1451 Queen Emma St:geo:-157.8541375,21.311328
END:VEVENT
BEGIN:VEVENT
DTSTART;TZID=Pacific/Honolulu:20260416T120000
DTEND;TZID=Pacific/Honolulu:20260416T130000
DTSTAMP:20260425T083007
CREATED:20260127T014336Z
LAST-MODIFIED:20260127T014336Z
UID:10001259-1776340800-1776344400@www.aiahonolulu.org
SUMMARY:EPD Q2 Committee Meeting
DESCRIPTION:AIAS Hawaii Career fair	\n\n	Join us at the Career Fair at the UHSoA Courtyard on February 19th from 12pm-3:00pm!
URL:https://www.aiahonolulu.org/event/epd-q2-mtg/
LOCATION:AIA Honolulu Center for Architecture\, 828 Fort Street Mall\, Suite 100\, Honolulu\, HI\, 96813\, United States
CATEGORIES:Committee Meetings
GEO:21.3087965;-157.863266
X-APPLE-STRUCTURED-LOCATION;VALUE=URI;X-ADDRESS=AIA Honolulu Center for Architecture 828 Fort Street Mall Suite 100 Honolulu HI 96813 United States;X-APPLE-RADIUS=500;X-TITLE=828 Fort Street Mall\, Suite 100:geo:-157.863266,21.3087965
END:VEVENT
BEGIN:VEVENT
DTSTART;TZID=Pacific/Honolulu:20260417T120000
DTEND;TZID=Pacific/Honolulu:20260417T130000
DTSTAMP:20260425T083007
CREATED:20251230T194616Z
LAST-MODIFIED:20251230T194616Z
UID:10001198-1776427200-1776430800@www.aiahonolulu.org
SUMMARY:BOD Meeting
DESCRIPTION:AIAS Hawaii Career fair	\n\n	Join us at the Career Fair at the UHSoA Courtyard on February 19th from 12pm-3:00pm!
URL:https://www.aiahonolulu.org/event/bod-41726/
LOCATION:AIA Honolulu Center for Architecture\, 828 Fort Street Mall\, Suite 100\, Honolulu\, HI\, 96813\, United States
CATEGORIES:BOD Meetings
GEO:21.3087965;-157.863266
X-APPLE-STRUCTURED-LOCATION;VALUE=URI;X-ADDRESS=AIA Honolulu Center for Architecture 828 Fort Street Mall Suite 100 Honolulu HI 96813 United States;X-APPLE-RADIUS=500;X-TITLE=828 Fort Street Mall\, Suite 100:geo:-157.863266,21.3087965
END:VEVENT
BEGIN:VEVENT
DTSTART;TZID=Pacific/Honolulu:20260417T150000
DTEND;TZID=Pacific/Honolulu:20260417T180000
DTSTAMP:20260425T083007
CREATED:20260317T230139Z
LAST-MODIFIED:20260408T183544Z
UID:10001294-1776438000-1776448800@www.aiahonolulu.org
SUMMARY:Blueprints for Leadership: Session #5
DESCRIPTION:AIAS Hawaii Career fair	\n\n	Join us at the Career Fair at the UHSoA Courtyard on February 19th from 12pm-3:00pm!
URL:https://www.aiahonolulu.org/event/blueprints-5/
LOCATION:AIA Honolulu Center for Architecture\, 828 Fort Street Mall\, Suite 100\, Honolulu\, HI\, 96813\, United States
CATEGORIES:Professional Development
GEO:21.3087965;-157.863266
X-APPLE-STRUCTURED-LOCATION;VALUE=URI;X-ADDRESS=AIA Honolulu Center for Architecture 828 Fort Street Mall Suite 100 Honolulu HI 96813 United States;X-APPLE-RADIUS=500;X-TITLE=828 Fort Street Mall\, Suite 100:geo:-157.863266,21.3087965
END:VEVENT
BEGIN:VEVENT
DTSTART;TZID=Pacific/Honolulu:20260418T080000
DTEND;TZID=Pacific/Honolulu:20260418T113000
DTSTAMP:20260425T083007
CREATED:20260408T213540Z
LAST-MODIFIED:20260408T214417Z
UID:10001312-1776499200-1776511800@www.aiahonolulu.org
SUMMARY:Earth Day with Aloha Tree Alliance
DESCRIPTION:AIAS Hawaii Career fair	\n\n	Join us at the Career Fair at the UHSoA Courtyard on February 19th from 12pm-3:00pm!
URL:https://www.aiahonolulu.org/event/earth-ata-2/
LOCATION:Kuliʻouʻou Ridge Trail\, Kuli'ou'ou Valley Trail\, Honolulu\, HI\, 96821\, United States
CATEGORIES:Community Events
GEO:21.3073112;-157.7252782
X-APPLE-STRUCTURED-LOCATION;VALUE=URI;X-ADDRESS=Kuliʻouʻou Ridge Trail Kuli'ou'ou Valley Trail Honolulu HI 96821 United States;X-APPLE-RADIUS=500;X-TITLE=Kuli'ou'ou Valley Trail:geo:-157.7252782,21.3073112
END:VEVENT
BEGIN:VEVENT
DTSTART;TZID=Pacific/Honolulu:20260418T090000
DTEND;TZID=Pacific/Honolulu:20260418T110000
DTSTAMP:20260425T083007
CREATED:20251219T012856Z
LAST-MODIFIED:20251219T013727Z
UID:10001178-1776502800-1776510000@www.aiahonolulu.org
SUMMARY:AIA Honolulu Architectural Walking Tour of Chinatown
DESCRIPTION:AIAS Hawaii Career fair	\n\n	Join us at the Career Fair at the UHSoA Courtyard on February 19th from 12pm-3:00pm!
URL:https://www.aiahonolulu.org/event/aia-honolulu-architectural-walking-tour-of-chinatown-4-18-26/
LOCATION:AIA Honolulu Center for Architecture\, 828 Fort Street Mall\, Suite 100\, Honolulu\, HI\, 96813\, United States
CATEGORIES:Walking Tours
GEO:21.3087965;-157.863266
X-APPLE-STRUCTURED-LOCATION;VALUE=URI;X-ADDRESS=AIA Honolulu Center for Architecture 828 Fort Street Mall Suite 100 Honolulu HI 96813 United States;X-APPLE-RADIUS=500;X-TITLE=828 Fort Street Mall\, Suite 100:geo:-157.863266,21.3087965
END:VEVENT
BEGIN:VEVENT
DTSTART;TZID=Pacific/Honolulu:20260421T070000
DTEND;TZID=Pacific/Honolulu:20260421T140000
DTSTAMP:20260425T083007
CREATED:20260304T022554Z
LAST-MODIFIED:20260304T022554Z
UID:10001288-1776754800-1776780000@www.aiahonolulu.org
SUMMARY:Private Event
DESCRIPTION:AIAS Hawaii Career fair	\n\n	Join us at the Career Fair at the UHSoA Courtyard on February 19th from 12pm-3:00pm!
URL:https://www.aiahonolulu.org/event/private-event-31/
LOCATION:AIA Honolulu Center for Architecture\, 828 Fort Street Mall\, Suite 100\, Honolulu\, HI\, 96813\, United States
CATEGORIES:Private Event
GEO:21.3087965;-157.863266
X-APPLE-STRUCTURED-LOCATION;VALUE=URI;X-ADDRESS=AIA Honolulu Center for Architecture 828 Fort Street Mall Suite 100 Honolulu HI 96813 United States;X-APPLE-RADIUS=500;X-TITLE=828 Fort Street Mall\, Suite 100:geo:-157.863266,21.3087965
END:VEVENT
BEGIN:VEVENT
DTSTART;TZID=Pacific/Honolulu:20260422T113000
DTEND;TZID=Pacific/Honolulu:20260422T130000
DTSTAMP:20260425T083007
CREATED:20251230T201022Z
LAST-MODIFIED:20251230T201022Z
UID:10001208-1776857400-1776862800@www.aiahonolulu.org
SUMMARY:AIA HSC Board Meeting
DESCRIPTION:AIAS Hawaii Career fair	\n\n	Join us at the Career Fair at the UHSoA Courtyard on February 19th from 12pm-3:00pm!
URL:https://www.aiahonolulu.org/event/hscbod-42226/
LOCATION:AIA Honolulu Center for Architecture\, 828 Fort Street Mall\, Suite 100\, Honolulu\, HI\, 96813\, United States
CATEGORIES:BOD Meetings
GEO:21.3087965;-157.863266
X-APPLE-STRUCTURED-LOCATION;VALUE=URI;X-ADDRESS=AIA Honolulu Center for Architecture 828 Fort Street Mall Suite 100 Honolulu HI 96813 United States;X-APPLE-RADIUS=500;X-TITLE=828 Fort Street Mall\, Suite 100:geo:-157.863266,21.3087965
END:VEVENT
BEGIN:VEVENT
DTSTART;TZID=Pacific/Honolulu:20260423T190000
DTEND;TZID=Pacific/Honolulu:20260423T200000
DTSTAMP:20260425T083007
CREATED:20260126T214009Z
LAST-MODIFIED:20260424T182751Z
UID:10001249-1776970800-1776974400@www.aiahonolulu.org
SUMMARY:CANCELLED: EPD Open Study Session: Firm Types
DESCRIPTION:AIAS Hawaii Career fair	\n\n	Join us at the Career Fair at the UHSoA Courtyard on February 19th from 12pm-3:00pm!
URL:https://www.aiahonolulu.org/event/epd-open-study-session-firm-types/
LOCATION:Virtual (Microsoft Teams)
CATEGORIES:EPD
END:VEVENT
BEGIN:VEVENT
DTSTART;TZID=Pacific/Honolulu:20260424T120000
DTEND;TZID=Pacific/Honolulu:20260424T130000
DTSTAMP:20260425T083007
CREATED:20260115T014431Z
LAST-MODIFIED:20260422T213125Z
UID:10001237-1777032000-1777035600@www.aiahonolulu.org
SUMMARY:EDI Presentation with Mahlum Architects (HSW)
DESCRIPTION:AIAS Hawaii Career fair	\n\n	Join us at the Career Fair at the UHSoA Courtyard on February 19th from 12pm-3:00pm!
URL:https://www.aiahonolulu.org/event/edi-presentation-with-mahlum-architects/
LOCATION:Hybrid (Center for Architecture and Zoom)
CATEGORIES:Professional Development
END:VEVENT
BEGIN:VEVENT
DTSTART;TZID=Pacific/Honolulu:20260425T090000
DTEND;TZID=Pacific/Honolulu:20260425T110000
DTSTAMP:20260425T083007
CREATED:20251202T000137Z
LAST-MODIFIED:20260313T003022Z
UID:10001143-1777107600-1777114800@www.aiahonolulu.org
SUMMARY:AIA Honolulu Architectural Walking Tour of Downtown
DESCRIPTION:AIAS Hawaii Career fair	\n\n	Join us at the Career Fair at the UHSoA Courtyard on February 19th from 12pm-3:00pm!
URL:https://www.aiahonolulu.org/event/aia-honolulu-architectural-walking-tour-of-downtown-17/
LOCATION:AIA Honolulu Center for Architecture\, 828 Fort Street Mall\, Suite 100\, Honolulu\, HI\, 96813\, United States
CATEGORIES:Walking Tours
GEO:21.3087965;-157.863266
X-APPLE-STRUCTURED-LOCATION;VALUE=URI;X-ADDRESS=AIA Honolulu Center for Architecture 828 Fort Street Mall Suite 100 Honolulu HI 96813 United States;X-APPLE-RADIUS=500;X-TITLE=828 Fort Street Mall\, Suite 100:geo:-157.863266,21.3087965
END:VEVENT
BEGIN:VEVENT
DTSTART;TZID=Pacific/Honolulu:20260425T100000
DTEND;TZID=Pacific/Honolulu:20260425T140000
DTSTAMP:20260425T083007
CREATED:20260126T214244Z
LAST-MODIFIED:20260420T200525Z
UID:10001251-1777111200-1777125600@www.aiahonolulu.org
SUMMARY:AIAS Sandcastle Esquisse
DESCRIPTION:AIAS Hawaii Career fair	\n\n	Join us at the Career Fair at the UHSoA Courtyard on February 19th from 12pm-3:00pm!
URL:https://www.aiahonolulu.org/event/aias-sandcastle-esquisse/
LOCATION:HI
CATEGORIES:EPD
END:VEVENT
BEGIN:VEVENT
DTSTART;TZID=Pacific/Honolulu:20260427T000000
DTEND;TZID=Pacific/Honolulu:20260427T000000
DTSTAMP:20260425T083007
CREATED:20260115T234842Z
LAST-MODIFIED:20260115T234853Z
UID:10001239-1777248000-1777248000@www.aiahonolulu.org
SUMMARY:CANstruction: Can Orders Due
DESCRIPTION:AIAS Hawaii Career fair	\n\n	Join us at the Career Fair at the UHSoA Courtyard on February 19th from 12pm-3:00pm!
URL:https://www.aiahonolulu.org/event/canstruction-can-orders-due-2/
LOCATION:HI
END:VEVENT
BEGIN:VEVENT
DTSTART;TZID=Pacific/Honolulu:20260428T120000
DTEND;TZID=Pacific/Honolulu:20260428T130000
DTSTAMP:20260425T083007
CREATED:20260311T204033Z
LAST-MODIFIED:20260311T204550Z
UID:10001275-1777377600-1777381200@www.aiahonolulu.org
SUMMARY:Small Firm Exchange: Conferences and workshops to attend (National & International)
DESCRIPTION:AIAS Hawaii Career fair	\n\n	Join us at the Career Fair at the UHSoA Courtyard on February 19th from 12pm-3:00pm!
URL:https://www.aiahonolulu.org/event/small-firm-exchange-4-28-26/
LOCATION:Virtual (Zoom)
CATEGORIES:Community Events
END:VEVENT
BEGIN:VEVENT
DTSTART;TZID=Pacific/Honolulu:20260501T120000
DTEND;TZID=Pacific/Honolulu:20260501T130000
DTSTAMP:20260425T083007
CREATED:20251230T185254Z
LAST-MODIFIED:20251230T202510Z
UID:10001187-1777636800-1777640400@www.aiahonolulu.org
SUMMARY:Executive Committee Meeting
DESCRIPTION:AIAS Hawaii Career fair	\n\n	Join us at the Career Fair at the UHSoA Courtyard on February 19th from 12pm-3:00pm!
URL:https://www.aiahonolulu.org/event/excom-5126/
LOCATION:AIA Honolulu Center for Architecture\, 828 Fort Street Mall\, Suite 100\, Honolulu\, HI\, 96813\, United States
CATEGORIES:Committee Meetings
GEO:21.3087965;-157.863266
X-APPLE-STRUCTURED-LOCATION;VALUE=URI;X-ADDRESS=AIA Honolulu Center for Architecture 828 Fort Street Mall Suite 100 Honolulu HI 96813 United States;X-APPLE-RADIUS=500;X-TITLE=828 Fort Street Mall\, Suite 100:geo:-157.863266,21.3087965
END:VEVENT
BEGIN:VEVENT
DTSTART;TZID=Pacific/Honolulu:20260506T160000
DTEND;TZID=Pacific/Honolulu:20260506T170000
DTSTAMP:20260425T083007
CREATED:20250401T235546Z
LAST-MODIFIED:20250401T235944Z
UID:10000945-1778083200-1778086800@www.aiahonolulu.org
SUMMARY:AIA / GCA / ACECH Committee Meeting
DESCRIPTION:AIAS Hawaii Career fair	\n\n	Join us at the Career Fair at the UHSoA Courtyard on February 19th from 12pm-3:00pm!
URL:https://www.aiahonolulu.org/event/aia-gca-acech-committee-meeting-3/2026-05-06/
LOCATION:AIA Honolulu Center for Architecture\, 828 Fort Street Mall\, Suite 100\, Honolulu\, HI\, 96813\, United States
CATEGORIES:Committee Meetings
GEO:21.3087965;-157.863266
X-APPLE-STRUCTURED-LOCATION;VALUE=URI;X-ADDRESS=AIA Honolulu Center for Architecture 828 Fort Street Mall Suite 100 Honolulu HI 96813 United States;X-APPLE-RADIUS=500;X-TITLE=828 Fort Street Mall\, Suite 100:geo:-157.863266,21.3087965
END:VEVENT
BEGIN:VEVENT
DTSTART;TZID=Pacific/Honolulu:20260508T120000
DTEND;TZID=Pacific/Honolulu:20260508T130000
DTSTAMP:20260425T083007
CREATED:20260413T202627Z
LAST-MODIFIED:20260413T202627Z
UID:10001315-1778241600-1778245200@www.aiahonolulu.org
SUMMARY:AIA LAG Committee Meeting
DESCRIPTION:AIAS Hawaii Career fair	\n\n	Join us at the Career Fair at the UHSoA Courtyard on February 19th from 12pm-3:00pm!
URL:https://www.aiahonolulu.org/event/aia-lag-committee-meeting/
LOCATION:AIA Honolulu Center for Architecture\, 828 Fort Street Mall\, Suite 100\, Honolulu\, HI\, 96813\, United States
CATEGORIES:Committee Meetings
GEO:21.3087965;-157.863266
X-APPLE-STRUCTURED-LOCATION;VALUE=URI;X-ADDRESS=AIA Honolulu Center for Architecture 828 Fort Street Mall Suite 100 Honolulu HI 96813 United States;X-APPLE-RADIUS=500;X-TITLE=828 Fort Street Mall\, Suite 100:geo:-157.863266,21.3087965
END:VEVENT
BEGIN:VEVENT
DTSTART;TZID=Pacific/Honolulu:20260508T170000
DTEND;TZID=Pacific/Honolulu:20260508T180000
DTSTAMP:20260425T083007
CREATED:20260126T214449Z
LAST-MODIFIED:20260126T214449Z
UID:10001253-1778259600-1778263200@www.aiahonolulu.org
SUMMARY:AIAS Board Turnover
DESCRIPTION:AIAS Hawaii Career fair	\n\n	Join us at the Career Fair at the UHSoA Courtyard on February 19th from 12pm-3:00pm!
URL:https://www.aiahonolulu.org/event/aias-board-turnover/
LOCATION:HI
CATEGORIES:EPD
END:VEVENT
BEGIN:VEVENT
DTSTART;TZID=Pacific/Honolulu:20260508T180000
DTEND;TZID=Pacific/Honolulu:20260508T200000
DTSTAMP:20260425T083007
CREATED:20260126T214351Z
LAST-MODIFIED:20260421T021608Z
UID:10001252-1778263200-1778270400@www.aiahonolulu.org
SUMMARY:EPC/EPD Pau Hana
DESCRIPTION:AIAS Hawaii Career fair	\n\n	Join us at the Career Fair at the UHSoA Courtyard on February 19th from 12pm-3:00pm!
URL:https://www.aiahonolulu.org/event/epd-pau-hana/
LOCATION:WCIT\, 725 Kapiolani Blvd\, Honolulu\, HI\, 96813\, United States
CATEGORIES:EPD,Networking
GEO:21.3004224;-157.8556417
X-APPLE-STRUCTURED-LOCATION;VALUE=URI;X-ADDRESS=WCIT 725 Kapiolani Blvd Honolulu HI 96813 United States;X-APPLE-RADIUS=500;X-TITLE=725 Kapiolani Blvd:geo:-157.8556417,21.3004224
END:VEVENT
BEGIN:VEVENT
DTSTART;TZID=Pacific/Honolulu:20260509T090000
DTEND;TZID=Pacific/Honolulu:20260509T110000
DTSTAMP:20260425T083007
CREATED:20251203T234150Z
LAST-MODIFIED:20251203T235708Z
UID:10001152-1778317200-1778324400@www.aiahonolulu.org
SUMMARY:AIA Honolulu Architectural Walking Tour of Downtown
DESCRIPTION:AIAS Hawaii Career fair	\n\n	Join us at the Career Fair at the UHSoA Courtyard on February 19th from 12pm-3:00pm!
URL:https://www.aiahonolulu.org/event/aia-honolulu-architectural-walking-tour-of-downtown-5926/
LOCATION:AIA Honolulu Center for Architecture\, 828 Fort Street Mall\, Suite 100\, Honolulu\, HI\, 96813\, United States
CATEGORIES:Walking Tours
ORGANIZER;CN="AIA Honolulu":MAILTO:contact@aiahonolulu.org
GEO:21.3087965;-157.863266
X-APPLE-STRUCTURED-LOCATION;VALUE=URI;X-ADDRESS=AIA Honolulu Center for Architecture 828 Fort Street Mall Suite 100 Honolulu HI 96813 United States;X-APPLE-RADIUS=500;X-TITLE=828 Fort Street Mall\, Suite 100:geo:-157.863266,21.3087965
END:VEVENT
BEGIN:VEVENT
DTSTART;TZID=Pacific/Honolulu:20260512T170000
DTEND;TZID=Pacific/Honolulu:20260512T190000
DTSTAMP:20260425T083007
CREATED:20250811T232612Z
LAST-MODIFIED:20260415T012522Z
UID:10001096-1778605200-1778612400@www.aiahonolulu.org
SUMMARY:Energy Modeling Series #3: Hands-On Energy Modeling Workshop
DESCRIPTION:AIAS Hawaii Career fair	\n\n	Join us at the Career Fair at the UHSoA Courtyard on February 19th from 12pm-3:00pm!
URL:https://www.aiahonolulu.org/event/energy-modeling-series-3-3/
LOCATION:Arkance Classroom – Gold Bond Bldg.\, 677 Ala Moana Blvd\, Room 1003\, Honolulu\, 96813\, United States
CATEGORIES:Professional Development
GEO:21.297441;-157.862306
X-APPLE-STRUCTURED-LOCATION;VALUE=URI;X-ADDRESS=Arkance Classroom – Gold Bond Bldg. 677 Ala Moana Blvd Room 1003 Honolulu 96813 United States;X-APPLE-RADIUS=500;X-TITLE=677 Ala Moana Blvd\, Room 1003:geo:-157.862306,21.297441
END:VEVENT
BEGIN:VEVENT
DTSTART;TZID=Pacific/Honolulu:20260513T170000
DTEND;TZID=Pacific/Honolulu:20260513T190000
DTSTAMP:20260425T083007
CREATED:20260303T210023Z
LAST-MODIFIED:20260303T210044Z
UID:10001285-1778691600-1778698800@www.aiahonolulu.org
SUMMARY:UH MArch/BEnvD Capstone Final Reception
DESCRIPTION:AIAS Hawaii Career fair	\n\n	Join us at the Career Fair at the UHSoA Courtyard on February 19th from 12pm-3:00pm!
URL:https://www.aiahonolulu.org/event/uh-reception/
LOCATION:HI
CATEGORIES:Community Events
END:VEVENT
BEGIN:VEVENT
DTSTART;VALUE=DATE:20260514
DTEND;VALUE=DATE:20260523
DTSTAMP:20260425T083007
CREATED:20260303T210213Z
LAST-MODIFIED:20260303T210213Z
UID:10001286-1778716800-1779494399@www.aiahonolulu.org
SUMMARY:Student Work Exhibit
DESCRIPTION:AIAS Hawaii Career fair	\n\n	Join us at the Career Fair at the UHSoA Courtyard on February 19th from 12pm-3:00pm!
URL:https://www.aiahonolulu.org/event/exhibit-students/
LOCATION:HI
CATEGORIES:Community Events
END:VEVENT
BEGIN:VEVENT
DTSTART;TZID=Pacific/Honolulu:20260514T120000
DTEND;TZID=Pacific/Honolulu:20260514T130000
DTSTAMP:20260425T083007
CREATED:20250709T210157Z
LAST-MODIFIED:20251230T203141Z
UID:10001219-1778760000-1778763600@www.aiahonolulu.org
SUMMARY:EDI Meeting
DESCRIPTION:AIAS Hawaii Career fair	\n\n	Join us at the Career Fair at the UHSoA Courtyard on February 19th from 12pm-3:00pm!
URL:https://www.aiahonolulu.org/event/edi-meeting-3/2026-05-14/
LOCATION:Virtual (Zoom)
CATEGORIES:Committee Meetings
END:VEVENT
BEGIN:VEVENT
DTSTART;TZID=Pacific/Honolulu:20260515T120000
DTEND;TZID=Pacific/Honolulu:20260515T130000
DTSTAMP:20260425T083007
CREATED:20251230T194655Z
LAST-MODIFIED:20251230T194655Z
UID:10001199-1778846400-1778850000@www.aiahonolulu.org
SUMMARY:BOD Meeting
DESCRIPTION:AIAS Hawaii Career fair	\n\n	Join us at the Career Fair at the UHSoA Courtyard on February 19th from 12pm-3:00pm!
URL:https://www.aiahonolulu.org/event/bod-51526/
LOCATION:AIA Honolulu Center for Architecture\, 828 Fort Street Mall\, Suite 100\, Honolulu\, HI\, 96813\, United States
CATEGORIES:BOD Meetings
GEO:21.3087965;-157.863266
X-APPLE-STRUCTURED-LOCATION;VALUE=URI;X-ADDRESS=AIA Honolulu Center for Architecture 828 Fort Street Mall Suite 100 Honolulu HI 96813 United States;X-APPLE-RADIUS=500;X-TITLE=828 Fort Street Mall\, Suite 100:geo:-157.863266,21.3087965
END:VEVENT
END:VCALENDAR