BEGIN:VCALENDAR
VERSION:2.0
PRODID:-//AIA Honolulu - ECPv6.15.20//NONSGML v1.0//EN
CALSCALE:GREGORIAN
METHOD:PUBLISH
X-ORIGINAL-URL:https://www.aiahonolulu.org
X-WR-CALDESC:Events for AIA Honolulu
REFRESH-INTERVAL;VALUE=DURATION:PT1H
X-Robots-Tag:noindex
X-PUBLISHED-TTL:PT1H
BEGIN:VTIMEZONE
TZID:Pacific/Honolulu
BEGIN:STANDARD
TZOFFSETFROM:-1000
TZOFFSETTO:-1000
TZNAME:HST
DTSTART:20250101T000000
END:STANDARD
END:VTIMEZONE
BEGIN:VEVENT
DTSTART;TZID=Pacific/Honolulu:20261218T120000
DTEND;TZID=Pacific/Honolulu:20261218T130000
DTSTAMP:20260422T124034
CREATED:20251230T195452Z
LAST-MODIFIED:20251230T195452Z
UID:10001206-1797595200-1797598800@www.aiahonolulu.org
SUMMARY:BOD Meeting
DESCRIPTION:
URL:https://www.aiahonolulu.org/event/bod-121826/
LOCATION:AIA Honolulu Center for Architecture\, 828 Fort Street Mall\, Suite 100\, Honolulu\, HI\, 96813\, United States
CATEGORIES:BOD Meetings
GEO:21.3087965;-157.863266
X-APPLE-STRUCTURED-LOCATION;VALUE=URI;X-ADDRESS=AIA Honolulu Center for Architecture 828 Fort Street Mall Suite 100 Honolulu HI 96813 United States;X-APPLE-RADIUS=500;X-TITLE=828 Fort Street Mall\, Suite 100:geo:-157.863266,21.3087965
END:VEVENT
BEGIN:VEVENT
DTSTART;TZID=Pacific/Honolulu:20261222T120000
DTEND;TZID=Pacific/Honolulu:20261222T130000
DTSTAMP:20260422T124034
CREATED:20260311T212927Z
LAST-MODIFIED:20260311T212927Z
UID:10001291-1797940800-1797944400@www.aiahonolulu.org
SUMMARY:Small Firm Exchange: Construction Drawing sharing
DESCRIPTION:Small Firm Exchange (SFx)\nThe Small Firm Exchange will meet monthly every fourth Tuesday from 12pm – 1pm\, unless noted. \nSFX focuses on engaging small firms to support the professional and business development\, leadership\, and growth of the many members of existing and aspiring small practices throughout the chapter. \nRSVP: RSVP for the SFx meeting below. \n\n\n\n                \n                        \n                            RSVP for 2026 SFx\n                             \n							"*" indicates required fields \n                        \n                        Name*\n                            \n                            \n                                                    \n                                                    First\n                                                \n                            \n                            \n                                                    \n                                                    Last\n                                                \n                            \n                        AIA DesignationAIAAssoc. AIAAIA MEFAIANoneFirm/OrganizationEmail*
URL:https://www.aiahonolulu.org/event/12-22-26/
LOCATION:Virtual (Zoom)
CATEGORIES:Professional Development
END:VEVENT
BEGIN:VEVENT
DTSTART;VALUE=DATE:20261224
DTEND;VALUE=DATE:20261226
DTSTAMP:20260422T124034
CREATED:20251209T005859Z
LAST-MODIFIED:20251209T010327Z
UID:10001165-1798070400-1798243199@www.aiahonolulu.org
SUMMARY:Holiday - Christmas
DESCRIPTION:
URL:https://www.aiahonolulu.org/event/holiday-christmas/
LOCATION:HI
END:VEVENT
BEGIN:VEVENT
DTSTART;TZID=Pacific/Honolulu:20270106T160000
DTEND;TZID=Pacific/Honolulu:20270106T170000
DTSTAMP:20260422T124034
CREATED:20250401T235546Z
LAST-MODIFIED:20250401T235944Z
UID:10000953-1799251200-1799254800@www.aiahonolulu.org
SUMMARY:AIA / GCA / ACECH Committee Meeting
DESCRIPTION:
URL:https://www.aiahonolulu.org/event/aia-gca-acech-committee-meeting-3/2027-01-06/
LOCATION:AIA Honolulu Center for Architecture\, 828 Fort Street Mall\, Suite 100\, Honolulu\, HI\, 96813\, United States
CATEGORIES:Committee Meetings
GEO:21.3087965;-157.863266
X-APPLE-STRUCTURED-LOCATION;VALUE=URI;X-ADDRESS=AIA Honolulu Center for Architecture 828 Fort Street Mall Suite 100 Honolulu HI 96813 United States;X-APPLE-RADIUS=500;X-TITLE=828 Fort Street Mall\, Suite 100:geo:-157.863266,21.3087965
END:VEVENT
BEGIN:VEVENT
DTSTART;TZID=Pacific/Honolulu:20270203T160000
DTEND;TZID=Pacific/Honolulu:20270203T170000
DTSTAMP:20260422T124034
CREATED:20250401T235546Z
LAST-MODIFIED:20250401T235944Z
UID:10000954-1801670400-1801674000@www.aiahonolulu.org
SUMMARY:AIA / GCA / ACECH Committee Meeting
DESCRIPTION:
URL:https://www.aiahonolulu.org/event/aia-gca-acech-committee-meeting-3/2027-02-03/
LOCATION:AIA Honolulu Center for Architecture\, 828 Fort Street Mall\, Suite 100\, Honolulu\, HI\, 96813\, United States
CATEGORIES:Committee Meetings
GEO:21.3087965;-157.863266
X-APPLE-STRUCTURED-LOCATION;VALUE=URI;X-ADDRESS=AIA Honolulu Center for Architecture 828 Fort Street Mall Suite 100 Honolulu HI 96813 United States;X-APPLE-RADIUS=500;X-TITLE=828 Fort Street Mall\, Suite 100:geo:-157.863266,21.3087965
END:VEVENT
BEGIN:VEVENT
DTSTART;TZID=Pacific/Honolulu:20270303T160000
DTEND;TZID=Pacific/Honolulu:20270303T170000
DTSTAMP:20260422T124034
CREATED:20250401T235546Z
LAST-MODIFIED:20250401T235944Z
UID:10000955-1804089600-1804093200@www.aiahonolulu.org
SUMMARY:AIA / GCA / ACECH Committee Meeting
DESCRIPTION:
URL:https://www.aiahonolulu.org/event/aia-gca-acech-committee-meeting-3/2027-03-03/
LOCATION:AIA Honolulu Center for Architecture\, 828 Fort Street Mall\, Suite 100\, Honolulu\, HI\, 96813\, United States
CATEGORIES:Committee Meetings
GEO:21.3087965;-157.863266
X-APPLE-STRUCTURED-LOCATION;VALUE=URI;X-ADDRESS=AIA Honolulu Center for Architecture 828 Fort Street Mall Suite 100 Honolulu HI 96813 United States;X-APPLE-RADIUS=500;X-TITLE=828 Fort Street Mall\, Suite 100:geo:-157.863266,21.3087965
END:VEVENT
BEGIN:VEVENT
DTSTART;TZID=Pacific/Honolulu:20270407T160000
DTEND;TZID=Pacific/Honolulu:20270407T170000
DTSTAMP:20260422T124034
CREATED:20250401T235546Z
LAST-MODIFIED:20250401T235944Z
UID:10000956-1807113600-1807117200@www.aiahonolulu.org
SUMMARY:AIA / GCA / ACECH Committee Meeting
DESCRIPTION:
URL:https://www.aiahonolulu.org/event/aia-gca-acech-committee-meeting-3/2027-04-07/
LOCATION:AIA Honolulu Center for Architecture\, 828 Fort Street Mall\, Suite 100\, Honolulu\, HI\, 96813\, United States
CATEGORIES:Committee Meetings
GEO:21.3087965;-157.863266
X-APPLE-STRUCTURED-LOCATION;VALUE=URI;X-ADDRESS=AIA Honolulu Center for Architecture 828 Fort Street Mall Suite 100 Honolulu HI 96813 United States;X-APPLE-RADIUS=500;X-TITLE=828 Fort Street Mall\, Suite 100:geo:-157.863266,21.3087965
END:VEVENT
BEGIN:VEVENT
DTSTART;TZID=Pacific/Honolulu:20270505T160000
DTEND;TZID=Pacific/Honolulu:20270505T170000
DTSTAMP:20260422T124034
CREATED:20250401T235546Z
LAST-MODIFIED:20250401T235944Z
UID:10000957-1809532800-1809536400@www.aiahonolulu.org
SUMMARY:AIA / GCA / ACECH Committee Meeting
DESCRIPTION:
URL:https://www.aiahonolulu.org/event/aia-gca-acech-committee-meeting-3/2027-05-05/
LOCATION:AIA Honolulu Center for Architecture\, 828 Fort Street Mall\, Suite 100\, Honolulu\, HI\, 96813\, United States
CATEGORIES:Committee Meetings
GEO:21.3087965;-157.863266
X-APPLE-STRUCTURED-LOCATION;VALUE=URI;X-ADDRESS=AIA Honolulu Center for Architecture 828 Fort Street Mall Suite 100 Honolulu HI 96813 United States;X-APPLE-RADIUS=500;X-TITLE=828 Fort Street Mall\, Suite 100:geo:-157.863266,21.3087965
END:VEVENT
BEGIN:VEVENT
DTSTART;TZID=Pacific/Honolulu:20270602T160000
DTEND;TZID=Pacific/Honolulu:20270602T170000
DTSTAMP:20260422T124034
CREATED:20250401T235546Z
LAST-MODIFIED:20250401T235944Z
UID:10000958-1811952000-1811955600@www.aiahonolulu.org
SUMMARY:AIA / GCA / ACECH Committee Meeting
DESCRIPTION:
URL:https://www.aiahonolulu.org/event/aia-gca-acech-committee-meeting-3/2027-06-02/
LOCATION:AIA Honolulu Center for Architecture\, 828 Fort Street Mall\, Suite 100\, Honolulu\, HI\, 96813\, United States
CATEGORIES:Committee Meetings
GEO:21.3087965;-157.863266
X-APPLE-STRUCTURED-LOCATION;VALUE=URI;X-ADDRESS=AIA Honolulu Center for Architecture 828 Fort Street Mall Suite 100 Honolulu HI 96813 United States;X-APPLE-RADIUS=500;X-TITLE=828 Fort Street Mall\, Suite 100:geo:-157.863266,21.3087965
END:VEVENT
BEGIN:VEVENT
DTSTART;TZID=Pacific/Honolulu:20270707T160000
DTEND;TZID=Pacific/Honolulu:20270707T170000
DTSTAMP:20260422T124034
CREATED:20250401T235546Z
LAST-MODIFIED:20250401T235944Z
UID:10000959-1814976000-1814979600@www.aiahonolulu.org
SUMMARY:AIA / GCA / ACECH Committee Meeting
DESCRIPTION:
URL:https://www.aiahonolulu.org/event/aia-gca-acech-committee-meeting-3/2027-07-07/
LOCATION:AIA Honolulu Center for Architecture\, 828 Fort Street Mall\, Suite 100\, Honolulu\, HI\, 96813\, United States
CATEGORIES:Committee Meetings
GEO:21.3087965;-157.863266
X-APPLE-STRUCTURED-LOCATION;VALUE=URI;X-ADDRESS=AIA Honolulu Center for Architecture 828 Fort Street Mall Suite 100 Honolulu HI 96813 United States;X-APPLE-RADIUS=500;X-TITLE=828 Fort Street Mall\, Suite 100:geo:-157.863266,21.3087965
END:VEVENT
BEGIN:VEVENT
DTSTART;TZID=Pacific/Honolulu:20270804T160000
DTEND;TZID=Pacific/Honolulu:20270804T170000
DTSTAMP:20260422T124034
CREATED:20250401T235546Z
LAST-MODIFIED:20250401T235944Z
UID:10000960-1817395200-1817398800@www.aiahonolulu.org
SUMMARY:AIA / GCA / ACECH Committee Meeting
DESCRIPTION:
URL:https://www.aiahonolulu.org/event/aia-gca-acech-committee-meeting-3/2027-08-04/
LOCATION:AIA Honolulu Center for Architecture\, 828 Fort Street Mall\, Suite 100\, Honolulu\, HI\, 96813\, United States
CATEGORIES:Committee Meetings
GEO:21.3087965;-157.863266
X-APPLE-STRUCTURED-LOCATION;VALUE=URI;X-ADDRESS=AIA Honolulu Center for Architecture 828 Fort Street Mall Suite 100 Honolulu HI 96813 United States;X-APPLE-RADIUS=500;X-TITLE=828 Fort Street Mall\, Suite 100:geo:-157.863266,21.3087965
END:VEVENT
BEGIN:VEVENT
DTSTART;TZID=Pacific/Honolulu:20270901T160000
DTEND;TZID=Pacific/Honolulu:20270901T170000
DTSTAMP:20260422T124034
CREATED:20250401T235546Z
LAST-MODIFIED:20250401T235944Z
UID:10000961-1819814400-1819818000@www.aiahonolulu.org
SUMMARY:AIA / GCA / ACECH Committee Meeting
DESCRIPTION:
URL:https://www.aiahonolulu.org/event/aia-gca-acech-committee-meeting-3/2027-09-01/
LOCATION:AIA Honolulu Center for Architecture\, 828 Fort Street Mall\, Suite 100\, Honolulu\, HI\, 96813\, United States
CATEGORIES:Committee Meetings
GEO:21.3087965;-157.863266
X-APPLE-STRUCTURED-LOCATION;VALUE=URI;X-ADDRESS=AIA Honolulu Center for Architecture 828 Fort Street Mall Suite 100 Honolulu HI 96813 United States;X-APPLE-RADIUS=500;X-TITLE=828 Fort Street Mall\, Suite 100:geo:-157.863266,21.3087965
END:VEVENT
BEGIN:VEVENT
DTSTART;TZID=Pacific/Honolulu:20271006T160000
DTEND;TZID=Pacific/Honolulu:20271006T170000
DTSTAMP:20260422T124034
CREATED:20250401T235546Z
LAST-MODIFIED:20250401T235944Z
UID:10000962-1822838400-1822842000@www.aiahonolulu.org
SUMMARY:AIA / GCA / ACECH Committee Meeting
DESCRIPTION:
URL:https://www.aiahonolulu.org/event/aia-gca-acech-committee-meeting-3/2027-10-06/
LOCATION:AIA Honolulu Center for Architecture\, 828 Fort Street Mall\, Suite 100\, Honolulu\, HI\, 96813\, United States
CATEGORIES:Committee Meetings
GEO:21.3087965;-157.863266
X-APPLE-STRUCTURED-LOCATION;VALUE=URI;X-ADDRESS=AIA Honolulu Center for Architecture 828 Fort Street Mall Suite 100 Honolulu HI 96813 United States;X-APPLE-RADIUS=500;X-TITLE=828 Fort Street Mall\, Suite 100:geo:-157.863266,21.3087965
END:VEVENT
BEGIN:VEVENT
DTSTART;TZID=Pacific/Honolulu:20271103T160000
DTEND;TZID=Pacific/Honolulu:20271103T170000
DTSTAMP:20260422T124034
CREATED:20250401T235546Z
LAST-MODIFIED:20250401T235944Z
UID:10000963-1825257600-1825261200@www.aiahonolulu.org
SUMMARY:AIA / GCA / ACECH Committee Meeting
DESCRIPTION:
URL:https://www.aiahonolulu.org/event/aia-gca-acech-committee-meeting-3/2027-11-03/
LOCATION:AIA Honolulu Center for Architecture\, 828 Fort Street Mall\, Suite 100\, Honolulu\, HI\, 96813\, United States
CATEGORIES:Committee Meetings
GEO:21.3087965;-157.863266
X-APPLE-STRUCTURED-LOCATION;VALUE=URI;X-ADDRESS=AIA Honolulu Center for Architecture 828 Fort Street Mall Suite 100 Honolulu HI 96813 United States;X-APPLE-RADIUS=500;X-TITLE=828 Fort Street Mall\, Suite 100:geo:-157.863266,21.3087965
END:VEVENT
BEGIN:VEVENT
DTSTART;TZID=Pacific/Honolulu:20271201T160000
DTEND;TZID=Pacific/Honolulu:20271201T170000
DTSTAMP:20260422T124034
CREATED:20250401T235546Z
LAST-MODIFIED:20250401T235944Z
UID:10000964-1827676800-1827680400@www.aiahonolulu.org
SUMMARY:AIA / GCA / ACECH Committee Meeting
DESCRIPTION:
URL:https://www.aiahonolulu.org/event/aia-gca-acech-committee-meeting-3/2027-12-01/
LOCATION:AIA Honolulu Center for Architecture\, 828 Fort Street Mall\, Suite 100\, Honolulu\, HI\, 96813\, United States
CATEGORIES:Committee Meetings
GEO:21.3087965;-157.863266
X-APPLE-STRUCTURED-LOCATION;VALUE=URI;X-ADDRESS=AIA Honolulu Center for Architecture 828 Fort Street Mall Suite 100 Honolulu HI 96813 United States;X-APPLE-RADIUS=500;X-TITLE=828 Fort Street Mall\, Suite 100:geo:-157.863266,21.3087965
END:VEVENT
BEGIN:VEVENT
DTSTART;TZID=Pacific/Honolulu:20280105T160000
DTEND;TZID=Pacific/Honolulu:20280105T170000
DTSTAMP:20260422T124034
CREATED:20250401T235546Z
LAST-MODIFIED:20250401T235944Z
UID:10000965-1830700800-1830704400@www.aiahonolulu.org
SUMMARY:AIA / GCA / ACECH Committee Meeting
DESCRIPTION:
URL:https://www.aiahonolulu.org/event/aia-gca-acech-committee-meeting-3/2028-01-05/
LOCATION:AIA Honolulu Center for Architecture\, 828 Fort Street Mall\, Suite 100\, Honolulu\, HI\, 96813\, United States
CATEGORIES:Committee Meetings
GEO:21.3087965;-157.863266
X-APPLE-STRUCTURED-LOCATION;VALUE=URI;X-ADDRESS=AIA Honolulu Center for Architecture 828 Fort Street Mall Suite 100 Honolulu HI 96813 United States;X-APPLE-RADIUS=500;X-TITLE=828 Fort Street Mall\, Suite 100:geo:-157.863266,21.3087965
END:VEVENT
BEGIN:VEVENT
DTSTART;TZID=Pacific/Honolulu:20280202T160000
DTEND;TZID=Pacific/Honolulu:20280202T170000
DTSTAMP:20260422T124034
CREATED:20250401T235546Z
LAST-MODIFIED:20250401T235944Z
UID:10000966-1833120000-1833123600@www.aiahonolulu.org
SUMMARY:AIA / GCA / ACECH Committee Meeting
DESCRIPTION:
URL:https://www.aiahonolulu.org/event/aia-gca-acech-committee-meeting-3/2028-02-02/
LOCATION:AIA Honolulu Center for Architecture\, 828 Fort Street Mall\, Suite 100\, Honolulu\, HI\, 96813\, United States
CATEGORIES:Committee Meetings
GEO:21.3087965;-157.863266
X-APPLE-STRUCTURED-LOCATION;VALUE=URI;X-ADDRESS=AIA Honolulu Center for Architecture 828 Fort Street Mall Suite 100 Honolulu HI 96813 United States;X-APPLE-RADIUS=500;X-TITLE=828 Fort Street Mall\, Suite 100:geo:-157.863266,21.3087965
END:VEVENT
BEGIN:VEVENT
DTSTART;TZID=Pacific/Honolulu:20280301T160000
DTEND;TZID=Pacific/Honolulu:20280301T170000
DTSTAMP:20260422T124034
CREATED:20250401T235546Z
LAST-MODIFIED:20250401T235944Z
UID:10000967-1835539200-1835542800@www.aiahonolulu.org
SUMMARY:AIA / GCA / ACECH Committee Meeting
DESCRIPTION:
URL:https://www.aiahonolulu.org/event/aia-gca-acech-committee-meeting-3/2028-03-01/
LOCATION:AIA Honolulu Center for Architecture\, 828 Fort Street Mall\, Suite 100\, Honolulu\, HI\, 96813\, United States
CATEGORIES:Committee Meetings
GEO:21.3087965;-157.863266
X-APPLE-STRUCTURED-LOCATION;VALUE=URI;X-ADDRESS=AIA Honolulu Center for Architecture 828 Fort Street Mall Suite 100 Honolulu HI 96813 United States;X-APPLE-RADIUS=500;X-TITLE=828 Fort Street Mall\, Suite 100:geo:-157.863266,21.3087965
END:VEVENT
BEGIN:VEVENT
DTSTART;TZID=Pacific/Honolulu:20280405T160000
DTEND;TZID=Pacific/Honolulu:20280405T170000
DTSTAMP:20260422T124034
CREATED:20250401T235546Z
LAST-MODIFIED:20250401T235944Z
UID:10000968-1838563200-1838566800@www.aiahonolulu.org
SUMMARY:AIA / GCA / ACECH Committee Meeting
DESCRIPTION:
URL:https://www.aiahonolulu.org/event/aia-gca-acech-committee-meeting-3/2028-04-05/
LOCATION:AIA Honolulu Center for Architecture\, 828 Fort Street Mall\, Suite 100\, Honolulu\, HI\, 96813\, United States
CATEGORIES:Committee Meetings
GEO:21.3087965;-157.863266
X-APPLE-STRUCTURED-LOCATION;VALUE=URI;X-ADDRESS=AIA Honolulu Center for Architecture 828 Fort Street Mall Suite 100 Honolulu HI 96813 United States;X-APPLE-RADIUS=500;X-TITLE=828 Fort Street Mall\, Suite 100:geo:-157.863266,21.3087965
END:VEVENT
BEGIN:VEVENT
DTSTART;TZID=Pacific/Honolulu:20280503T160000
DTEND;TZID=Pacific/Honolulu:20280503T170000
DTSTAMP:20260422T124034
CREATED:20250401T235546Z
LAST-MODIFIED:20250401T235944Z
UID:10000969-1840982400-1840986000@www.aiahonolulu.org
SUMMARY:AIA / GCA / ACECH Committee Meeting
DESCRIPTION:
URL:https://www.aiahonolulu.org/event/aia-gca-acech-committee-meeting-3/2028-05-03/
LOCATION:AIA Honolulu Center for Architecture\, 828 Fort Street Mall\, Suite 100\, Honolulu\, HI\, 96813\, United States
CATEGORIES:Committee Meetings
GEO:21.3087965;-157.863266
X-APPLE-STRUCTURED-LOCATION;VALUE=URI;X-ADDRESS=AIA Honolulu Center for Architecture 828 Fort Street Mall Suite 100 Honolulu HI 96813 United States;X-APPLE-RADIUS=500;X-TITLE=828 Fort Street Mall\, Suite 100:geo:-157.863266,21.3087965
END:VEVENT
BEGIN:VEVENT
DTSTART;TZID=Pacific/Honolulu:20280607T160000
DTEND;TZID=Pacific/Honolulu:20280607T170000
DTSTAMP:20260422T124034
CREATED:20250401T235546Z
LAST-MODIFIED:20250401T235944Z
UID:10000970-1844006400-1844010000@www.aiahonolulu.org
SUMMARY:AIA / GCA / ACECH Committee Meeting
DESCRIPTION:
URL:https://www.aiahonolulu.org/event/aia-gca-acech-committee-meeting-3/2028-06-07/
LOCATION:AIA Honolulu Center for Architecture\, 828 Fort Street Mall\, Suite 100\, Honolulu\, HI\, 96813\, United States
CATEGORIES:Committee Meetings
GEO:21.3087965;-157.863266
X-APPLE-STRUCTURED-LOCATION;VALUE=URI;X-ADDRESS=AIA Honolulu Center for Architecture 828 Fort Street Mall Suite 100 Honolulu HI 96813 United States;X-APPLE-RADIUS=500;X-TITLE=828 Fort Street Mall\, Suite 100:geo:-157.863266,21.3087965
END:VEVENT
BEGIN:VEVENT
DTSTART;TZID=Pacific/Honolulu:20280705T160000
DTEND;TZID=Pacific/Honolulu:20280705T170000
DTSTAMP:20260422T124034
CREATED:20250401T235546Z
LAST-MODIFIED:20250401T235944Z
UID:10000971-1846425600-1846429200@www.aiahonolulu.org
SUMMARY:AIA / GCA / ACECH Committee Meeting
DESCRIPTION:
URL:https://www.aiahonolulu.org/event/aia-gca-acech-committee-meeting-3/2028-07-05/
LOCATION:AIA Honolulu Center for Architecture\, 828 Fort Street Mall\, Suite 100\, Honolulu\, HI\, 96813\, United States
CATEGORIES:Committee Meetings
GEO:21.3087965;-157.863266
X-APPLE-STRUCTURED-LOCATION;VALUE=URI;X-ADDRESS=AIA Honolulu Center for Architecture 828 Fort Street Mall Suite 100 Honolulu HI 96813 United States;X-APPLE-RADIUS=500;X-TITLE=828 Fort Street Mall\, Suite 100:geo:-157.863266,21.3087965
END:VEVENT
BEGIN:VEVENT
DTSTART;TZID=Pacific/Honolulu:20280802T160000
DTEND;TZID=Pacific/Honolulu:20280802T170000
DTSTAMP:20260422T124034
CREATED:20250401T235546Z
LAST-MODIFIED:20250401T235944Z
UID:10000972-1848844800-1848848400@www.aiahonolulu.org
SUMMARY:AIA / GCA / ACECH Committee Meeting
DESCRIPTION:
URL:https://www.aiahonolulu.org/event/aia-gca-acech-committee-meeting-3/2028-08-02/
LOCATION:AIA Honolulu Center for Architecture\, 828 Fort Street Mall\, Suite 100\, Honolulu\, HI\, 96813\, United States
CATEGORIES:Committee Meetings
GEO:21.3087965;-157.863266
X-APPLE-STRUCTURED-LOCATION;VALUE=URI;X-ADDRESS=AIA Honolulu Center for Architecture 828 Fort Street Mall Suite 100 Honolulu HI 96813 United States;X-APPLE-RADIUS=500;X-TITLE=828 Fort Street Mall\, Suite 100:geo:-157.863266,21.3087965
END:VEVENT
BEGIN:VEVENT
DTSTART;TZID=Pacific/Honolulu:20280906T160000
DTEND;TZID=Pacific/Honolulu:20280906T170000
DTSTAMP:20260422T124034
CREATED:20250401T235546Z
LAST-MODIFIED:20250401T235944Z
UID:10000973-1851868800-1851872400@www.aiahonolulu.org
SUMMARY:AIA / GCA / ACECH Committee Meeting
DESCRIPTION:
URL:https://www.aiahonolulu.org/event/aia-gca-acech-committee-meeting-3/2028-09-06/
LOCATION:AIA Honolulu Center for Architecture\, 828 Fort Street Mall\, Suite 100\, Honolulu\, HI\, 96813\, United States
CATEGORIES:Committee Meetings
GEO:21.3087965;-157.863266
X-APPLE-STRUCTURED-LOCATION;VALUE=URI;X-ADDRESS=AIA Honolulu Center for Architecture 828 Fort Street Mall Suite 100 Honolulu HI 96813 United States;X-APPLE-RADIUS=500;X-TITLE=828 Fort Street Mall\, Suite 100:geo:-157.863266,21.3087965
END:VEVENT
BEGIN:VEVENT
DTSTART;TZID=Pacific/Honolulu:20281004T160000
DTEND;TZID=Pacific/Honolulu:20281004T170000
DTSTAMP:20260422T124034
CREATED:20250401T235546Z
LAST-MODIFIED:20250401T235944Z
UID:10000974-1854288000-1854291600@www.aiahonolulu.org
SUMMARY:AIA / GCA / ACECH Committee Meeting
DESCRIPTION:
URL:https://www.aiahonolulu.org/event/aia-gca-acech-committee-meeting-3/2028-10-04/
LOCATION:AIA Honolulu Center for Architecture\, 828 Fort Street Mall\, Suite 100\, Honolulu\, HI\, 96813\, United States
CATEGORIES:Committee Meetings
GEO:21.3087965;-157.863266
X-APPLE-STRUCTURED-LOCATION;VALUE=URI;X-ADDRESS=AIA Honolulu Center for Architecture 828 Fort Street Mall Suite 100 Honolulu HI 96813 United States;X-APPLE-RADIUS=500;X-TITLE=828 Fort Street Mall\, Suite 100:geo:-157.863266,21.3087965
END:VEVENT
BEGIN:VEVENT
DTSTART;TZID=Pacific/Honolulu:20281101T160000
DTEND;TZID=Pacific/Honolulu:20281101T170000
DTSTAMP:20260422T124034
CREATED:20250401T235546Z
LAST-MODIFIED:20250401T235944Z
UID:10000975-1856707200-1856710800@www.aiahonolulu.org
SUMMARY:AIA / GCA / ACECH Committee Meeting
DESCRIPTION:
URL:https://www.aiahonolulu.org/event/aia-gca-acech-committee-meeting-3/2028-11-01/
LOCATION:AIA Honolulu Center for Architecture\, 828 Fort Street Mall\, Suite 100\, Honolulu\, HI\, 96813\, United States
CATEGORIES:Committee Meetings
GEO:21.3087965;-157.863266
X-APPLE-STRUCTURED-LOCATION;VALUE=URI;X-ADDRESS=AIA Honolulu Center for Architecture 828 Fort Street Mall Suite 100 Honolulu HI 96813 United States;X-APPLE-RADIUS=500;X-TITLE=828 Fort Street Mall\, Suite 100:geo:-157.863266,21.3087965
END:VEVENT
BEGIN:VEVENT
DTSTART;TZID=Pacific/Honolulu:20281206T160000
DTEND;TZID=Pacific/Honolulu:20281206T170000
DTSTAMP:20260422T124034
CREATED:20250401T235546Z
LAST-MODIFIED:20250401T235944Z
UID:10000976-1859731200-1859734800@www.aiahonolulu.org
SUMMARY:AIA / GCA / ACECH Committee Meeting
DESCRIPTION:
URL:https://www.aiahonolulu.org/event/aia-gca-acech-committee-meeting-3/2028-12-06/
LOCATION:AIA Honolulu Center for Architecture\, 828 Fort Street Mall\, Suite 100\, Honolulu\, HI\, 96813\, United States
CATEGORIES:Committee Meetings
GEO:21.3087965;-157.863266
X-APPLE-STRUCTURED-LOCATION;VALUE=URI;X-ADDRESS=AIA Honolulu Center for Architecture 828 Fort Street Mall Suite 100 Honolulu HI 96813 United States;X-APPLE-RADIUS=500;X-TITLE=828 Fort Street Mall\, Suite 100:geo:-157.863266,21.3087965
END:VEVENT
BEGIN:VEVENT
DTSTART;TZID=Pacific/Honolulu:20290103T160000
DTEND;TZID=Pacific/Honolulu:20290103T170000
DTSTAMP:20260422T124034
CREATED:20250401T235546Z
LAST-MODIFIED:20250401T235944Z
UID:10000977-1862150400-1862154000@www.aiahonolulu.org
SUMMARY:AIA / GCA / ACECH Committee Meeting
DESCRIPTION:
URL:https://www.aiahonolulu.org/event/aia-gca-acech-committee-meeting-3/2029-01-03/
LOCATION:AIA Honolulu Center for Architecture\, 828 Fort Street Mall\, Suite 100\, Honolulu\, HI\, 96813\, United States
CATEGORIES:Committee Meetings
GEO:21.3087965;-157.863266
X-APPLE-STRUCTURED-LOCATION;VALUE=URI;X-ADDRESS=AIA Honolulu Center for Architecture 828 Fort Street Mall Suite 100 Honolulu HI 96813 United States;X-APPLE-RADIUS=500;X-TITLE=828 Fort Street Mall\, Suite 100:geo:-157.863266,21.3087965
END:VEVENT
BEGIN:VEVENT
DTSTART;TZID=Pacific/Honolulu:20290207T160000
DTEND;TZID=Pacific/Honolulu:20290207T170000
DTSTAMP:20260422T124034
CREATED:20250401T235546Z
LAST-MODIFIED:20250401T235944Z
UID:10000978-1865174400-1865178000@www.aiahonolulu.org
SUMMARY:AIA / GCA / ACECH Committee Meeting
DESCRIPTION:
URL:https://www.aiahonolulu.org/event/aia-gca-acech-committee-meeting-3/2029-02-07/
LOCATION:AIA Honolulu Center for Architecture\, 828 Fort Street Mall\, Suite 100\, Honolulu\, HI\, 96813\, United States
CATEGORIES:Committee Meetings
GEO:21.3087965;-157.863266
X-APPLE-STRUCTURED-LOCATION;VALUE=URI;X-ADDRESS=AIA Honolulu Center for Architecture 828 Fort Street Mall Suite 100 Honolulu HI 96813 United States;X-APPLE-RADIUS=500;X-TITLE=828 Fort Street Mall\, Suite 100:geo:-157.863266,21.3087965
END:VEVENT
BEGIN:VEVENT
DTSTART;TZID=Pacific/Honolulu:20290307T160000
DTEND;TZID=Pacific/Honolulu:20290307T170000
DTSTAMP:20260422T124034
CREATED:20250401T235546Z
LAST-MODIFIED:20250401T235944Z
UID:10000979-1867593600-1867597200@www.aiahonolulu.org
SUMMARY:AIA / GCA / ACECH Committee Meeting
DESCRIPTION:
URL:https://www.aiahonolulu.org/event/aia-gca-acech-committee-meeting-3/2029-03-07/
LOCATION:AIA Honolulu Center for Architecture\, 828 Fort Street Mall\, Suite 100\, Honolulu\, HI\, 96813\, United States
CATEGORIES:Committee Meetings
GEO:21.3087965;-157.863266
X-APPLE-STRUCTURED-LOCATION;VALUE=URI;X-ADDRESS=AIA Honolulu Center for Architecture 828 Fort Street Mall Suite 100 Honolulu HI 96813 United States;X-APPLE-RADIUS=500;X-TITLE=828 Fort Street Mall\, Suite 100:geo:-157.863266,21.3087965
END:VEVENT
END:VCALENDAR