BEGIN:VCALENDAR
VERSION:2.0
PRODID:-//AIA Honolulu - ECPv6.15.20//NONSGML v1.0//EN
CALSCALE:GREGORIAN
METHOD:PUBLISH
X-ORIGINAL-URL:https://www.aiahonolulu.org
X-WR-CALDESC:Events for AIA Honolulu
REFRESH-INTERVAL;VALUE=DURATION:PT1H
X-Robots-Tag:noindex
X-PUBLISHED-TTL:PT1H
BEGIN:VTIMEZONE
TZID:Pacific/Honolulu
BEGIN:STANDARD
TZOFFSETFROM:-1000
TZOFFSETTO:-1000
TZNAME:HST
DTSTART:20250101T000000
END:STANDARD
END:VTIMEZONE
BEGIN:VEVENT
DTSTART;TZID=Pacific/Honolulu:20260613T090000
DTEND;TZID=Pacific/Honolulu:20260613T110000
DTSTAMP:20260424T001013
CREATED:20251202T000215Z
LAST-MODIFIED:20251202T000331Z
UID:10001144-1781341200-1781348400@www.aiahonolulu.org
SUMMARY:AIA Honolulu Architectural Walking Tour of Downtown
DESCRIPTION:AIA Conference on Architecture & Design® 2026\nJune 10 - 13\, 2026 | San Diego Convention Center (SDCC)\n111 Harbor Dr.\, San Diego\, CA 92101 \nAIA26 is a four-day conference that delivers what architects need now: Fresh insights\, powerful connections\, and real solutions for a changing industry. \nJoin us June 10–13 to understand how our industry is evolving and take home the solutions\, networking connections\, and inspiration you and your firm need to be successful. \nLearn more >
URL:https://www.aiahonolulu.org/event/aia-honolulu-architectural-walking-tour-of-downtown-18/
LOCATION:AIA Honolulu Center for Architecture\, 828 Fort Street Mall\, Suite 100\, Honolulu\, HI\, 96813\, United States
CATEGORIES:Walking Tours
GEO:21.3087965;-157.863266
X-APPLE-STRUCTURED-LOCATION;VALUE=URI;X-ADDRESS=AIA Honolulu Center for Architecture 828 Fort Street Mall Suite 100 Honolulu HI 96813 United States;X-APPLE-RADIUS=500;X-TITLE=828 Fort Street Mall\, Suite 100:geo:-157.863266,21.3087965
END:VEVENT
BEGIN:VEVENT
DTSTART;TZID=Pacific/Honolulu:20260618T173000
DTEND;TZID=Pacific/Honolulu:20260618T183000
DTSTAMP:20260424T001013
CREATED:20260127T013329Z
LAST-MODIFIED:20260304T233219Z
UID:10001254-1781803800-1781807400@www.aiahonolulu.org
SUMMARY:EDP Guest Speaker: Project Management
DESCRIPTION:AIA Conference on Architecture & Design® 2026\nJune 10 - 13\, 2026 | San Diego Convention Center (SDCC)\n111 Harbor Dr.\, San Diego\, CA 92101 \nAIA26 is a four-day conference that delivers what architects need now: Fresh insights\, powerful connections\, and real solutions for a changing industry. \nJoin us June 10–13 to understand how our industry is evolving and take home the solutions\, networking connections\, and inspiration you and your firm need to be successful. \nLearn more >
URL:https://www.aiahonolulu.org/event/edp-guest-pm/
LOCATION:AIA Honolulu Center for Architecture\, 828 Fort Street Mall\, Suite 100\, Honolulu\, HI\, 96813\, United States
CATEGORIES:EPD
GEO:21.3087965;-157.863266
X-APPLE-STRUCTURED-LOCATION;VALUE=URI;X-ADDRESS=AIA Honolulu Center for Architecture 828 Fort Street Mall Suite 100 Honolulu HI 96813 United States;X-APPLE-RADIUS=500;X-TITLE=828 Fort Street Mall\, Suite 100:geo:-157.863266,21.3087965
END:VEVENT
BEGIN:VEVENT
DTSTART;TZID=Pacific/Honolulu:20260620T090000
DTEND;TZID=Pacific/Honolulu:20260620T110000
DTSTAMP:20260424T001013
CREATED:20251201T235817Z
LAST-MODIFIED:20251201T235817Z
UID:10001140-1781946000-1781953200@www.aiahonolulu.org
SUMMARY:AIA Honolulu Architectural Walking Tour of Chinatown
DESCRIPTION:AIA Conference on Architecture & Design® 2026\nJune 10 - 13\, 2026 | San Diego Convention Center (SDCC)\n111 Harbor Dr.\, San Diego\, CA 92101 \nAIA26 is a four-day conference that delivers what architects need now: Fresh insights\, powerful connections\, and real solutions for a changing industry. \nJoin us June 10–13 to understand how our industry is evolving and take home the solutions\, networking connections\, and inspiration you and your firm need to be successful. \nLearn more >
URL:https://www.aiahonolulu.org/event/aia-honolulu-architectural-walking-tour-of-chinatown-19/
LOCATION:AIA Honolulu Center for Architecture\, 828 Fort Street Mall\, Suite 100\, Honolulu\, HI\, 96813\, United States
CATEGORIES:Walking Tours
GEO:21.3087965;-157.863266
X-APPLE-STRUCTURED-LOCATION;VALUE=URI;X-ADDRESS=AIA Honolulu Center for Architecture 828 Fort Street Mall Suite 100 Honolulu HI 96813 United States;X-APPLE-RADIUS=500;X-TITLE=828 Fort Street Mall\, Suite 100:geo:-157.863266,21.3087965
END:VEVENT
BEGIN:VEVENT
DTSTART;TZID=Pacific/Honolulu:20260620T090000
DTEND;TZID=Pacific/Honolulu:20260620T120000
DTSTAMP:20260424T001013
CREATED:20260324T010630Z
LAST-MODIFIED:20260324T010640Z
UID:10001302-1781946000-1781956800@www.aiahonolulu.org
SUMMARY:Jury Day - Student Category
DESCRIPTION:AIA Conference on Architecture & Design® 2026\nJune 10 - 13\, 2026 | San Diego Convention Center (SDCC)\n111 Harbor Dr.\, San Diego\, CA 92101 \nAIA26 is a four-day conference that delivers what architects need now: Fresh insights\, powerful connections\, and real solutions for a changing industry. \nJoin us June 10–13 to understand how our industry is evolving and take home the solutions\, networking connections\, and inspiration you and your firm need to be successful. \nLearn more >
URL:https://www.aiahonolulu.org/event/jury-day-student-2026/
CATEGORIES:Committee Meetings
END:VEVENT
BEGIN:VEVENT
DTSTART;TZID=Pacific/Honolulu:20260623T120000
DTEND;TZID=Pacific/Honolulu:20260623T130000
DTSTAMP:20260424T001013
CREATED:20260311T205907Z
LAST-MODIFIED:20260311T205907Z
UID:10001277-1782216000-1782219600@www.aiahonolulu.org
SUMMARY:Small Firm Exchange: Working with Engineers & Consultants
DESCRIPTION:AIA Conference on Architecture & Design® 2026\nJune 10 - 13\, 2026 | San Diego Convention Center (SDCC)\n111 Harbor Dr.\, San Diego\, CA 92101 \nAIA26 is a four-day conference that delivers what architects need now: Fresh insights\, powerful connections\, and real solutions for a changing industry. \nJoin us June 10–13 to understand how our industry is evolving and take home the solutions\, networking connections\, and inspiration you and your firm need to be successful. \nLearn more >
URL:https://www.aiahonolulu.org/event/small-firm-exchange-6-23-26/
LOCATION:Virtual (Zoom)
CATEGORIES:Community Events
END:VEVENT
BEGIN:VEVENT
DTSTART;TZID=Pacific/Honolulu:20260625T073000
DTEND;TZID=Pacific/Honolulu:20260625T093000
DTSTAMP:20260424T001013
CREATED:20250731T011611Z
LAST-MODIFIED:20250731T011611Z
UID:10001082-1782372600-1782379800@www.aiahonolulu.org
SUMMARY:Private Event
DESCRIPTION:AIA Conference on Architecture & Design® 2026\nJune 10 - 13\, 2026 | San Diego Convention Center (SDCC)\n111 Harbor Dr.\, San Diego\, CA 92101 \nAIA26 is a four-day conference that delivers what architects need now: Fresh insights\, powerful connections\, and real solutions for a changing industry. \nJoin us June 10–13 to understand how our industry is evolving and take home the solutions\, networking connections\, and inspiration you and your firm need to be successful. \nLearn more >
URL:https://www.aiahonolulu.org/event/private-event-17/
LOCATION:AIA Honolulu Center for Architecture\, 828 Fort Street Mall\, Suite 100\, Honolulu\, HI\, 96813\, United States
CATEGORIES:Private Event
ORGANIZER;CN="AIA Honolulu":MAILTO:contact@aiahonolulu.org
GEO:21.3087965;-157.863266
X-APPLE-STRUCTURED-LOCATION;VALUE=URI;X-ADDRESS=AIA Honolulu Center for Architecture 828 Fort Street Mall Suite 100 Honolulu HI 96813 United States;X-APPLE-RADIUS=500;X-TITLE=828 Fort Street Mall\, Suite 100:geo:-157.863266,21.3087965
END:VEVENT
BEGIN:VEVENT
DTSTART;TZID=Pacific/Honolulu:20260626T120000
DTEND;TZID=Pacific/Honolulu:20260626T130000
DTSTAMP:20260424T001013
CREATED:20251230T194818Z
LAST-MODIFIED:20251230T194818Z
UID:10001200-1782475200-1782478800@www.aiahonolulu.org
SUMMARY:BOD Meeting
DESCRIPTION:AIA Conference on Architecture & Design® 2026\nJune 10 - 13\, 2026 | San Diego Convention Center (SDCC)\n111 Harbor Dr.\, San Diego\, CA 92101 \nAIA26 is a four-day conference that delivers what architects need now: Fresh insights\, powerful connections\, and real solutions for a changing industry. \nJoin us June 10–13 to understand how our industry is evolving and take home the solutions\, networking connections\, and inspiration you and your firm need to be successful. \nLearn more >
URL:https://www.aiahonolulu.org/event/bod-62626/
LOCATION:AIA Honolulu Center for Architecture\, 828 Fort Street Mall\, Suite 100\, Honolulu\, HI\, 96813\, United States
CATEGORIES:BOD Meetings
GEO:21.3087965;-157.863266
X-APPLE-STRUCTURED-LOCATION;VALUE=URI;X-ADDRESS=AIA Honolulu Center for Architecture 828 Fort Street Mall Suite 100 Honolulu HI 96813 United States;X-APPLE-RADIUS=500;X-TITLE=828 Fort Street Mall\, Suite 100:geo:-157.863266,21.3087965
END:VEVENT
BEGIN:VEVENT
DTSTART;TZID=Pacific/Honolulu:20260626T150000
DTEND;TZID=Pacific/Honolulu:20260626T180000
DTSTAMP:20260424T001013
CREATED:20260317T231146Z
LAST-MODIFIED:20260317T231305Z
UID:10001297-1782486000-1782496800@www.aiahonolulu.org
SUMMARY:Blueprints for Leadership: Session #7
DESCRIPTION:AIA Conference on Architecture & Design® 2026\nJune 10 - 13\, 2026 | San Diego Convention Center (SDCC)\n111 Harbor Dr.\, San Diego\, CA 92101 \nAIA26 is a four-day conference that delivers what architects need now: Fresh insights\, powerful connections\, and real solutions for a changing industry. \nJoin us June 10–13 to understand how our industry is evolving and take home the solutions\, networking connections\, and inspiration you and your firm need to be successful. \nLearn more >
URL:https://www.aiahonolulu.org/event/blueprints-7/
LOCATION:AIA Honolulu Center for Architecture\, 828 Fort Street Mall\, Suite 100\, Honolulu\, HI\, 96813\, United States
CATEGORIES:Professional Development
GEO:21.3087965;-157.863266
X-APPLE-STRUCTURED-LOCATION;VALUE=URI;X-ADDRESS=AIA Honolulu Center for Architecture 828 Fort Street Mall Suite 100 Honolulu HI 96813 United States;X-APPLE-RADIUS=500;X-TITLE=828 Fort Street Mall\, Suite 100:geo:-157.863266,21.3087965
END:VEVENT
BEGIN:VEVENT
DTSTART;TZID=Pacific/Honolulu:20260627T090000
DTEND;TZID=Pacific/Honolulu:20260627T110000
DTSTAMP:20260424T001013
CREATED:20251203T234426Z
LAST-MODIFIED:20251203T235918Z
UID:10001153-1782550800-1782558000@www.aiahonolulu.org
SUMMARY:AIA Honolulu Architectural Walking Tour of Downtown
DESCRIPTION:AIA / GCA / ACECH Pau Hana\nJoin us for a Pau Hana with short speeches from organization leadership and distinguished guests. \n 
URL:https://www.aiahonolulu.org/event/aia-honolulu-architectural-walking-tour-of-downtown-23/
LOCATION:AIA Honolulu Center for Architecture\, 828 Fort Street Mall\, Suite 100\, Honolulu\, HI\, 96813\, United States
CATEGORIES:Walking Tours
ORGANIZER;CN="AIA Honolulu":MAILTO:contact@aiahonolulu.org
GEO:21.3087965;-157.863266
X-APPLE-STRUCTURED-LOCATION;VALUE=URI;X-ADDRESS=AIA Honolulu Center for Architecture 828 Fort Street Mall Suite 100 Honolulu HI 96813 United States;X-APPLE-RADIUS=500;X-TITLE=828 Fort Street Mall\, Suite 100:geo:-157.863266,21.3087965
END:VEVENT
BEGIN:VEVENT
DTSTART;TZID=Pacific/Honolulu:20260701T160000
DTEND;TZID=Pacific/Honolulu:20260701T170000
DTSTAMP:20260424T001013
CREATED:20250401T235546Z
LAST-MODIFIED:20250401T235944Z
UID:10000947-1782921600-1782925200@www.aiahonolulu.org
SUMMARY:AIA / GCA / ACECH Committee Meeting
DESCRIPTION:AIA / GCA / ACECH Pau Hana\nJoin us for a Pau Hana with short speeches from organization leadership and distinguished guests. \n 
URL:https://www.aiahonolulu.org/event/aia-gca-acech-committee-meeting-3/2026-07-01/
LOCATION:AIA Honolulu Center for Architecture\, 828 Fort Street Mall\, Suite 100\, Honolulu\, HI\, 96813\, United States
CATEGORIES:Committee Meetings
GEO:21.3087965;-157.863266
X-APPLE-STRUCTURED-LOCATION;VALUE=URI;X-ADDRESS=AIA Honolulu Center for Architecture 828 Fort Street Mall Suite 100 Honolulu HI 96813 United States;X-APPLE-RADIUS=500;X-TITLE=828 Fort Street Mall\, Suite 100:geo:-157.863266,21.3087965
END:VEVENT
BEGIN:VEVENT
DTSTART;VALUE=DATE:20260703
DTEND;VALUE=DATE:20260704
DTSTAMP:20260424T001013
CREATED:20251209T005855Z
LAST-MODIFIED:20251209T005855Z
UID:10001160-1783036800-1783123199@www.aiahonolulu.org
SUMMARY:Holiday - Independence Day
DESCRIPTION:AIA / GCA / ACECH Pau Hana\nJoin us for a Pau Hana with short speeches from organization leadership and distinguished guests. \n 
URL:https://www.aiahonolulu.org/event/holiday-independence-day/
LOCATION:HI
END:VEVENT
BEGIN:VEVENT
DTSTART;TZID=Pacific/Honolulu:20260708T113000
DTEND;TZID=Pacific/Honolulu:20260708T130000
DTSTAMP:20260424T001013
CREATED:20251230T201936Z
LAST-MODIFIED:20251230T201936Z
UID:10001213-1783510200-1783515600@www.aiahonolulu.org
SUMMARY:AIA HSC Executive Committee Meeting
DESCRIPTION:AIA / GCA / ACECH Pau Hana\nJoin us for a Pau Hana with short speeches from organization leadership and distinguished guests. \n 
URL:https://www.aiahonolulu.org/event/hscexcom-7826/
LOCATION:AIA Honolulu Center for Architecture\, 828 Fort Street Mall\, Suite 100\, Honolulu\, HI\, 96813\, United States
CATEGORIES:Committee Meetings
GEO:21.3087965;-157.863266
X-APPLE-STRUCTURED-LOCATION;VALUE=URI;X-ADDRESS=AIA Honolulu Center for Architecture 828 Fort Street Mall Suite 100 Honolulu HI 96813 United States;X-APPLE-RADIUS=500;X-TITLE=828 Fort Street Mall\, Suite 100:geo:-157.863266,21.3087965
END:VEVENT
BEGIN:VEVENT
DTSTART;TZID=Pacific/Honolulu:20260708T160000
DTEND;TZID=Pacific/Honolulu:20260708T180000
DTSTAMP:20260424T001013
CREATED:20260407T025104Z
LAST-MODIFIED:20260407T025104Z
UID:10001309-1783526400-1783533600@www.aiahonolulu.org
SUMMARY:Iolani Arillaga Building Site Tour & Pau Hana
DESCRIPTION:AIA / GCA / ACECH Pau Hana\nJoin us for a Pau Hana with short speeches from organization leadership and distinguished guests. \n 
URL:https://www.aiahonolulu.org/event/iolani-arillaga-building-site-tour-pau-hana/
LOCATION:HI
CATEGORIES:EPD,Professional Development
END:VEVENT
BEGIN:VEVENT
DTSTART;TZID=Pacific/Honolulu:20260709T120000
DTEND;TZID=Pacific/Honolulu:20260709T130000
DTSTAMP:20260424T001013
CREATED:20250709T210157Z
LAST-MODIFIED:20251230T203141Z
UID:10001221-1783598400-1783602000@www.aiahonolulu.org
SUMMARY:EDI Meeting
DESCRIPTION:AIA / GCA / ACECH Pau Hana\nJoin us for a Pau Hana with short speeches from organization leadership and distinguished guests. \n 
URL:https://www.aiahonolulu.org/event/edi-meeting-3/2026-07-09/
LOCATION:Virtual (Zoom)
CATEGORIES:Committee Meetings
END:VEVENT
BEGIN:VEVENT
DTSTART;TZID=Pacific/Honolulu:20260710T120000
DTEND;TZID=Pacific/Honolulu:20260710T130000
DTSTAMP:20260424T001013
CREATED:20251230T185708Z
LAST-MODIFIED:20251230T202622Z
UID:10001189-1783684800-1783688400@www.aiahonolulu.org
SUMMARY:Executive Committee Meeting
DESCRIPTION:AIA / GCA / ACECH Pau Hana\nJoin us for a Pau Hana with short speeches from organization leadership and distinguished guests. \n 
URL:https://www.aiahonolulu.org/event/excom-71026/
LOCATION:AIA Honolulu Center for Architecture\, 828 Fort Street Mall\, Suite 100\, Honolulu\, HI\, 96813\, United States
CATEGORIES:Committee Meetings
GEO:21.3087965;-157.863266
X-APPLE-STRUCTURED-LOCATION;VALUE=URI;X-ADDRESS=AIA Honolulu Center for Architecture 828 Fort Street Mall Suite 100 Honolulu HI 96813 United States;X-APPLE-RADIUS=500;X-TITLE=828 Fort Street Mall\, Suite 100:geo:-157.863266,21.3087965
END:VEVENT
BEGIN:VEVENT
DTSTART;TZID=Pacific/Honolulu:20260711T090000
DTEND;TZID=Pacific/Honolulu:20260711T110000
DTSTAMP:20260424T001013
CREATED:20251210T024745Z
LAST-MODIFIED:20251210T024745Z
UID:10001171-1783760400-1783767600@www.aiahonolulu.org
SUMMARY:AIA Honolulu Architectural Walking Tour of Downtown
DESCRIPTION:AIA / GCA / ACECH Pau Hana\nJoin us for a Pau Hana with short speeches from organization leadership and distinguished guests. \n 
URL:https://www.aiahonolulu.org/event/aia-honolulu-architectural-walking-tour-of-downtown-28/
LOCATION:AIA Honolulu Center for Architecture\, 828 Fort Street Mall\, Suite 100\, Honolulu\, HI\, 96813\, United States
CATEGORIES:Walking Tours
ORGANIZER;CN="AIA Honolulu":MAILTO:contact@aiahonolulu.org
GEO:21.3087965;-157.863266
X-APPLE-STRUCTURED-LOCATION;VALUE=URI;X-ADDRESS=AIA Honolulu Center for Architecture 828 Fort Street Mall Suite 100 Honolulu HI 96813 United States;X-APPLE-RADIUS=500;X-TITLE=828 Fort Street Mall\, Suite 100:geo:-157.863266,21.3087965
END:VEVENT
BEGIN:VEVENT
DTSTART;TZID=Pacific/Honolulu:20260716T173000
DTEND;TZID=Pacific/Honolulu:20260716T183000
DTSTAMP:20260424T001013
CREATED:20260127T013447Z
LAST-MODIFIED:20260331T203014Z
UID:10001255-1784223000-1784226600@www.aiahonolulu.org
SUMMARY:EPD Open Study Session: Construction Administration
DESCRIPTION:AIA / GCA / ACECH Pau Hana\nJoin us for a Pau Hana with short speeches from organization leadership and distinguished guests. \n 
URL:https://www.aiahonolulu.org/event/epd-ca/
LOCATION:AIA Honolulu Center for Architecture\, 828 Fort Street Mall\, Suite 100\, Honolulu\, HI\, 96813\, United States
CATEGORIES:EPD
GEO:21.3087965;-157.863266
X-APPLE-STRUCTURED-LOCATION;VALUE=URI;X-ADDRESS=AIA Honolulu Center for Architecture 828 Fort Street Mall Suite 100 Honolulu HI 96813 United States;X-APPLE-RADIUS=500;X-TITLE=828 Fort Street Mall\, Suite 100:geo:-157.863266,21.3087965
END:VEVENT
BEGIN:VEVENT
DTSTART;TZID=Pacific/Honolulu:20260717T120000
DTEND;TZID=Pacific/Honolulu:20260717T130000
DTSTAMP:20260424T001014
CREATED:20251230T194951Z
LAST-MODIFIED:20251230T194951Z
UID:10001201-1784289600-1784293200@www.aiahonolulu.org
SUMMARY:BOD Meeting
DESCRIPTION:AIA / GCA / ACECH Pau Hana\nJoin us for a Pau Hana with short speeches from organization leadership and distinguished guests. \n 
URL:https://www.aiahonolulu.org/event/bod-71726/
LOCATION:AIA Honolulu Center for Architecture\, 828 Fort Street Mall\, Suite 100\, Honolulu\, HI\, 96813\, United States
CATEGORIES:BOD Meetings
GEO:21.3087965;-157.863266
X-APPLE-STRUCTURED-LOCATION;VALUE=URI;X-ADDRESS=AIA Honolulu Center for Architecture 828 Fort Street Mall Suite 100 Honolulu HI 96813 United States;X-APPLE-RADIUS=500;X-TITLE=828 Fort Street Mall\, Suite 100:geo:-157.863266,21.3087965
END:VEVENT
BEGIN:VEVENT
DTSTART;TZID=Pacific/Honolulu:20260718T090000
DTEND;TZID=Pacific/Honolulu:20260718T110000
DTSTAMP:20260424T001014
CREATED:20251219T014021Z
LAST-MODIFIED:20251219T014041Z
UID:10001180-1784365200-1784372400@www.aiahonolulu.org
SUMMARY:AIA Honolulu Architectural Walking Tour of Chinatown
DESCRIPTION:AIA / GCA / ACECH Pau Hana\nJoin us for a Pau Hana with short speeches from organization leadership and distinguished guests. \n 
URL:https://www.aiahonolulu.org/event/aia-honolulu-architectural-walking-tour-of-chinatown-7-18-26/
LOCATION:AIA Honolulu Center for Architecture\, 828 Fort Street Mall\, Suite 100\, Honolulu\, HI\, 96813\, United States
CATEGORIES:Walking Tours
GEO:21.3087965;-157.863266
X-APPLE-STRUCTURED-LOCATION;VALUE=URI;X-ADDRESS=AIA Honolulu Center for Architecture 828 Fort Street Mall Suite 100 Honolulu HI 96813 United States;X-APPLE-RADIUS=500;X-TITLE=828 Fort Street Mall\, Suite 100:geo:-157.863266,21.3087965
END:VEVENT
BEGIN:VEVENT
DTSTART;TZID=Pacific/Honolulu:20260722T113000
DTEND;TZID=Pacific/Honolulu:20260722T130000
DTSTAMP:20260424T001014
CREATED:20251230T201453Z
LAST-MODIFIED:20251230T201453Z
UID:10001209-1784719800-1784725200@www.aiahonolulu.org
SUMMARY:AIA HSC Board Meeting
DESCRIPTION:AIA / GCA / ACECH Pau Hana\nJoin us for a Pau Hana with short speeches from organization leadership and distinguished guests. \n 
URL:https://www.aiahonolulu.org/event/hscbod-72226/
LOCATION:AIA Honolulu Center for Architecture\, 828 Fort Street Mall\, Suite 100\, Honolulu\, HI\, 96813\, United States
CATEGORIES:BOD Meetings
GEO:21.3087965;-157.863266
X-APPLE-STRUCTURED-LOCATION;VALUE=URI;X-ADDRESS=AIA Honolulu Center for Architecture 828 Fort Street Mall Suite 100 Honolulu HI 96813 United States;X-APPLE-RADIUS=500;X-TITLE=828 Fort Street Mall\, Suite 100:geo:-157.863266,21.3087965
END:VEVENT
BEGIN:VEVENT
DTSTART;TZID=Pacific/Honolulu:20260724T173000
DTEND;TZID=Pacific/Honolulu:20260724T210000
DTSTAMP:20260424T001014
CREATED:20251027T212932Z
LAST-MODIFIED:20251027T213145Z
UID:10001123-1784914200-1784926800@www.aiahonolulu.org
SUMMARY:2026 AIA Honolulu Design Awards
DESCRIPTION:AIA / GCA / ACECH Pau Hana\nJoin us for a Pau Hana with short speeches from organization leadership and distinguished guests. \n 
URL:https://www.aiahonolulu.org/event/2026-aia-honolulu-design-awards/
LOCATION:Hawaii Theater\, 1130 Bethel Street\, Honolulu\, 96813\, United States
GEO:21.3109776;-157.8611475
X-APPLE-STRUCTURED-LOCATION;VALUE=URI;X-ADDRESS=Hawaii Theater 1130 Bethel Street Honolulu 96813 United States;X-APPLE-RADIUS=500;X-TITLE=1130 Bethel Street:geo:-157.8611475,21.3109776
END:VEVENT
BEGIN:VEVENT
DTSTART;TZID=Pacific/Honolulu:20260725T090000
DTEND;TZID=Pacific/Honolulu:20260725T110000
DTSTAMP:20260424T001014
CREATED:20251202T000443Z
LAST-MODIFIED:20251202T000443Z
UID:10001145-1784970000-1784977200@www.aiahonolulu.org
SUMMARY:AIA Honolulu Architectural Walking Tour of Downtown
DESCRIPTION:AIA / GCA / ACECH Pau Hana\nJoin us for a Pau Hana with short speeches from organization leadership and distinguished guests. \n 
URL:https://www.aiahonolulu.org/event/aia-honolulu-architectural-walking-tour-of-downtown-19/
LOCATION:AIA Honolulu Center for Architecture\, 828 Fort Street Mall\, Suite 100\, Honolulu\, HI\, 96813\, United States
CATEGORIES:Walking Tours
GEO:21.3087965;-157.863266
X-APPLE-STRUCTURED-LOCATION;VALUE=URI;X-ADDRESS=AIA Honolulu Center for Architecture 828 Fort Street Mall Suite 100 Honolulu HI 96813 United States;X-APPLE-RADIUS=500;X-TITLE=828 Fort Street Mall\, Suite 100:geo:-157.863266,21.3087965
END:VEVENT
BEGIN:VEVENT
DTSTART;TZID=Pacific/Honolulu:20260728T120000
DTEND;TZID=Pacific/Honolulu:20260728T130000
DTSTAMP:20260424T001014
CREATED:20260311T210028Z
LAST-MODIFIED:20260311T210028Z
UID:10001278-1785240000-1785243600@www.aiahonolulu.org
SUMMARY:Small Firm Exchange: Pau Hana & Happy Hour
DESCRIPTION:AIA / GCA / ACECH Pau Hana\nJoin us for a Pau Hana with short speeches from organization leadership and distinguished guests. \n 
URL:https://www.aiahonolulu.org/event/small-firm-exchange-7-28-26/
LOCATION:Virtual (Zoom)
CATEGORIES:Community Events
END:VEVENT
BEGIN:VEVENT
DTSTART;TZID=Pacific/Honolulu:20260731T080000
DTEND;TZID=Pacific/Honolulu:20260731T170000
DTSTAMP:20260424T001014
CREATED:20250114T002032Z
LAST-MODIFIED:20260115T234717Z
UID:10000812-1785484800-1785517200@www.aiahonolulu.org
SUMMARY:CANstruction: Banner Text Due
DESCRIPTION:AIA / GCA / ACECH Pau Hana\nJoin us for a Pau Hana with short speeches from organization leadership and distinguished guests. \n 
URL:https://www.aiahonolulu.org/event/canstruction-banner-text-due/
LOCATION:HI
CATEGORIES:Committee Meetings
END:VEVENT
BEGIN:VEVENT
DTSTART;TZID=Pacific/Honolulu:20260805T160000
DTEND;TZID=Pacific/Honolulu:20260805T170000
DTSTAMP:20260424T001014
CREATED:20250401T235546Z
LAST-MODIFIED:20250401T235944Z
UID:10000948-1785945600-1785949200@www.aiahonolulu.org
SUMMARY:AIA / GCA / ACECH Committee Meeting
DESCRIPTION:AIA / GCA / ACECH Pau Hana\nJoin us for a Pau Hana with short speeches from organization leadership and distinguished guests. \n 
URL:https://www.aiahonolulu.org/event/aia-gca-acech-committee-meeting-3/2026-08-05/
LOCATION:AIA Honolulu Center for Architecture\, 828 Fort Street Mall\, Suite 100\, Honolulu\, HI\, 96813\, United States
CATEGORIES:Committee Meetings
GEO:21.3087965;-157.863266
X-APPLE-STRUCTURED-LOCATION;VALUE=URI;X-ADDRESS=AIA Honolulu Center for Architecture 828 Fort Street Mall Suite 100 Honolulu HI 96813 United States;X-APPLE-RADIUS=500;X-TITLE=828 Fort Street Mall\, Suite 100:geo:-157.863266,21.3087965
END:VEVENT
BEGIN:VEVENT
DTSTART;TZID=Pacific/Honolulu:20260807T120000
DTEND;TZID=Pacific/Honolulu:20260807T130000
DTSTAMP:20260424T001014
CREATED:20251230T185914Z
LAST-MODIFIED:20251230T202625Z
UID:10001190-1786104000-1786107600@www.aiahonolulu.org
SUMMARY:Executive Committee Meeting
DESCRIPTION:AIA / GCA / ACECH Pau Hana\nJoin us for a Pau Hana with short speeches from organization leadership and distinguished guests. \n 
URL:https://www.aiahonolulu.org/event/excom-8726/
LOCATION:AIA Honolulu Center for Architecture\, 828 Fort Street Mall\, Suite 100\, Honolulu\, HI\, 96813\, United States
CATEGORIES:Committee Meetings
GEO:21.3087965;-157.863266
X-APPLE-STRUCTURED-LOCATION;VALUE=URI;X-ADDRESS=AIA Honolulu Center for Architecture 828 Fort Street Mall Suite 100 Honolulu HI 96813 United States;X-APPLE-RADIUS=500;X-TITLE=828 Fort Street Mall\, Suite 100:geo:-157.863266,21.3087965
END:VEVENT
BEGIN:VEVENT
DTSTART;TZID=Pacific/Honolulu:20260808T090000
DTEND;TZID=Pacific/Honolulu:20260808T110000
DTSTAMP:20260424T001014
CREATED:20251202T000522Z
LAST-MODIFIED:20251202T000522Z
UID:10001146-1786179600-1786186800@www.aiahonolulu.org
SUMMARY:AIA Honolulu Architectural Walking Tour of Downtown
DESCRIPTION:AIA / GCA / ACECH Pau Hana\nJoin us for a Pau Hana with short speeches from organization leadership and distinguished guests. \n 
URL:https://www.aiahonolulu.org/event/aia-honolulu-architectural-walking-tour-of-downtown-20/
LOCATION:AIA Honolulu Center for Architecture\, 828 Fort Street Mall\, Suite 100\, Honolulu\, HI\, 96813\, United States
CATEGORIES:Walking Tours
GEO:21.3087965;-157.863266
X-APPLE-STRUCTURED-LOCATION;VALUE=URI;X-ADDRESS=AIA Honolulu Center for Architecture 828 Fort Street Mall Suite 100 Honolulu HI 96813 United States;X-APPLE-RADIUS=500;X-TITLE=828 Fort Street Mall\, Suite 100:geo:-157.863266,21.3087965
END:VEVENT
BEGIN:VEVENT
DTSTART;TZID=Pacific/Honolulu:20260813T120000
DTEND;TZID=Pacific/Honolulu:20260813T130000
DTSTAMP:20260424T001014
CREATED:20250709T210157Z
LAST-MODIFIED:20251230T203141Z
UID:10001222-1786622400-1786626000@www.aiahonolulu.org
SUMMARY:EDI Meeting
DESCRIPTION:AIA / GCA / ACECH Pau Hana\nJoin us for a Pau Hana with short speeches from organization leadership and distinguished guests. \n 
URL:https://www.aiahonolulu.org/event/edi-meeting-3/2026-08-13/
LOCATION:Virtual (Zoom)
CATEGORIES:Committee Meetings
END:VEVENT
BEGIN:VEVENT
DTSTART;TZID=Pacific/Honolulu:20260820T073000
DTEND;TZID=Pacific/Honolulu:20260820T093000
DTSTAMP:20260424T001014
CREATED:20250731T010702Z
LAST-MODIFIED:20250731T065243Z
UID:10001076-1787211000-1787218200@www.aiahonolulu.org
SUMMARY:Private Event
DESCRIPTION:AIA / GCA / ACECH Pau Hana\nJoin us for a Pau Hana with short speeches from organization leadership and distinguished guests. \n 
URL:https://www.aiahonolulu.org/event/private-event-13/
LOCATION:AIA Honolulu Center for Architecture\, 828 Fort Street Mall\, Suite 100\, Honolulu\, HI\, 96813\, United States
CATEGORIES:Private Event
ORGANIZER;CN="AIA Honolulu":MAILTO:contact@aiahonolulu.org
GEO:21.3087965;-157.863266
X-APPLE-STRUCTURED-LOCATION;VALUE=URI;X-ADDRESS=AIA Honolulu Center for Architecture 828 Fort Street Mall Suite 100 Honolulu HI 96813 United States;X-APPLE-RADIUS=500;X-TITLE=828 Fort Street Mall\, Suite 100:geo:-157.863266,21.3087965
END:VEVENT
BEGIN:VEVENT
DTSTART;VALUE=DATE:20260821
DTEND;VALUE=DATE:20260822
DTSTAMP:20260424T001014
CREATED:20251209T005859Z
LAST-MODIFIED:20251209T005859Z
UID:10001161-1787270400-1787356799@www.aiahonolulu.org
SUMMARY:Holiday - Statehood Day
DESCRIPTION:AIA / GCA / ACECH Pau Hana\nJoin us for a Pau Hana with short speeches from organization leadership and distinguished guests. \n 
URL:https://www.aiahonolulu.org/event/holiday-statehood-day/
LOCATION:HI
END:VEVENT
END:VCALENDAR