BEGIN:VCALENDAR
VERSION:2.0
PRODID:-//AIA Honolulu - ECPv6.15.20//NONSGML v1.0//EN
CALSCALE:GREGORIAN
METHOD:PUBLISH
X-ORIGINAL-URL:https://www.aiahonolulu.org
X-WR-CALDESC:Events for AIA Honolulu
REFRESH-INTERVAL;VALUE=DURATION:PT1H
X-Robots-Tag:noindex
X-PUBLISHED-TTL:PT1H
BEGIN:VTIMEZONE
TZID:Pacific/Honolulu
BEGIN:STANDARD
TZOFFSETFROM:-1000
TZOFFSETTO:-1000
TZNAME:HST
DTSTART:20250101T000000
END:STANDARD
END:VTIMEZONE
BEGIN:VEVENT
DTSTART;VALUE=DATE:20260210
DTEND;VALUE=DATE:20260211
DTSTAMP:20260423T004902
CREATED:20260126T213641Z
LAST-MODIFIED:20260126T213641Z
UID:10001247-1770681600-1770767999@www.aiahonolulu.org
SUMMARY:AIAS Portfolio Round Table
DESCRIPTION:Designing Conversations:\nAIA Hawai‘i Book Club (2 HSWs)\nEach quarter\, we’ll gather around a book tangential to architecture—think design\, culture\, place\, history\, climate\, or the forces that shape the built environment in unexpected ways. The event features a compelling guest speaker who will draw out the book’s big ideas and connect them to practice in Hawaiʻi\, all hosted at a cool\, thoughtfully chosen venue. \nWhether you’ve read every page\, skimmed the introduction\, or are just coming for the conversation\, the AIA Hawaiʻi Book Club is about shared curiosity and expanding how we think about our work and our world. \n\n\n\n	\n\n\n			\n	\n	\n\n\n\n	\n\n\n			\n	\n	Book Club Q2: At Ma'o Organic Farms May 23!\n\nFor our second Book Club\, we have chosen “What If We Get It Right: Visions of Climate Futures" by Ayana Elizabeth Johnson. \nA SMITHSONIAN BEST BOOK OF THE YEAR! Sometimes\, the bravest thing we can do when facing an existential crisis is to imagine life on the other side. This provocative and joyous book maps an inspiring landscape of possible climate futures. \n\n\n\n	\n\n\n			\n	\n	\n				\n					\n	\n\n\n			\n	\n	Through clear-eyed essays and vibrant conversations\, infused with data\, poetry\, and art\, Ayana guides us through solutions and possibilities at the nexus of science\, policy\, culture\, and justice. Visionary farmers and financiers\, architects and advocates\, help us conjure a flourishing future\, one worth the effort it will take—from every one of us\, with whatever we have to offer—to create. \nWith grace\, humor\, and humanity\, Johnson invites readers to ask and answer this ultimate question together: What if we get it right? \n\n\n\n	\n\n\n			\n	\n	Where to get the book? You can find the book at your local library\, bookstore or online. \nGood News: You do NOT have to read the book to attend. Join us for an engaging conversation designed for anyone curious about architecture and its broader context. \n\n\n\n	\n\n\n			\n	\n	\n				\n					\n	\n\n\n			\n	\n	The discussion will be led by Kukui Maunakea-Forth\, Executive Director of the Farm. Read bio. \nModerated by Kirsten Oleson\, Professor of Ecological Economics at UH Manoa.\nRead bio. \n\n\n\n	\n\n\n			\n	\n	We are also planning a 1/2 day workday in conjunction with the Book Club. Additionally\, participants will be able to see the award-winning processing facility at the Farm by AMA A/E. Stay tuned for more information. \n\n\n\n	\n\n\n			\n	\n	When: Saturday\, May 23 from Time TBA\nWhere: MAʻO Organic Farms\, 86-148 Puhawai Rd\, Waianae\, HI 96792\nCEU: This session qualifies for 2 AIA/CES (HSW)\nMax: 50 attendees\nCost: Free\nParking: Free \n\n\n                \n                        \n                            RSVP for Book Club #2\n                             \n							"*" indicates required fields \n                        \n                        Name*\n                            \n                            \n                                                    \n                                                    First\n                                                \n                            \n                            \n                                                    \n                                                    Last\n                                                \n                            \n                        AIA DesignationAIAAssoc. AIAAIA MEFAIAAllied MemberHon. AffiliateNon-MemberEmail*\n                            \n                        \n          \n            \n            \n            \n            \n            \n            \n            \n            \n            \n            \n            \n            \n            \n        \n                        \n                        \n \n\n\n\n	\n\n\n			\n	\n	Mahalo Centennial Club Sponsors
URL:https://www.aiahonolulu.org/event/aias-portfolio-round-table/
LOCATION:HI
CATEGORIES:EPD
END:VEVENT
BEGIN:VEVENT
DTSTART;TZID=Pacific/Honolulu:20260211T080000
DTEND;TZID=Pacific/Honolulu:20260214T170000
DTSTAMP:20260423T004902
CREATED:20251212T213500Z
LAST-MODIFIED:20251212T214121Z
UID:10001174-1770796800-1771088400@www.aiahonolulu.org
SUMMARY:2026 AIA Leadership Summit (AIALS)
DESCRIPTION:Designing Conversations:\nAIA Hawai‘i Book Club (2 HSWs)\nEach quarter\, we’ll gather around a book tangential to architecture—think design\, culture\, place\, history\, climate\, or the forces that shape the built environment in unexpected ways. The event features a compelling guest speaker who will draw out the book’s big ideas and connect them to practice in Hawaiʻi\, all hosted at a cool\, thoughtfully chosen venue. \nWhether you’ve read every page\, skimmed the introduction\, or are just coming for the conversation\, the AIA Hawaiʻi Book Club is about shared curiosity and expanding how we think about our work and our world. \n\n\n\n	\n\n\n			\n	\n	\n\n\n\n	\n\n\n			\n	\n	Book Club Q2: At Ma'o Organic Farms May 23!\n\nFor our second Book Club\, we have chosen “What If We Get It Right: Visions of Climate Futures" by Ayana Elizabeth Johnson. \nA SMITHSONIAN BEST BOOK OF THE YEAR! Sometimes\, the bravest thing we can do when facing an existential crisis is to imagine life on the other side. This provocative and joyous book maps an inspiring landscape of possible climate futures. \n\n\n\n	\n\n\n			\n	\n	\n				\n					\n	\n\n\n			\n	\n	Through clear-eyed essays and vibrant conversations\, infused with data\, poetry\, and art\, Ayana guides us through solutions and possibilities at the nexus of science\, policy\, culture\, and justice. Visionary farmers and financiers\, architects and advocates\, help us conjure a flourishing future\, one worth the effort it will take—from every one of us\, with whatever we have to offer—to create. \nWith grace\, humor\, and humanity\, Johnson invites readers to ask and answer this ultimate question together: What if we get it right? \n\n\n\n	\n\n\n			\n	\n	Where to get the book? You can find the book at your local library\, bookstore or online. \nGood News: You do NOT have to read the book to attend. Join us for an engaging conversation designed for anyone curious about architecture and its broader context. \n\n\n\n	\n\n\n			\n	\n	\n				\n					\n	\n\n\n			\n	\n	The discussion will be led by Kukui Maunakea-Forth\, Executive Director of the Farm. Read bio. \nModerated by Kirsten Oleson\, Professor of Ecological Economics at UH Manoa.\nRead bio. \n\n\n\n	\n\n\n			\n	\n	We are also planning a 1/2 day workday in conjunction with the Book Club. Additionally\, participants will be able to see the award-winning processing facility at the Farm by AMA A/E. Stay tuned for more information. \n\n\n\n	\n\n\n			\n	\n	When: Saturday\, May 23 from Time TBA\nWhere: MAʻO Organic Farms\, 86-148 Puhawai Rd\, Waianae\, HI 96792\nCEU: This session qualifies for 2 AIA/CES (HSW)\nMax: 50 attendees\nCost: Free\nParking: Free \n\n                \n                        \n                            RSVP for Book Club #2\n                             \n							"*" indicates required fields \n                        \n                        Name*\n                            \n                            \n                                                    \n                                                    First\n                                                \n                            \n                            \n                                                    \n                                                    Last\n                                                \n                            \n                        AIA DesignationAIAAssoc. AIAAIA MEFAIAAllied MemberHon. AffiliateNon-MemberEmail*\n                            \n                        \n          \n            \n            \n            \n            \n            \n            \n            \n            \n            \n            \n            \n            \n            \n        \n                        \n                        \n \n\n\n\n	\n\n\n			\n	\n	Mahalo Centennial Club Sponsors
URL:https://www.aiahonolulu.org/event/aia-leadership-summit-2026/
LOCATION:Marriott Marquis in Washington\, D.C\, 901 Massachusetts Ave Nw\, Washington\, 20001\, United States
CATEGORIES:National Events
GEO:38.9037397;-77.024876
X-APPLE-STRUCTURED-LOCATION;VALUE=URI;X-ADDRESS=Marriott Marquis in Washington D.C 901 Massachusetts Ave Nw Washington 20001 United States;X-APPLE-RADIUS=500;X-TITLE=901 Massachusetts Ave Nw:geo:-77.024876,38.9037397
END:VEVENT
BEGIN:VEVENT
DTSTART;TZID=Pacific/Honolulu:20260212T120000
DTEND;TZID=Pacific/Honolulu:20260212T130000
DTSTAMP:20260423T004903
CREATED:20250709T210157Z
LAST-MODIFIED:20251230T203141Z
UID:10001216-1770897600-1770901200@www.aiahonolulu.org
SUMMARY:EDI Meeting
DESCRIPTION:Designing Conversations:\nAIA Hawai‘i Book Club (2 HSWs)\nEach quarter\, we’ll gather around a book tangential to architecture—think design\, culture\, place\, history\, climate\, or the forces that shape the built environment in unexpected ways. The event features a compelling guest speaker who will draw out the book’s big ideas and connect them to practice in Hawaiʻi\, all hosted at a cool\, thoughtfully chosen venue. \nWhether you’ve read every page\, skimmed the introduction\, or are just coming for the conversation\, the AIA Hawaiʻi Book Club is about shared curiosity and expanding how we think about our work and our world. \n\n\n\n	\n\n\n			\n	\n	\n\n\n\n	\n\n\n			\n	\n	Book Club Q2: At Ma'o Organic Farms May 23!\n\nFor our second Book Club\, we have chosen “What If We Get It Right: Visions of Climate Futures" by Ayana Elizabeth Johnson. \nA SMITHSONIAN BEST BOOK OF THE YEAR! Sometimes\, the bravest thing we can do when facing an existential crisis is to imagine life on the other side. This provocative and joyous book maps an inspiring landscape of possible climate futures. \n\n\n\n	\n\n\n			\n	\n	\n				\n					\n	\n\n\n			\n	\n	Through clear-eyed essays and vibrant conversations\, infused with data\, poetry\, and art\, Ayana guides us through solutions and possibilities at the nexus of science\, policy\, culture\, and justice. Visionary farmers and financiers\, architects and advocates\, help us conjure a flourishing future\, one worth the effort it will take—from every one of us\, with whatever we have to offer—to create. \nWith grace\, humor\, and humanity\, Johnson invites readers to ask and answer this ultimate question together: What if we get it right? \n\n\n\n	\n\n\n			\n	\n	Where to get the book? You can find the book at your local library\, bookstore or online. \nGood News: You do NOT have to read the book to attend. Join us for an engaging conversation designed for anyone curious about architecture and its broader context. \n\n\n\n	\n\n\n			\n	\n	\n				\n					\n	\n\n\n			\n	\n	The discussion will be led by Kukui Maunakea-Forth\, Executive Director of the Farm. Read bio. \nModerated by Kirsten Oleson\, Professor of Ecological Economics at UH Manoa.\nRead bio. \n\n\n\n	\n\n\n			\n	\n	We are also planning a 1/2 day workday in conjunction with the Book Club. Additionally\, participants will be able to see the award-winning processing facility at the Farm by AMA A/E. Stay tuned for more information. \n\n\n\n	\n\n\n			\n	\n	When: Saturday\, May 23 from Time TBA\nWhere: MAʻO Organic Farms\, 86-148 Puhawai Rd\, Waianae\, HI 96792\nCEU: This session qualifies for 2 AIA/CES (HSW)\nMax: 50 attendees\nCost: Free\nParking: Free \n\n                \n                        \n                            RSVP for Book Club #2\n                             \n							"*" indicates required fields \n                        \n                        Name*\n                            \n                            \n                                                    \n                                                    First\n                                                \n                            \n                            \n                                                    \n                                                    Last\n                                                \n                            \n                        AIA DesignationAIAAssoc. AIAAIA MEFAIAAllied MemberHon. AffiliateNon-MemberEmail*\n                            \n                        \n          \n            \n            \n            \n            \n            \n            \n            \n            \n            \n            \n            \n            \n            \n        \n                        \n                        \n \n\n\n\n	\n\n\n			\n	\n	Mahalo Centennial Club Sponsors
URL:https://www.aiahonolulu.org/event/edi-meeting-3/2026-02-12/
LOCATION:Virtual (Zoom)
CATEGORIES:Committee Meetings
END:VEVENT
BEGIN:VEVENT
DTSTART;TZID=Pacific/Honolulu:20260214T090000
DTEND;TZID=Pacific/Honolulu:20260214T110000
DTSTAMP:20260423T004904
CREATED:20251219T012710Z
LAST-MODIFIED:20251219T013246Z
UID:10001177-1771059600-1771066800@www.aiahonolulu.org
SUMMARY:AIA Honolulu Architectural Walking Tour of Chinatown
DESCRIPTION:AIA Honolulu Architectural Walking Tour of Chinatown\nAIA Honolulu is excited to introduce our new historic architectural tour of Honoluluʻs Chinatown\, focusing on the unique style\, materials\, and relationships of the buildings in that district. \nTour Groups: Tour groups must be between 4-14 people to take place. Advanced reservations are required. If less than 4 people sign up\, the tour will be cancelled and a full refund will be issued to anyone already registered. \nTour Cost: $20.00/person paid online. Registration is generally open until 4PM Friday before the tour date\, unless the tour fills up early or is cancelled. Walk-in registrations are not allowed.Tour availability is on a first come\, first served basis and may close earlier than the registration deadline! \nLocation & Parking: The tour will begin at AIA Honolulu’s Center for Architecture at the corner of Fort Street Mall and Queen Street. Parking at the Oceanit Building is currently closed during weekends\, however\, some street parking might be available. The Westbound Route 4 bus stops right outside of our Center\, and various other TheBus lines have stops within a 5 minute walk. View more parking suggestions. \nQuestions: Email contact@aiahonolulu.org or call (808) 628-7243 during our business hours. \n\nRefund Policy: Refunds for AIA Honolulu events will only be given as a result of event cancellation made by the Chapter. Substitutions are welcome for your pre-paid spot. \n			\n				\n\n	\n	\n		$20.00 \n4 Tickets Available \n\n	\n	\n		\n		    \n        Chinatown Walking Tour: February 14\, 2026 quantity    \n    -        \n        +\nYour browser must support JavaScript in order to purchase ticket(s).\n\n\n\n	\n	\n		\n			Attendee Information #1\n		\n		\n				\n		First Name:\n				*\n			\n	\n 	\n		Last Name:\n				*\n			\n	\n 	\n		Email:\n				*\n			\n	\n 	\n		Phone Number (cell preferred):\n				*\n			\n	\n 			\n				\n					Privacy Preference:				\n				\n				 \n				\n					Opt-out from being displayed in the public list of attendees.				\n			 \n					\n	\n\n\n\n		Buy Ticket Now
URL:https://www.aiahonolulu.org/event/aia-honolulu-architectural-walking-tour-of-chinatown-2-14-26/
LOCATION:HI
CATEGORIES:Walking Tours
END:VEVENT
END:VCALENDAR