BEGIN:VCALENDAR
VERSION:2.0
PRODID:-//AIA Honolulu - ECPv6.15.20//NONSGML v1.0//EN
CALSCALE:GREGORIAN
METHOD:PUBLISH
X-ORIGINAL-URL:https://www.aiahonolulu.org
X-WR-CALDESC:Events for AIA Honolulu
REFRESH-INTERVAL;VALUE=DURATION:PT1H
X-Robots-Tag:noindex
X-PUBLISHED-TTL:PT1H
BEGIN:VTIMEZONE
TZID:Pacific/Honolulu
BEGIN:STANDARD
TZOFFSETFROM:-1000
TZOFFSETTO:-1000
TZNAME:HST
DTSTART:20250101T000000
END:STANDARD
END:VTIMEZONE
BEGIN:VEVENT
DTSTART;TZID=Pacific/Honolulu:20260324T120000
DTEND;TZID=Pacific/Honolulu:20260324T130000
DTSTAMP:20260421T025342
CREATED:20260311T203915Z
LAST-MODIFIED:20260311T205508Z
UID:10001274-1774353600-1774357200@www.aiahonolulu.org
SUMMARY:Small Firm Exchange: Small Firm Marketing
DESCRIPTION:Designing Conversations:\nAIA Hawai‘i Book Club (2 LUs)\nEach quarter\, we’ll gather around a book tangential to architecture—think design\, culture\, place\, history\, climate\, or the forces that shape the built environment in unexpected ways. The event features a compelling guest speaker who will draw out the book’s big ideas and connect them to practice in Hawaiʻi\, all hosted at a cool\, thoughtfully chosen venue. \nWhether you’ve read every page\, skimmed the introduction\, or are just coming for the conversation\, the AIA Hawaiʻi Book Club is about shared curiosity and expanding how we think about our work and our world. \n\n\n\n	\n\n\n			\n	\n	\n\n\n\n	\n\n\n			\n	\n	Book Club Q2: At Ma'o Organic Farms May 23!\n\nFor our second Book Club\, we have chosen “What If We Get It Right: Visions of Climate Futures" by Ayana Elizabeth Johnson. \nA SMITHSONIAN BEST BOOK OF THE YEAR! Sometimes\, the bravest thing we can do when facing an existential crisis is to imagine life on the other side. This provocative and joyous book maps an inspiring landscape of possible climate futures. \n\n\n\n	\n\n\n			\n	\n	\n				\n					\n	\n\n\n			\n	\n	Through clear-eyed essays and vibrant conversations\, infused with data\, poetry\, and art\, Ayana guides us through solutions and possibilities at the nexus of science\, policy\, culture\, and justice. Visionary farmers and financiers\, architects and advocates\, help us conjure a flourishing future\, one worth the effort it will take—from every one of us\, with whatever we have to offer—to create. \nWith grace\, humor\, and humanity\, Johnson invites readers to ask and answer this ultimate question together: What if we get it right? \n\n\n\n	\n\n\n			\n	\n	Where to get the book? You can find the book at your local library\, bookstore or online. \nGood News: You do NOT have to read the book to attend. Join us for an engaging conversation designed for anyone curious about architecture and its broader context. \n\n\n\n	\n\n\n			\n	\n	\n				\n					\n	\n\n\n			\n	\n	The discussion will be led by Kukui Maunakea-Forth\, Executive Director of the Farm. Read bio. \nModerated by Kirsten Oleson\, Professor of Ecological Economics at UH Manoa.\nRead bio. \n\n\n\n	\n\n\n			\n	\n	We are also planning a 1/2 day workday in conjunction with the Book Club. Additionally\, participants will be able to see the award-winning processing facility at the Farm by AMA A/E. Stay tuned for more information. \n\n\n\n	\n\n\n			\n	\n	When: Saturday\, May 23 from Time TBA\nWhere: MAʻO Organic Farms\, 86-148 Puhawai Rd\, Waianae\, HI 96792\nCEU: This session qualifies for 2 AIA/CES (HSW)\nMax: 50 attendees\nCost: Free\nParking: Free \n\n                \n                        \n                            RSVP for Book Club #2\n                             \n							"*" indicates required fields \n                        \n                        Name*\n                            \n                            \n                                                    \n                                                    First\n                                                \n                            \n                            \n                                                    \n                                                    Last\n                                                \n                            \n                        AIA DesignationAIAAssoc. AIAAIA MEFAIAAllied MemberHon. AffiliateNon-MemberEmail*\n                            \n                        \n          \n            \n            \n            \n            \n            \n            \n            \n            \n            \n            \n            \n            \n            \n        \n                        \n                        \n \n\n\n\n	\n\n\n			\n	\n	Mahalo Centennial Club Sponsors
URL:https://www.aiahonolulu.org/event/small-firm-exchange-3-24-26/
LOCATION:Virtual (Zoom)
CATEGORIES:Community Events
END:VEVENT
BEGIN:VEVENT
DTSTART;VALUE=DATE:20260326
DTEND;VALUE=DATE:20260327
DTSTAMP:20260421T025343
CREATED:20251209T005855Z
LAST-MODIFIED:20251209T005855Z
UID:10001157-1774483200-1774569599@www.aiahonolulu.org
SUMMARY:Holiday - Kuhio Day
DESCRIPTION:Designing Conversations:\nAIA Hawai‘i Book Club (2 LUs)\nEach quarter\, we’ll gather around a book tangential to architecture—think design\, culture\, place\, history\, climate\, or the forces that shape the built environment in unexpected ways. The event features a compelling guest speaker who will draw out the book’s big ideas and connect them to practice in Hawaiʻi\, all hosted at a cool\, thoughtfully chosen venue. \nWhether you’ve read every page\, skimmed the introduction\, or are just coming for the conversation\, the AIA Hawaiʻi Book Club is about shared curiosity and expanding how we think about our work and our world. \n\n\n\n	\n\n\n			\n	\n	\n\n\n\n	\n\n\n			\n	\n	Book Club Q2: At Ma'o Organic Farms May 23!\n\nFor our second Book Club\, we have chosen “What If We Get It Right: Visions of Climate Futures" by Ayana Elizabeth Johnson. \nA SMITHSONIAN BEST BOOK OF THE YEAR! Sometimes\, the bravest thing we can do when facing an existential crisis is to imagine life on the other side. This provocative and joyous book maps an inspiring landscape of possible climate futures. \n\n\n\n	\n\n\n			\n	\n	\n				\n					\n	\n\n\n			\n	\n	Through clear-eyed essays and vibrant conversations\, infused with data\, poetry\, and art\, Ayana guides us through solutions and possibilities at the nexus of science\, policy\, culture\, and justice. Visionary farmers and financiers\, architects and advocates\, help us conjure a flourishing future\, one worth the effort it will take—from every one of us\, with whatever we have to offer—to create. \nWith grace\, humor\, and humanity\, Johnson invites readers to ask and answer this ultimate question together: What if we get it right? \n\n\n\n	\n\n\n			\n	\n	Where to get the book? You can find the book at your local library\, bookstore or online. \nGood News: You do NOT have to read the book to attend. Join us for an engaging conversation designed for anyone curious about architecture and its broader context. \n\n\n\n	\n\n\n			\n	\n	\n				\n					\n	\n\n\n			\n	\n	The discussion will be led by Kukui Maunakea-Forth\, Executive Director of the Farm. Read bio. \nModerated by Kirsten Oleson\, Professor of Ecological Economics at UH Manoa.\nRead bio. \n\n\n\n	\n\n\n			\n	\n	We are also planning a 1/2 day workday in conjunction with the Book Club. Additionally\, participants will be able to see the award-winning processing facility at the Farm by AMA A/E. Stay tuned for more information. \n\n\n\n	\n\n\n			\n	\n	When: Saturday\, May 23 from Time TBA\nWhere: MAʻO Organic Farms\, 86-148 Puhawai Rd\, Waianae\, HI 96792\nCEU: This session qualifies for 2 AIA/CES (HSW)\nMax: 50 attendees\nCost: Free\nParking: Free \n\n                \n                        \n                            RSVP for Book Club #2\n                             \n							"*" indicates required fields \n                        \n                        Name*\n                            \n                            \n                                                    \n                                                    First\n                                                \n                            \n                            \n                                                    \n                                                    Last\n                                                \n                            \n                        AIA DesignationAIAAssoc. AIAAIA MEFAIAAllied MemberHon. AffiliateNon-MemberEmail*\n                            \n                        \n          \n            \n            \n            \n            \n            \n            \n            \n            \n            \n            \n            \n            \n            \n        \n                        \n                        \n \n\n\n\n	\n\n\n			\n	\n	Mahalo Centennial Club Sponsors
URL:https://www.aiahonolulu.org/event/holiday-kuhio-day/
LOCATION:HI
END:VEVENT
BEGIN:VEVENT
DTSTART;TZID=Pacific/Honolulu:20260326T173000
DTEND;TZID=Pacific/Honolulu:20260326T183000
DTSTAMP:20260421T025344
CREATED:20260126T213846Z
LAST-MODIFIED:20260224T204756Z
UID:10001248-1774546200-1774549800@www.aiahonolulu.org
SUMMARY:EPD Open Study Session: Detailing
DESCRIPTION:Designing Conversations:\nAIA Hawai‘i Book Club (2 LUs)\nEach quarter\, we’ll gather around a book tangential to architecture—think design\, culture\, place\, history\, climate\, or the forces that shape the built environment in unexpected ways. The event features a compelling guest speaker who will draw out the book’s big ideas and connect them to practice in Hawaiʻi\, all hosted at a cool\, thoughtfully chosen venue. \nWhether you’ve read every page\, skimmed the introduction\, or are just coming for the conversation\, the AIA Hawaiʻi Book Club is about shared curiosity and expanding how we think about our work and our world. \n\n\n\n	\n\n\n			\n	\n	\n\n\n\n	\n\n\n			\n	\n	Book Club Q2: At Ma'o Organic Farms May 23!\n\nFor our second Book Club\, we have chosen “What If We Get It Right: Visions of Climate Futures" by Ayana Elizabeth Johnson. \nA SMITHSONIAN BEST BOOK OF THE YEAR! Sometimes\, the bravest thing we can do when facing an existential crisis is to imagine life on the other side. This provocative and joyous book maps an inspiring landscape of possible climate futures. \n\n\n\n	\n\n\n			\n	\n	\n				\n					\n	\n\n\n			\n	\n	Through clear-eyed essays and vibrant conversations\, infused with data\, poetry\, and art\, Ayana guides us through solutions and possibilities at the nexus of science\, policy\, culture\, and justice. Visionary farmers and financiers\, architects and advocates\, help us conjure a flourishing future\, one worth the effort it will take—from every one of us\, with whatever we have to offer—to create. \nWith grace\, humor\, and humanity\, Johnson invites readers to ask and answer this ultimate question together: What if we get it right? \n\n\n\n	\n\n\n			\n	\n	Where to get the book? You can find the book at your local library\, bookstore or online. \nGood News: You do NOT have to read the book to attend. Join us for an engaging conversation designed for anyone curious about architecture and its broader context. \n\n\n\n	\n\n\n			\n	\n	\n				\n					\n	\n\n\n			\n	\n	The discussion will be led by Kukui Maunakea-Forth\, Executive Director of the Farm. Read bio. \nModerated by Kirsten Oleson\, Professor of Ecological Economics at UH Manoa.\nRead bio. \n\n\n\n	\n\n\n			\n	\n	We are also planning a 1/2 day workday in conjunction with the Book Club. Additionally\, participants will be able to see the award-winning processing facility at the Farm by AMA A/E. Stay tuned for more information. \n\n\n\n	\n\n\n			\n	\n	When: Saturday\, May 23 from Time TBA\nWhere: MAʻO Organic Farms\, 86-148 Puhawai Rd\, Waianae\, HI 96792\nCEU: This session qualifies for 2 AIA/CES (HSW)\nMax: 50 attendees\nCost: Free\nParking: Free \n\n                \n                        \n                            RSVP for Book Club #2\n                             \n							"*" indicates required fields \n                        \n                        Name*\n                            \n                            \n                                                    \n                                                    First\n                                                \n                            \n                            \n                                                    \n                                                    Last\n                                                \n                            \n                        AIA DesignationAIAAssoc. AIAAIA MEFAIAAllied MemberHon. AffiliateNon-MemberEmail*\n                            \n                        \n          \n            \n            \n            \n            \n            \n            \n            \n            \n            \n            \n            \n            \n            \n        \n                        \n                        \n \n\n\n\n	\n\n\n			\n	\n	Mahalo Centennial Club Sponsors
URL:https://www.aiahonolulu.org/event/epd-open-study-session-detailing/
LOCATION:AIA Honolulu Center for Architecture\, 828 Fort Street Mall\, Suite 100\, Honolulu\, HI\, 96813\, United States
CATEGORIES:EPD
GEO:21.3087965;-157.863266
X-APPLE-STRUCTURED-LOCATION;VALUE=URI;X-ADDRESS=AIA Honolulu Center for Architecture 828 Fort Street Mall Suite 100 Honolulu HI 96813 United States;X-APPLE-RADIUS=500;X-TITLE=828 Fort Street Mall\, Suite 100:geo:-157.863266,21.3087965
END:VEVENT
BEGIN:VEVENT
DTSTART;TZID=Pacific/Honolulu:20260328T120000
DTEND;TZID=Pacific/Honolulu:20260328T140000
DTSTAMP:20260421T025344
CREATED:20260207T004157Z
LAST-MODIFIED:20260313T181517Z
UID:10001268-1774699200-1774706400@www.aiahonolulu.org
SUMMARY:AIA Book Club: Nature Behind Barbed Wire
DESCRIPTION:Designing Conversations:\nAIA Hawai‘i Book Club (2 LUs)\nEach quarter\, we’ll gather around a book tangential to architecture—think design\, culture\, place\, history\, climate\, or the forces that shape the built environment in unexpected ways. The event features a compelling guest speaker who will draw out the book’s big ideas and connect them to practice in Hawaiʻi\, all hosted at a cool\, thoughtfully chosen venue. \nWhether you’ve read every page\, skimmed the introduction\, or are just coming for the conversation\, the AIA Hawaiʻi Book Club is about shared curiosity and expanding how we think about our work and our world. \n\n\n\n	\n\n\n			\n	\n	\n\n\n\n	\n\n\n			\n	\n	Book Club Q2: At Ma'o Organic Farms May 23!\n\nFor our second Book Club\, we have chosen “What If We Get It Right: Visions of Climate Futures" by Ayana Elizabeth Johnson. \nA SMITHSONIAN BEST BOOK OF THE YEAR! Sometimes\, the bravest thing we can do when facing an existential crisis is to imagine life on the other side. This provocative and joyous book maps an inspiring landscape of possible climate futures. \n\n\n\n	\n\n\n			\n	\n	\n				\n					\n	\n\n\n			\n	\n	Through clear-eyed essays and vibrant conversations\, infused with data\, poetry\, and art\, Ayana guides us through solutions and possibilities at the nexus of science\, policy\, culture\, and justice. Visionary farmers and financiers\, architects and advocates\, help us conjure a flourishing future\, one worth the effort it will take—from every one of us\, with whatever we have to offer—to create. \nWith grace\, humor\, and humanity\, Johnson invites readers to ask and answer this ultimate question together: What if we get it right? \n\n\n\n	\n\n\n			\n	\n	Where to get the book? You can find the book at your local library\, bookstore or online. \nGood News: You do NOT have to read the book to attend. Join us for an engaging conversation designed for anyone curious about architecture and its broader context. \n\n\n\n	\n\n\n			\n	\n	\n				\n					\n	\n\n\n			\n	\n	The discussion will be led by Kukui Maunakea-Forth\, Executive Director of the Farm. Read bio. \nModerated by Kirsten Oleson\, Professor of Ecological Economics at UH Manoa.\nRead bio. \n\n\n\n	\n\n\n			\n	\n	We are also planning a 1/2 day workday in conjunction with the Book Club. Additionally\, participants will be able to see the award-winning processing facility at the Farm by AMA A/E. Stay tuned for more information. \n\n\n\n	\n\n\n			\n	\n	When: Saturday\, May 23 from Time TBA\nWhere: MAʻO Organic Farms\, 86-148 Puhawai Rd\, Waianae\, HI 96792\nCEU: This session qualifies for 2 AIA/CES (HSW)\nMax: 50 attendees\nCost: Free\nParking: Free \n\n                \n                        \n                            RSVP for Book Club #2\n                             \n							"*" indicates required fields \n                        \n                        Name*\n                            \n                            \n                                                    \n                                                    First\n                                                \n                            \n                            \n                                                    \n                                                    Last\n                                                \n                            \n                        AIA DesignationAIAAssoc. AIAAIA MEFAIAAllied MemberHon. AffiliateNon-MemberEmail*\n                            \n                        \n          \n            \n            \n            \n            \n            \n            \n            \n            \n            \n            \n            \n            \n            \n        \n                        \n                        \n \n\n\n\n	\n\n\n			\n	\n	Mahalo Centennial Club Sponsors
URL:https://www.aiahonolulu.org/event/first-book-club/
LOCATION:Hawai‘i Plantation Village\, 94-695 Waipahu St\, Waipahu\, HI\, 96797\, United States
CATEGORIES:Community Events,Professional Development
GEO:21.3944872;-157.9929734
X-APPLE-STRUCTURED-LOCATION;VALUE=URI;X-ADDRESS=Hawai‘i Plantation Village 94-695 Waipahu St Waipahu HI 96797 United States;X-APPLE-RADIUS=500;X-TITLE=94-695 Waipahu St:geo:-157.9929734,21.3944872
END:VEVENT
END:VCALENDAR