BEGIN:VCALENDAR
VERSION:2.0
PRODID:-//AIA Honolulu - ECPv6.15.20//NONSGML v1.0//EN
CALSCALE:GREGORIAN
METHOD:PUBLISH
X-WR-CALNAME:AIA Honolulu
X-ORIGINAL-URL:https://www.aiahonolulu.org
X-WR-CALDESC:Events for AIA Honolulu
REFRESH-INTERVAL;VALUE=DURATION:PT1H
X-Robots-Tag:noindex
X-PUBLISHED-TTL:PT1H
BEGIN:VTIMEZONE
TZID:Pacific/Honolulu
BEGIN:STANDARD
TZOFFSETFROM:-1000
TZOFFSETTO:-1000
TZNAME:HST
DTSTART:20250101T000000
END:STANDARD
END:VTIMEZONE
BEGIN:VEVENT
DTSTART;TZID=Pacific/Honolulu:20260414T113000
DTEND;TZID=Pacific/Honolulu:20260414T143000
DTSTAMP:20260422T220702
CREATED:20260408T214850Z
LAST-MODIFIED:20260408T214850Z
UID:10001313-1776166200-1776177000@www.aiahonolulu.org
SUMMARY:Private Event
DESCRIPTION:Designing Conversations:\nAIA Hawai‘i Book Club (2 HSWs)\nEach quarter\, we’ll gather around a book tangential to architecture—think design\, culture\, place\, history\, climate\, or the forces that shape the built environment in unexpected ways. The event features a compelling guest speaker who will draw out the book’s big ideas and connect them to practice in Hawaiʻi\, all hosted at a cool\, thoughtfully chosen venue. \nWhether you’ve read every page\, skimmed the introduction\, or are just coming for the conversation\, the AIA Hawaiʻi Book Club is about shared curiosity and expanding how we think about our work and our world. \n\n\n\n	\n\n\n			\n	\n	\n\n\n\n	\n\n\n			\n	\n	Book Club Q2: At Ma'o Organic Farms May 23!\n\nFor our second Book Club\, we have chosen “What If We Get It Right: Visions of Climate Futures" by Ayana Elizabeth Johnson. \nA SMITHSONIAN BEST BOOK OF THE YEAR! Sometimes\, the bravest thing we can do when facing an existential crisis is to imagine life on the other side. This provocative and joyous book maps an inspiring landscape of possible climate futures. \n\n\n\n	\n\n\n			\n	\n	\n				\n					\n	\n\n\n			\n	\n	Through clear-eyed essays and vibrant conversations\, infused with data\, poetry\, and art\, Ayana guides us through solutions and possibilities at the nexus of science\, policy\, culture\, and justice. Visionary farmers and financiers\, architects and advocates\, help us conjure a flourishing future\, one worth the effort it will take—from every one of us\, with whatever we have to offer—to create. \nWith grace\, humor\, and humanity\, Johnson invites readers to ask and answer this ultimate question together: What if we get it right? \n\n\n\n	\n\n\n			\n	\n	Where to get the book? You can find the book at your local library\, bookstore or online. \nGood News: You do NOT have to read the book to attend. Join us for an engaging conversation designed for anyone curious about architecture and its broader context. \n\n\n\n	\n\n\n			\n	\n	\n				\n					\n	\n\n\n			\n	\n	The discussion will be led by Kukui Maunakea-Forth\, Executive Director of the Farm. Read bio. \nModerated by Kirsten Oleson\, Professor of Ecological Economics at UH Manoa.\nRead bio. \n\n\n\n	\n\n\n			\n	\n	We are also planning a 1/2 day workday in conjunction with the Book Club. Additionally\, participants will be able to see the award-winning processing facility at the Farm by AMA A/E. Stay tuned for more information. \n\n\n\n	\n\n\n			\n	\n	When: Saturday\, May 23 from Time TBA\nWhere: MAʻO Organic Farms\, 86-148 Puhawai Rd\, Waianae\, HI 96792\nCEU: This session qualifies for 2 AIA/CES (HSW)\nMax: 50 attendees\nCost: Free\nParking: Free \n\n\n                \n                        \n                            RSVP for Book Club #2\n                             \n							"*" indicates required fields \n                        \n                        Name*\n                            \n                            \n                                                    \n                                                    First\n                                                \n                            \n                            \n                                                    \n                                                    Last\n                                                \n                            \n                        AIA DesignationAIAAssoc. AIAAIA MEFAIAAllied MemberHon. AffiliateNon-MemberEmail*\n                            \n                        \n          \n            \n            \n            \n            \n            \n            \n            \n            \n            \n            \n            \n            \n            \n        \n                        \n                        \n \n\n\n\n	\n\n\n			\n	\n	Mahalo Centennial Club Sponsors
URL:https://www.aiahonolulu.org/event/private-event-35/
LOCATION:AIA Honolulu Center for Architecture\, 828 Fort Street Mall\, Suite 100\, Honolulu\, HI\, 96813\, United States
CATEGORIES:Private Event
GEO:21.3087965;-157.863266
X-APPLE-STRUCTURED-LOCATION;VALUE=URI;X-ADDRESS=AIA Honolulu Center for Architecture 828 Fort Street Mall Suite 100 Honolulu HI 96813 United States;X-APPLE-RADIUS=500;X-TITLE=828 Fort Street Mall\, Suite 100:geo:-157.863266,21.3087965
END:VEVENT
BEGIN:VEVENT
DTSTART;TZID=Pacific/Honolulu:20260416T113000
DTEND;TZID=Pacific/Honolulu:20260416T130000
DTSTAMP:20260422T220703
CREATED:20260408T234706Z
LAST-MODIFIED:20260409T002100Z
UID:10001314-1776339000-1776344400@www.aiahonolulu.org
SUMMARY:Fellows Lunch
DESCRIPTION:Designing Conversations:\nAIA Hawai‘i Book Club (2 HSWs)\nEach quarter\, we’ll gather around a book tangential to architecture—think design\, culture\, place\, history\, climate\, or the forces that shape the built environment in unexpected ways. The event features a compelling guest speaker who will draw out the book’s big ideas and connect them to practice in Hawaiʻi\, all hosted at a cool\, thoughtfully chosen venue. \nWhether you’ve read every page\, skimmed the introduction\, or are just coming for the conversation\, the AIA Hawaiʻi Book Club is about shared curiosity and expanding how we think about our work and our world. \n\n\n\n	\n\n\n			\n	\n	\n\n\n\n	\n\n\n			\n	\n	Book Club Q2: At Ma'o Organic Farms May 23!\n\nFor our second Book Club\, we have chosen “What If We Get It Right: Visions of Climate Futures" by Ayana Elizabeth Johnson. \nA SMITHSONIAN BEST BOOK OF THE YEAR! Sometimes\, the bravest thing we can do when facing an existential crisis is to imagine life on the other side. This provocative and joyous book maps an inspiring landscape of possible climate futures. \n\n\n\n	\n\n\n			\n	\n	\n				\n					\n	\n\n\n			\n	\n	Through clear-eyed essays and vibrant conversations\, infused with data\, poetry\, and art\, Ayana guides us through solutions and possibilities at the nexus of science\, policy\, culture\, and justice. Visionary farmers and financiers\, architects and advocates\, help us conjure a flourishing future\, one worth the effort it will take—from every one of us\, with whatever we have to offer—to create. \nWith grace\, humor\, and humanity\, Johnson invites readers to ask and answer this ultimate question together: What if we get it right? \n\n\n\n	\n\n\n			\n	\n	Where to get the book? You can find the book at your local library\, bookstore or online. \nGood News: You do NOT have to read the book to attend. Join us for an engaging conversation designed for anyone curious about architecture and its broader context. \n\n\n\n	\n\n\n			\n	\n	\n				\n					\n	\n\n\n			\n	\n	The discussion will be led by Kukui Maunakea-Forth\, Executive Director of the Farm. Read bio. \nModerated by Kirsten Oleson\, Professor of Ecological Economics at UH Manoa.\nRead bio. \n\n\n\n	\n\n\n			\n	\n	We are also planning a 1/2 day workday in conjunction with the Book Club. Additionally\, participants will be able to see the award-winning processing facility at the Farm by AMA A/E. Stay tuned for more information. \n\n\n\n	\n\n\n			\n	\n	When: Saturday\, May 23 from Time TBA\nWhere: MAʻO Organic Farms\, 86-148 Puhawai Rd\, Waianae\, HI 96792\nCEU: This session qualifies for 2 AIA/CES (HSW)\nMax: 50 attendees\nCost: Free\nParking: Free \n\n                \n                        \n                            RSVP for Book Club #2\n                             \n							"*" indicates required fields \n                        \n                        Name*\n                            \n                            \n                                                    \n                                                    First\n                                                \n                            \n                            \n                                                    \n                                                    Last\n                                                \n                            \n                        AIA DesignationAIAAssoc. AIAAIA MEFAIAAllied MemberHon. AffiliateNon-MemberEmail*\n                            \n                        \n          \n            \n            \n            \n            \n            \n            \n            \n            \n            \n            \n            \n            \n            \n        \n                        \n                        \n \n\n\n\n	\n\n\n			\n	\n	Mahalo Centennial Club Sponsors
URL:https://www.aiahonolulu.org/event/fellows-lunch/
LOCATION:The Pacific Club\, 1451 Queen Emma St\, Honolulu\, 96813\, United States
CATEGORIES:Networking
GEO:21.311328;-157.8541375
X-APPLE-STRUCTURED-LOCATION;VALUE=URI;X-ADDRESS=The Pacific Club 1451 Queen Emma St Honolulu 96813 United States;X-APPLE-RADIUS=500;X-TITLE=1451 Queen Emma St:geo:-157.8541375,21.311328
END:VEVENT
BEGIN:VEVENT
DTSTART;TZID=Pacific/Honolulu:20260416T120000
DTEND;TZID=Pacific/Honolulu:20260416T130000
DTSTAMP:20260422T220703
CREATED:20260127T014336Z
LAST-MODIFIED:20260127T014336Z
UID:10001259-1776340800-1776344400@www.aiahonolulu.org
SUMMARY:EPD Q2 Committee Meeting
DESCRIPTION:Designing Conversations:\nAIA Hawai‘i Book Club (2 HSWs)\nEach quarter\, we’ll gather around a book tangential to architecture—think design\, culture\, place\, history\, climate\, or the forces that shape the built environment in unexpected ways. The event features a compelling guest speaker who will draw out the book’s big ideas and connect them to practice in Hawaiʻi\, all hosted at a cool\, thoughtfully chosen venue. \nWhether you’ve read every page\, skimmed the introduction\, or are just coming for the conversation\, the AIA Hawaiʻi Book Club is about shared curiosity and expanding how we think about our work and our world. \n\n\n\n	\n\n\n			\n	\n	\n\n\n\n	\n\n\n			\n	\n	Book Club Q2: At Ma'o Organic Farms May 23!\n\nFor our second Book Club\, we have chosen “What If We Get It Right: Visions of Climate Futures" by Ayana Elizabeth Johnson. \nA SMITHSONIAN BEST BOOK OF THE YEAR! Sometimes\, the bravest thing we can do when facing an existential crisis is to imagine life on the other side. This provocative and joyous book maps an inspiring landscape of possible climate futures. \n\n\n\n	\n\n\n			\n	\n	\n				\n					\n	\n\n\n			\n	\n	Through clear-eyed essays and vibrant conversations\, infused with data\, poetry\, and art\, Ayana guides us through solutions and possibilities at the nexus of science\, policy\, culture\, and justice. Visionary farmers and financiers\, architects and advocates\, help us conjure a flourishing future\, one worth the effort it will take—from every one of us\, with whatever we have to offer—to create. \nWith grace\, humor\, and humanity\, Johnson invites readers to ask and answer this ultimate question together: What if we get it right? \n\n\n\n	\n\n\n			\n	\n	Where to get the book? You can find the book at your local library\, bookstore or online. \nGood News: You do NOT have to read the book to attend. Join us for an engaging conversation designed for anyone curious about architecture and its broader context. \n\n\n\n	\n\n\n			\n	\n	\n				\n					\n	\n\n\n			\n	\n	The discussion will be led by Kukui Maunakea-Forth\, Executive Director of the Farm. Read bio. \nModerated by Kirsten Oleson\, Professor of Ecological Economics at UH Manoa.\nRead bio. \n\n\n\n	\n\n\n			\n	\n	We are also planning a 1/2 day workday in conjunction with the Book Club. Additionally\, participants will be able to see the award-winning processing facility at the Farm by AMA A/E. Stay tuned for more information. \n\n\n\n	\n\n\n			\n	\n	When: Saturday\, May 23 from Time TBA\nWhere: MAʻO Organic Farms\, 86-148 Puhawai Rd\, Waianae\, HI 96792\nCEU: This session qualifies for 2 AIA/CES (HSW)\nMax: 50 attendees\nCost: Free\nParking: Free \n\n                \n                        \n                            RSVP for Book Club #2\n                             \n							"*" indicates required fields \n                        \n                        Name*\n                            \n                            \n                                                    \n                                                    First\n                                                \n                            \n                            \n                                                    \n                                                    Last\n                                                \n                            \n                        AIA DesignationAIAAssoc. AIAAIA MEFAIAAllied MemberHon. AffiliateNon-MemberEmail*\n                            \n                        \n          \n            \n            \n            \n            \n            \n            \n            \n            \n            \n            \n            \n            \n            \n        \n                        \n                        \n \n\n\n\n	\n\n\n			\n	\n	Mahalo Centennial Club Sponsors
URL:https://www.aiahonolulu.org/event/epd-q2-mtg/
LOCATION:AIA Honolulu Center for Architecture\, 828 Fort Street Mall\, Suite 100\, Honolulu\, HI\, 96813\, United States
CATEGORIES:Committee Meetings
GEO:21.3087965;-157.863266
X-APPLE-STRUCTURED-LOCATION;VALUE=URI;X-ADDRESS=AIA Honolulu Center for Architecture 828 Fort Street Mall Suite 100 Honolulu HI 96813 United States;X-APPLE-RADIUS=500;X-TITLE=828 Fort Street Mall\, Suite 100:geo:-157.863266,21.3087965
END:VEVENT
BEGIN:VEVENT
DTSTART;TZID=Pacific/Honolulu:20260417T120000
DTEND;TZID=Pacific/Honolulu:20260417T130000
DTSTAMP:20260422T220704
CREATED:20251230T194616Z
LAST-MODIFIED:20251230T194616Z
UID:10001198-1776427200-1776430800@www.aiahonolulu.org
SUMMARY:BOD Meeting
DESCRIPTION:Designing Conversations:\nAIA Hawai‘i Book Club (2 HSWs)\nEach quarter\, we’ll gather around a book tangential to architecture—think design\, culture\, place\, history\, climate\, or the forces that shape the built environment in unexpected ways. The event features a compelling guest speaker who will draw out the book’s big ideas and connect them to practice in Hawaiʻi\, all hosted at a cool\, thoughtfully chosen venue. \nWhether you’ve read every page\, skimmed the introduction\, or are just coming for the conversation\, the AIA Hawaiʻi Book Club is about shared curiosity and expanding how we think about our work and our world. \n\n\n\n	\n\n\n			\n	\n	\n\n\n\n	\n\n\n			\n	\n	Book Club Q2: At Ma'o Organic Farms May 23!\n\nFor our second Book Club\, we have chosen “What If We Get It Right: Visions of Climate Futures" by Ayana Elizabeth Johnson. \nA SMITHSONIAN BEST BOOK OF THE YEAR! Sometimes\, the bravest thing we can do when facing an existential crisis is to imagine life on the other side. This provocative and joyous book maps an inspiring landscape of possible climate futures. \n\n\n\n	\n\n\n			\n	\n	\n				\n					\n	\n\n\n			\n	\n	Through clear-eyed essays and vibrant conversations\, infused with data\, poetry\, and art\, Ayana guides us through solutions and possibilities at the nexus of science\, policy\, culture\, and justice. Visionary farmers and financiers\, architects and advocates\, help us conjure a flourishing future\, one worth the effort it will take—from every one of us\, with whatever we have to offer—to create. \nWith grace\, humor\, and humanity\, Johnson invites readers to ask and answer this ultimate question together: What if we get it right? \n\n\n\n	\n\n\n			\n	\n	Where to get the book? You can find the book at your local library\, bookstore or online. \nGood News: You do NOT have to read the book to attend. Join us for an engaging conversation designed for anyone curious about architecture and its broader context. \n\n\n\n	\n\n\n			\n	\n	\n				\n					\n	\n\n\n			\n	\n	The discussion will be led by Kukui Maunakea-Forth\, Executive Director of the Farm. Read bio. \nModerated by Kirsten Oleson\, Professor of Ecological Economics at UH Manoa.\nRead bio. \n\n\n\n	\n\n\n			\n	\n	We are also planning a 1/2 day workday in conjunction with the Book Club. Additionally\, participants will be able to see the award-winning processing facility at the Farm by AMA A/E. Stay tuned for more information. \n\n\n\n	\n\n\n			\n	\n	When: Saturday\, May 23 from Time TBA\nWhere: MAʻO Organic Farms\, 86-148 Puhawai Rd\, Waianae\, HI 96792\nCEU: This session qualifies for 2 AIA/CES (HSW)\nMax: 50 attendees\nCost: Free\nParking: Free \n\n                \n                        \n                            RSVP for Book Club #2\n                             \n							"*" indicates required fields \n                        \n                        Name*\n                            \n                            \n                                                    \n                                                    First\n                                                \n                            \n                            \n                                                    \n                                                    Last\n                                                \n                            \n                        AIA DesignationAIAAssoc. AIAAIA MEFAIAAllied MemberHon. AffiliateNon-MemberEmail*\n                            \n                        \n          \n            \n            \n            \n            \n            \n            \n            \n            \n            \n            \n            \n            \n            \n        \n                        \n                        \n \n\n\n\n	\n\n\n			\n	\n	Mahalo Centennial Club Sponsors
URL:https://www.aiahonolulu.org/event/bod-41726/
LOCATION:AIA Honolulu Center for Architecture\, 828 Fort Street Mall\, Suite 100\, Honolulu\, HI\, 96813\, United States
CATEGORIES:BOD Meetings
GEO:21.3087965;-157.863266
X-APPLE-STRUCTURED-LOCATION;VALUE=URI;X-ADDRESS=AIA Honolulu Center for Architecture 828 Fort Street Mall Suite 100 Honolulu HI 96813 United States;X-APPLE-RADIUS=500;X-TITLE=828 Fort Street Mall\, Suite 100:geo:-157.863266,21.3087965
END:VEVENT
BEGIN:VEVENT
DTSTART;TZID=Pacific/Honolulu:20260417T150000
DTEND;TZID=Pacific/Honolulu:20260417T180000
DTSTAMP:20260422T220705
CREATED:20260317T230139Z
LAST-MODIFIED:20260408T183544Z
UID:10001294-1776438000-1776448800@www.aiahonolulu.org
SUMMARY:Blueprints for Leadership: Session #5
DESCRIPTION:Blueprints for Leadership: A Series of Workshops (2 HSW)	\n\n			Empowering Architects at Every Stage of Their Career	\n\n				\n	\n	Blueprints for Leadership is a dynamic series of workshops designed to help architects build essential skills in strategic thinking\, business acumen\, and effective management. Led by top experts in their fields\, each session offers premium instruction and meaningful networking opportunities. \n	Future sessions are still being finalized but may include topics on self-leadership\, leading high-performing teams\, project management\, personal branding\, and more! \nWhether you’re just starting out or looking to refine your leadership toolkit\, these sessions are crafted to support your growth. Attend one or attend them all-each workshop stands alone but together forms a comprehensive professional development experience. \n\n			#5 Blueprints for Legal & Ethical Decision-Making (2 HSW)	\n	As architects advance in their careers\, their role expands beyond design to include greater responsibility\, accountability\, and influence. Every decision-from communication to project execution-carries legal and ethical implications that impact both outcomes and professional reputation. \nThis session introduces emerging professionals to the legal and ethical foundations of practice through a leadership lens. Participants will explore the architect’s duty to protect public health\, safety\, and welfare\, and how that responsibility applies at all stages of their career. \nThrough real-world scenarios and discussion\, the session will examine common ethical challenges\, the role of contracts in defining expectations and risk\, and everyday situations where professional judgment is critical. It will also highlight often-overlooked risks-such as informal communication and undocumented decisions-and provide practical strategies to navigate them effectively. \n\n				\n	\n	Presenter: Bennett J. Chin is the Managing Partner of the Hawaiʻi office of GRSM in Honolulu. Bennett’s practice is primarily focused on representing and counseling architects and engineers. He has more than 30 years of experience and was recognized as the 2023 Lawyer of the Year in Construction Law by Best Lawyers in America®. Read more > \n	Things to be covered during this presentation: \n\nUnderstand the architect’s legal and ethical responsibilities\, including the AIA Code of Ethics & Professional Conductand the role of licensure in protecting public health\, safety\, and welfare\nRecognize common ethical challenges in architectural practice and develop strategies for responding with professionalism and integrity\nGain a foundational understanding of contracts and how they establish expectations\, responsibilities\, and risk\nIdentify key risk areas in day-to-day practice and apply practical approaches to minimize exposure and improve decision-making\n\n	DATE: Friday\, April 17\nTIME: Workshop: 3:00 PM – 5:00 PM | Pau Hana: 5:00 PM – 6:00 PM\nWHERE: Center for Architecture\, 828 Fort Street Mall\, Suite 100\, Honolulu\nCOST: $75 (Includes workshop and Pau Hana networking)\nCEU: 2 AIA/CES LUs (HSW)\nPARKING: Click here for parking suggestions \n\n			RSVP for Blueprints session #5	\n			\n				\n\n	\n	\n		$75.00 \n Tickets Available \n\n	\n	\n		\n		    \n        Blueprints For Registration 4.17.26 quantity    \n    -        \n        +\nYour browser must support JavaScript in order to purchase ticket(s).\n\n\n\n	\n	\n		\n			Attendee Information #1\n		\n		\n				\n		First Name:\n				*\n			\n	\n 	\n		Last Name:\n				*\n			\n	\n 	\n		AIA Designation:\n				*\n			\n	\n			AIA\n			Assoc. AIA\n			FAIA\n			Allied Member\n			Non-Member\n		\n 	\n		Firm/Organization:\n				*\n			\n	\n 	\n		Email Address:\n				*\n			\n	\n 			\n				\n					Privacy Preference:				\n				\n				 \n				\n					Opt-out from being displayed in the public list of attendees.				\n			 \n					\n	\n\n\n\n		Buy Ticket Now\n\n			\n\n	\n	\n\n	\n\n			\n			\n			Dickey Sponsor	\n\n				\n				\n				\n	\n\n			Wood Sponsors	\n\n				\n				\n				\n	\n\n				\n				\n				\n	\n\n				\n				\n				\n	\n\n				\n				\n				\n	\n\n			Ossipoff Sponsors	\n\n				\n				\n				\n	\n\n				\n				\n				\n	\n\n				\n				\n				\n	\n\n				\n				\n				\n	\n\n				\n				\n				\n	\n\n				\n				\n				\n	\n\n				\n				\n				\n	\n\n				\n				\n				\n	\n\n			Preis Sponsors
URL:https://www.aiahonolulu.org/event/blueprints-5/
LOCATION:AIA Honolulu Center for Architecture\, 828 Fort Street Mall\, Suite 100\, Honolulu\, HI\, 96813\, United States
CATEGORIES:Professional Development
GEO:21.3087965;-157.863266
X-APPLE-STRUCTURED-LOCATION;VALUE=URI;X-ADDRESS=AIA Honolulu Center for Architecture 828 Fort Street Mall Suite 100 Honolulu HI 96813 United States;X-APPLE-RADIUS=500;X-TITLE=828 Fort Street Mall\, Suite 100:geo:-157.863266,21.3087965
END:VEVENT
BEGIN:VEVENT
DTSTART;TZID=Pacific/Honolulu:20260418T080000
DTEND;TZID=Pacific/Honolulu:20260418T113000
DTSTAMP:20260422T220705
CREATED:20260408T213540Z
LAST-MODIFIED:20260408T214417Z
UID:10001312-1776499200-1776511800@www.aiahonolulu.org
SUMMARY:Earth Day with Aloha Tree Alliance
DESCRIPTION:AIA COTE EARTH DAY VOLUNTEER\nJoin AIA Honolulu COTE as we come together to celebrate Earth Day by helping to restore the native forest along the Kuli’ou’ou Ridge. We’ll be volunteering with Aloha Tree Alliance to remove invasive species\, plant native plants\, meet incredible people\, and become stewards of the ʻāina. \n\nBring a hat\, sturdy shoes\, sunscreen\, and water bottle\nPlease register here and note how many adults\, keiki (children)\, and dogs will be with you\n\nDate: Saturday\, April 18\nTime: 8:00 AM – 11:30 PM\nLocation: Kuli’ou’ou Ridge Trailhead\n			\n						RSVP Here
URL:https://www.aiahonolulu.org/event/earth-ata-2/
LOCATION:Kuliʻouʻou Ridge Trail\, Kuli'ou'ou Valley Trail\, Honolulu\, HI\, 96821\, United States
CATEGORIES:Community Events
GEO:21.3073112;-157.7252782
X-APPLE-STRUCTURED-LOCATION;VALUE=URI;X-ADDRESS=Kuliʻouʻou Ridge Trail Kuli'ou'ou Valley Trail Honolulu HI 96821 United States;X-APPLE-RADIUS=500;X-TITLE=Kuli'ou'ou Valley Trail:geo:-157.7252782,21.3073112
END:VEVENT
BEGIN:VEVENT
DTSTART;TZID=Pacific/Honolulu:20260418T090000
DTEND;TZID=Pacific/Honolulu:20260418T110000
DTSTAMP:20260422T220705
CREATED:20251219T012856Z
LAST-MODIFIED:20251219T013727Z
UID:10001178-1776502800-1776510000@www.aiahonolulu.org
SUMMARY:AIA Honolulu Architectural Walking Tour of Chinatown
DESCRIPTION:AIA Honolulu Architectural Walking Tour of Chinatown\nAIA Honolulu is excited to introduce our new historic architectural tour of Honoluluʻs Chinatown\, focusing on the unique style\, materials\, and relationships of the buildings in that district. \nTour Groups: Tour groups must be between 4-14 people to take place. Advanced reservations are required. If less than 4 people sign up\, the tour will be cancelled and a full refund will be issued to anyone already registered. \nTour Cost: $20.00/person paid online. Registration is generally open until 4PM Friday before the tour date\, unless the tour fills up early or is cancelled. Walk-in registrations are not allowed.Tour availability is on a first come\, first served basis and may close earlier than the registration deadline! \nLocation & Parking: The tour will begin at AIA Honolulu’s Center for Architecture at the corner of Fort Street Mall and Queen Street. Parking at the Oceanit Building is currently closed during weekends\, however\, some street parking might be available. The Westbound Route 4 bus stops right outside of our Center\, and various other TheBus lines have stops within a 5 minute walk. View more parking suggestions. \nQuestions: Email contact@aiahonolulu.org or call (808) 628-7243 during our business hours. \n\nRefund Policy: Refunds for AIA Honolulu events will only be given as a result of event cancellation made by the Chapter. Substitutions are welcome for your pre-paid spot. \n			\n				\n\n	\n	\n		$20.00 \n Sold Out
URL:https://www.aiahonolulu.org/event/aia-honolulu-architectural-walking-tour-of-chinatown-4-18-26/
LOCATION:AIA Honolulu Center for Architecture\, 828 Fort Street Mall\, Suite 100\, Honolulu\, HI\, 96813\, United States
CATEGORIES:Walking Tours
GEO:21.3087965;-157.863266
X-APPLE-STRUCTURED-LOCATION;VALUE=URI;X-ADDRESS=AIA Honolulu Center for Architecture 828 Fort Street Mall Suite 100 Honolulu HI 96813 United States;X-APPLE-RADIUS=500;X-TITLE=828 Fort Street Mall\, Suite 100:geo:-157.863266,21.3087965
END:VEVENT
END:VCALENDAR